Workbook
Name _Toc505678886: DatosB!#REF!
Name agrupada: Criterios!$D$13
Name Año: Criterios!$B$5
Name boletin: Criterios!$A$8
Name D_I: Criterios!$B$14
Name factor_trimestre: Criterios!$R$8
Name J_V: Criterios!$B$13
Name jurisdiccion: Criterios!$E$8
Name Monitorios: Criterios!#REF!
Name salto: Criterios!$Q$10
Name TrimFin: Criterios!$D$6
Name TrimIni: Criterios!$D$5
Name ultimoDiaTrim: Criterios!$Q$12

Sheet Criterios
Q2: Factor normalización dedicación magistrados por trimestre
A3: ACTIVIDAD POR JURISDICCIÓN | Q3: 1 | R3: 3 | S3: =AND(Q3>=TrimIni,Q3<=TrimFin) -> FALSE
A4: Fecha Informe: 17 mar. 2026 | Q4: 2 | R4: 3 | S4: =AND(Q4>=TrimIni,Q4<=TrimFin) -> FALSE
A5: Año: | B5: 2025 | C5: Trimestre desde | D5: 4 | Q5: 3 | R5: 2 | S5: =AND(Q5>=TrimIni,Q5<=TrimFin) -> FALSE
C6: Trimestre hasta | D6: 4 | Q6: 4 | R6: 3 | S6: =AND(Q6>=TrimIni,Q6<=TrimFin) -> TRUE
R8: =11/SUMIF(S3:S6,TRUE,R3:R6) -> 3.6666667
A9: Tribunales de Justicia | B9: CATALUÑA
A10: Provincias | B10: BARCELONA | Q10: 0
A11: Resumenes por Partidos Judiciales | B11: VIC
A13: Excluir Jurisdicción Voluntaria: | B13: NO | C13: Agrupada: | D13: NO
A14: Excluir Diligencias Indeterminadas: | B14: SI

Sheet NºAsuntos
B2: =Criterios!A9 &" "&Criterios!B9 -> Tribunales de Justicia CATALUÑA
A3: Nº de Asuntos | B3: =Criterios!A10 &" "&Criterios!B10 -> Provincias BARCELONA
B4: =Criterios!A11 &" "&Criterios!B11 -> Resumenes por Partidos Judiciales VIC
A5: ="Año: " &Criterios!B5 & " Trimestre " &Criterios!D5 & " al " &Criterios!D6 -> Año: 2025 Trimestre 4 al 4 | B5: Órganos | C5: En Tramite Al Inicio Del Periodo | E5: Ingresados | G5: Resueltos | I5: En Tramite Al Final Del Periodo | K5: Módulo Entrada 2018 | L5: % Módulo Entrada 2018 | M5: Módulo Resolución 2018 | N5: Módulo Pendencia 2018
A7: COMPETENCIAS | B7: Nº | C7: Nº Asuntos | D7: Media x Órgano | E7: Nº Asuntos | F7: Media x Órgano | G7: Nº Asuntos | H7: Media x Órgano | I7: Nº Asuntos | J7: Media x Órgano
A8: =Datos!A8 -> Jurisdicción Civil ( 1 ):
A9: =Datos!A9 -> Jdos. 1ª Instancia | B9: =Datos!AO9 -> 0 | C9: =IF(ISNUMBER(IF(J_V="SI",Datos!I9,Datos!I9+Datos!Y9)),IF(J_V="SI",Datos!I9,Datos!I9+Datos!Y9)," - ") -> - | D9: =IF(ISNUMBER(C9/Datos!BH9),C9/Datos!BH9," - ") -> - | E9: =IF(ISNUMBER(IF(J_V="SI",Datos!J9,Datos!J9+Datos!Z9)),IF(J_V="SI",Datos!J9,Datos!J9+Datos!Z9)," - ") -> - | F9: =IF(ISNUMBER(E9/B9),E9/B9," - ") -> - | G9: =IF(ISNUMBER(IF(J_V="SI",Datos!K9,Datos!K9+Datos!AA9)),IF(J_V="SI",Datos!K9,Datos!K9+Datos!AA9)," - ") -> - | H9: =IF(ISNUMBER(G9/B9),G9/B9," - ") -> - | I9: =IF(ISNUMBER(IF(J_V="SI",Datos!L9,Datos!L9+Datos!AB9)),IF(J_V="SI",Datos!L9,Datos!L9+Datos!AB9)," - ") -> - | J9: =IF(ISNUMBER(I9/B9),I9/B9," - ") -> - | K9: =IF(ISNUMBER(Datos!EO9),Datos!EO9," - ") -> - | L9: =K9*factor_trimestre/Datos!ER9 -> #VALUE! | M9: =IF(ISNUMBER(Datos!EP9),Datos!EP9," - ") -> - | N9: =IF(ISNUMBER(Datos!EQ9),Datos!EQ9," - ") -> - | BQ9: =Datos!EZ9 -> 0
A10: =Datos!A10 -> Jdos. Violencia contra la mujer/Secc Viol. TI. | B10: =Datos!AO10 -> 1 | C10: =IF(ISNUMBER(Datos!I10),Datos!I10," - ") -> 98 | D10: =IF(ISNUMBER(C10/Datos!BH10),C10/Datos!BH10," - ") -> 98 | E10: =IF(ISNUMBER(Datos!J10),Datos!J10," - ") -> 11 | F10: =IF(ISNUMBER(E10/B10),E10/B10," - ") -> 11 | G10: =IF(ISNUMBER(Datos!K10),Datos!K10," - ") -> 12 | H10: =IF(ISNUMBER(G10/B10),G10/B10," - ") -> 12 | I10: =IF(ISNUMBER(Datos!L10),Datos!L10," - ") -> 97 | J10: =IF(ISNUMBER(I10/B10),I10/B10," - ") -> 97 | K10: =IF(ISNUMBER(Datos!EO10),Datos!EO10," - ") -> - | L10: =K10*factor_trimestre/Datos!ER10 -> #VALUE! | M10: =IF(ISNUMBER(Datos!EP10),Datos!EP10," - ") -> - | N10: =IF(ISNUMBER(Datos!EQ10),Datos!EQ10," - ") -> - | BQ10: =Datos!EZ10 -> 0
A11: =Datos!A11 -> Jdos. Familia | B11: =Datos!AO11 -> 0 | C11: =IF(ISNUMBER(IF(J_V="SI",Datos!I11,Datos!I11+Datos!Y11)),IF(J_V="SI",Datos!I11,Datos!I11+Datos!Y11)," - ") -> - | D11: =IF(ISNUMBER(C11/Datos!BH11),C11/Datos!BH11," - ") -> - | E11: =IF(ISNUMBER(IF(J_V="SI",Datos!J11,Datos!J11+Datos!Z11)),IF(J_V="SI",Datos!J11,Datos!J11+Datos!Z11)," - ") -> - | F11: =IF(ISNUMBER(E11/B11),E11/B11," - ") -> - | G11: =IF(ISNUMBER(IF(J_V="SI",Datos!K11,Datos!K11+Datos!AA11)),IF(J_V="SI",Datos!K11,Datos!K11+Datos!AA11)," - ") -> - | H11: =IF(ISNUMBER(G11/B11),G11/B11," - ") -> - | I11: =IF(ISNUMBER(IF(J_V="SI",Datos!L11,Datos!L11+Datos!AB11)),IF(J_V="SI",Datos!L11,Datos!L11+Datos!AB11)," - ") -> - | J11: =IF(ISNUMBER(I11/B11),I11/B11," - ") -> - | K11: =IF(ISNUMBER(Datos!EO11),Datos!EO11," - ") -> - | L11: =K11*factor_trimestre/Datos!ER11 -> #VALUE! | M11: =IF(ISNUMBER(Datos!EP11),Datos!EP11," - ") -> - | N11: =IF(ISNUMBER(Datos!EQ11),Datos!EQ11," - ") -> - | BQ11: =Datos!EZ11 -> 0
A12: =Datos!A12 -> Jdos. 1ª Instª. e Instr./Secc. Civil y de Inst. TI | B12: =Datos!AO12 -> 6 | C12: =IF(ISNUMBER(IF(J_V="SI",Datos!I12,Datos!I12+Datos!Y12)),IF(J_V="SI",Datos!I12,Datos!I12+Datos!Y12)," - ") -> 7013 | D12: =IF(ISNUMBER(C12/Datos!BH12),C12/Datos!BH12," - ") -> 1168.8333 | E12: =IF(ISNUMBER(IF(J_V="SI",Datos!J12,Datos!J12+Datos!Z12)),IF(J_V="SI",Datos!J12,Datos!J12+Datos!Z12)," - ") -> 1623 | F12: =IF(ISNUMBER(E12/B12),E12/B12," - ") -> 270.5 | G12: =IF(ISNUMBER(IF(J_V="SI",Datos!K12,Datos!K12+Datos!AA12)),IF(J_V="SI",Datos!K12,Datos!K12+Datos!AA12)," - ") -> 2565 | H12: =IF(ISNUMBER(G12/B12),G12/B12," - ") -> 427.5 | I12: =IF(ISNUMBER(IF(J_V="SI",Datos!L12,Datos!L12+Datos!AB12)),IF(J_V="SI",Datos!L12,Datos!L12+Datos!AB12)," - ") -> 6071 | J12: =IF(ISNUMBER(I12/B12),I12/B12," - ") -> 1011.8333 | K12: =IF(ISNUMBER(Datos!EO12),Datos!EO12," - ") -> - | L12: =K12*factor_trimestre/Datos!ER12 -> #VALUE! | M12: =IF(ISNUMBER(Datos!EP12),Datos!EP12," - ") -> - | N12: =IF(ISNUMBER(Datos!EQ12),Datos!EQ12," - ") -> - | BQ12: =Datos!EZ12 -> 0
A13: =Datos!A13 -> TOTAL | B13: =Datos!AP13 -> 6 | C13: =SUBTOTAL(9,C8:C12) -> 7111 | D13: =IF(ISNUMBER(C13/Datos!BI13),C13/Datos!BI13," - ") -> - | E13: =SUBTOTAL(9,E8:E12) -> 1634 | F13: =IF(ISNUMBER(E13/B13),E13/B13," - ") -> 272.33333 | G13: =SUBTOTAL(9,G8:G12) -> 2577 | H13: =IF(ISNUMBER(G13/B13),G13/B13," - ") -> 429.5 | I13: =SUBTOTAL(9,I8:I12) -> 6168 | J13: =IF(ISNUMBER(I13/B13),I13/B13," - ") -> 1028 | K13: =SUBTOTAL(9,K8:K12) -> 0 | M13: =SUBTOTAL(9,M8:M12) -> 0 | N13: =SUBTOTAL(9,N8:N12) -> 0
A14: =Datos!A14 -> Jurisdicción Penal ( 2 ): | BQ14: =Datos!EZ14 -> 0
A15: =Datos!A15 -> Jdos. Instrucción | B15: =Datos!AO15 -> 0 | C15: =IF(ISNUMBER(IF(D_I="SI",Datos!I15,Datos!I15+Datos!AC15)),IF(D_I="SI",Datos!I15,Datos!I15+Datos!AC15)," - ") -> - | D15: =IF(ISNUMBER(C15/Datos!BH15),C15/Datos!BH15," - ") -> - | E15: =IF(ISNUMBER(IF(D_I="SI",Datos!J15,Datos!J15+Datos!AD15)),IF(D_I="SI",Datos!J15,Datos!J15+Datos!AD15)," - ") -> - | F15: =IF(ISNUMBER(E15/B15),E15/B15," - ") -> - | G15: =IF(ISNUMBER(IF(D_I="SI",Datos!K15,Datos!K15+Datos!AE15)),IF(D_I="SI",Datos!K15,Datos!K15+Datos!AE15)," - ") -> - | H15: =IF(ISNUMBER(G15/B15),G15/B15," - ") -> - | I15: =IF(ISNUMBER(IF(D_I="SI",Datos!L15,Datos!L15+Datos!AF15)),IF(D_I="SI",Datos!L15,Datos!L15+Datos!AF15)," - ") -> - | J15: =IF(ISNUMBER(I15/B15),I15/B15," - ") -> - | K15: =IF(ISNUMBER(Datos!EO15),Datos!EO15," - ") -> - | L15: =K15*factor_trimestre/Datos!ER15 -> #VALUE! | M15: =IF(ISNUMBER(Datos!EP15),Datos!EP15," - ") -> - | N15: =IF(ISNUMBER(Datos!EQ15),Datos!EQ15," - ") -> - | BQ15: =Datos!EZ15 -> 0
A16: =Datos!A16 -> Jdos. 1ª Instª. e Instr./Secc. Civil y de Inst. TI | B16: =Datos!AO16 -> 6 | C16: =IF(ISNUMBER(IF(D_I="SI",Datos!I16,Datos!I16+Datos!AC16)),IF(D_I="SI",Datos!I16,Datos!I16+Datos!AC16)," - ") -> 3362 | D16: =IF(ISNUMBER(C16/Datos!BH16),C16/Datos!BH16," - ") -> 560.33333 | E16: =IF(ISNUMBER(IF(D_I="SI",Datos!J16,Datos!J16+Datos!AD16)),IF(D_I="SI",Datos!J16,Datos!J16+Datos!AD16)," - ") -> 1795 | F16: =IF(ISNUMBER(E16/B16),E16/B16," - ") -> 299.16667 | G16: =IF(ISNUMBER(IF(D_I="SI",Datos!K16,Datos!K16+Datos!AE16)),IF(D_I="SI",Datos!K16,Datos!K16+Datos!AE16)," - ") -> 1556 | H16: =IF(ISNUMBER(G16/B16),G16/B16," - ") -> 259.33333 | I16: =IF(ISNUMBER(IF(D_I="SI",Datos!L16,Datos!L16+Datos!AF16)),IF(D_I="SI",Datos!L16,Datos!L16+Datos!AF16)," - ") -> 3347 | J16: =IF(ISNUMBER(I16/B16),I16/B16," - ") -> 557.83333 | K16: =IF(ISNUMBER(Datos!EO16),Datos!EO16," - ") -> - | L16: =K16*factor_trimestre/Datos!ER16 -> #VALUE! | M16: =IF(ISNUMBER(Datos!EP16),Datos!EP16," - ") -> - | N16: =IF(ISNUMBER(Datos!EQ16),Datos!EQ16," - ") -> - | BQ16: =Datos!EZ16 -> 0
A17: =Datos!A17 -> Jdos. Violencia contra la mujer/Secc Viol. TI. | B17: =Datos!AO17 -> 1 | C17: =IF(ISNUMBER(IF(D_I="SI",Datos!I17,Datos!I17+Datos!AC17)),IF(D_I="SI",Datos!I17,Datos!I17+Datos!AC17)," - ") -> 75 | D17: =IF(ISNUMBER(C17/Datos!BH17),C17/Datos!BH17," - ") -> 75 | E17: =IF(ISNUMBER(IF(D_I="SI",Datos!J17,Datos!J17+Datos!AD17)),IF(D_I="SI",Datos!J17,Datos!J17+Datos!AD17)," - ") -> 106 | F17: =IF(ISNUMBER(E17/B17),E17/B17," - ") -> 106 | G17: =IF(ISNUMBER(IF(D_I="SI",Datos!K17,Datos!K17+Datos!AE17)),IF(D_I="SI",Datos!K17,Datos!K17+Datos!AE17)," - ") -> 132 | H17: =IF(ISNUMBER(G17/B17),G17/B17," - ") -> 132 | I17: =IF(ISNUMBER(IF(D_I="SI",Datos!L17,Datos!L17+Datos!AF17)),IF(D_I="SI",Datos!L17,Datos!L17+Datos!AF17)," - ") -> 49 | J17: =IF(ISNUMBER(I17/B17),I17/B17," - ") -> 49 | K17: =IF(ISNUMBER(Datos!EO17),Datos!EO17," - ") -> - | L17: =K17*factor_trimestre/Datos!ER17 -> #VALUE! | M17: =IF(ISNUMBER(Datos!EP17),Datos!EP17," - ") -> - | N17: =IF(ISNUMBER(Datos!EQ17),Datos!EQ17," - ") -> - | BQ17: =Datos!EZ17 -> 0
A18: =Datos!A18 -> TOTAL | B18: =Datos!AP18 -> 6 | C18: =SUBTOTAL(9,C14:C17) -> 3437 | D18: =IF(ISNUMBER(C18/Datos!BI18),C18/Datos!BI18," - ") -> - | E18: =SUBTOTAL(9,E14:E17) -> 1901 | F18: =IF(ISNUMBER(E18/B18),E18/B18," - ") -> 316.83333 | G18: =SUBTOTAL(9,G14:G17) -> 1688 | H18: =IF(ISNUMBER(G18/B18),G18/B18," - ") -> 281.33333 | I18: =SUBTOTAL(9,I14:I17) -> 3396 | J18: =IF(ISNUMBER(I18/B18),I18/B18," - ") -> 566 | K18: =SUBTOTAL(9,K14:K17) -> 0 | M18: =SUBTOTAL(9,M14:M17) -> 0 | N18: =SUBTOTAL(9,N14:N17) -> 0
A19: =Datos!A19 -> TOTAL JURISDICCIONES | B19: =Datos!AP19 -> 6 | C19: =SUBTOTAL(9,C9:C18) -> 10548 | D19: =IF(ISNUMBER(C19/Datos!BI19),C19/Datos!BI19," - ") -> - | E19: =SUBTOTAL(9,E9:E18) -> 3535 | F19: =IF(ISNUMBER(E19/B19),E19/B19," - ") -> 589.16667 | G19: =SUBTOTAL(9,G9:G18) -> 4265 | H19: =IF(ISNUMBER(G19/B19),G19/B19," - ") -> 710.83333 | I19: =SUBTOTAL(9,I9:I18) -> 9564 | J19: =IF(ISNUMBER(I19/B19),I19/B19," - ") -> 1594 | K19: =SUBTOTAL(9,K9:K18) -> 0 | M19: =SUBTOTAL(9,M9:M18) -> 0 | N19: =SUBTOTAL(9,N9:N18) -> 0
A20: =IF(J_V="NO","(1) Incluida Jurisdicción Voluntaria","(1) Excluída Jurisdicción Voluntaria") -> (1) Incluida Jurisdicción Voluntaria
A21: =IF(D_I="NO","(2) Incluídas Diligencias Indeterminadas","(2) Excluídas Diligencias Indeterminadas") -> (2) Excluídas Diligencias Indeterminadas
A23: =Criterios!A4 -> Fecha Informe: 17 mar. 2026

Sheet Modulos
B2: =Criterios!A9 &" "&Criterios!B9 -> Tribunales de Justicia CATALUÑA
A3: Carga de trabajo por localidades | B3: =Criterios!A10 &" "&Criterios!B10 -> Provincias BARCELONA
B4: =Criterios!A11 &" "&Criterios!B11 -> Resumenes por Partidos Judiciales VIC
A5: ="Año: " &Criterios!B5 -> Año: 2025 | B5: Nº jueces/ magistrados | D5: Nº jueces/ magistrados (que graban) | G5: Entrada Total | I5: Entrada por juzgado/ magistrado | K5: Entrada en relación al Módulo teórico
A7: =Datos!A7 -> COMPETENCIAS | B7: Año Anterior | C7: Año Actual | D7: Año Anterior | E7: Año Actual | F7: Media x Órgano | G7: Año Anterior | H7: Año Actual | I7: Año Anterior | J7: Año Actual | K7: Año Anterior | L7: Año Actual | M7: Módulo teórico
A8: =Datos!A8 -> Jurisdicción Civil ( 1 ):
A9: =Datos!A9 -> Jdos. 1ª Instancia | B9: =Datos!BL9 -> 0 | C9: =Datos!AR9 -> 0 | D9: =Datos!BK9 -> 0 | E9: =Datos!AQ9 -> 0 | F9: =IF(ISNUMBER(E9/Datos!BH9),E9/Datos!BH9," - ") -> - | G9: =IF(ISNUMBER(Datos!BJ9),Datos!BJ9," - ") -> - | H9: =IF(ISNUMBER(Datos!AS9),Datos!AS9," - ") -> - | I9: =IF(ISNUMBER(G9/D9),G9/D9," - ") -> - | J9: =IF(ISNUMBER(H9/E9),H9/E9," - ") -> - | K9: =IF(AND(ISNUMBER(I9/Datos!ER9),(G9<>0)),((I9-Datos!ER9)/Datos!ER9)," - ") -> - | L9: =IF(AND(ISNUMBER(J9/Datos!ER9),(H9<>0)),((J9-Datos!ER9)/Datos!ER9)," - ") -> - | M9: =IF(EXACT(Datos!ER9,""),"-",Datos!ER9) -> 1200
A10: =Datos!A10 -> Jdos. Violencia contra la mujer/Secc Viol. TI. | B10: =Datos!BL10 -> 0 | C10: =Datos!AR10 -> 0 | D10: =Datos!BK10 -> 0 | E10: =Datos!AQ10 -> 0 | F10: =IF(ISNUMBER(E10/Datos!BH10),E10/Datos!BH10," - ") -> 0 | G10: =IF(ISNUMBER(Datos!BJ10),Datos!BJ10," - ") -> - | H10: =IF(ISNUMBER(Datos!AS10),Datos!AS10," - ") -> - | I10: =IF(ISNUMBER(G10/D10),G10/D10," - ") -> - | J10: =IF(ISNUMBER(H10/E10),H10/E10," - ") -> - | K10: =IF(AND(ISNUMBER(I10/Datos!ER10),(G10<>0)),((I10-Datos!ER10)/Datos!ER10)," - ") -> - | L10: =IF(AND(ISNUMBER(J10/Datos!ER10),(H10<>0)),((J10-Datos!ER10)/Datos!ER10)," - ") -> - | M10: =IF(EXACT(Datos!ER10,""),"-",Datos!ER10) -> 1600
A11: =Datos!A11 -> Jdos. Familia | B11: =Datos!BL11 -> 0 | C11: =Datos!AR11 -> 0 | D11: =Datos!BK11 -> 0 | E11: =Datos!AQ11 -> 0 | F11: =IF(ISNUMBER(E11/Datos!BH11),E11/Datos!BH11," - ") -> - | G11: =IF(ISNUMBER(Datos!BJ11),Datos!BJ11," - ") -> - | H11: =IF(ISNUMBER(Datos!AS11),Datos!AS11," - ") -> - | I11: =IF(ISNUMBER(G11/D11),G11/D11," - ") -> - | J11: =IF(ISNUMBER(H11/E11),H11/E11," - ") -> - | K11: =IF(AND(ISNUMBER(I11/Datos!ER11),(G11<>0)),((I11-Datos!ER11)/Datos!ER11)," - ") -> - | L11: =IF(AND(ISNUMBER(J11/Datos!ER11),(H11<>0)),((J11-Datos!ER11)/Datos!ER11)," - ") -> - | M11: =IF(EXACT(Datos!ER11,""),"-",Datos!ER11) -> 1323
A12: =Datos!A12 -> Jdos. 1ª Instª. e Instr./Secc. Civil y de Inst. TI | B12: =Datos!BL12 -> 0 | C12: =Datos!AR12 -> 6 | D12: =Datos!BK12 -> 0 | E12: =Datos!AQ12 -> 6 | F12: =IF(ISNUMBER(E12/Datos!BH12),E12/Datos!BH12," - ") -> 1 | G12: =IF(ISNUMBER(Datos!BJ12),Datos!BJ12," - ") -> - | H12: =IF(ISNUMBER(Datos!AS12),Datos!AS12," - ") -> - | I12: =IF(ISNUMBER(G12/D12),G12/D12," - ") -> - | J12: =IF(ISNUMBER(H12/E12),H12/E12," - ") -> - | K12: =IF(AND(ISNUMBER(I12/Datos!ER12),(G12<>0)),((I12-Datos!ER12)/Datos!ER12)," - ") -> - | L12: =IF(AND(ISNUMBER(J12/Datos!ER12),(H12<>0)),((J12-Datos!ER12)/Datos!ER12)," - ") -> - | M12: =IF(EXACT(Datos!ER12,""),"-",Datos!ER12) -> 680
A14: =Datos!A14 -> Jurisdicción Penal ( 2 ):
A15: =Datos!A15 -> Jdos. Instrucción | B15: =Datos!BL15 -> 0 | C15: =Datos!AR15 -> 0 | D15: =Datos!BK15 -> 0 | E15: =Datos!AQ15 -> 0 | F15: =IF(ISNUMBER(E15/Datos!BH15),E15/Datos!BH15," - ") -> - | G15: =IF(ISNUMBER(Datos!BJ15),Datos!BJ15," - ") -> - | H15: =IF(ISNUMBER(Datos!AS15),Datos!AS15," - ") -> - | I15: =IF(ISNUMBER(G15/D15),G15/D15," - ") -> - | J15: =IF(ISNUMBER(H15/E15),H15/E15," - ") -> - | K15: =IF(AND(ISNUMBER(I15/Datos!ER15),(G15<>0)),((I15-Datos!ER15)/Datos!ER15)," - ") -> - | L15: =IF(AND(ISNUMBER(J15/Datos!ER15),(H15<>0)),((J15-Datos!ER15)/Datos!ER15)," - ") -> - | M15: =IF(EXACT(Datos!ER15,""),"-",Datos!ER15) -> 3300
A16: =Datos!A16 -> Jdos. 1ª Instª. e Instr./Secc. Civil y de Inst. TI | B16: =Datos!BL16 -> 0 | C16: =Datos!AR16 -> 6 | D16: =Datos!BK16 -> 0 | E16: =Datos!AQ16 -> 6 | F16: =IF(ISNUMBER(E16/Datos!BH16),E16/Datos!BH16," - ") -> 1 | G16: =IF(ISNUMBER(Datos!BJ16),Datos!BJ16," - ") -> - | H16: =IF(ISNUMBER(Datos!AS16),Datos!AS16," - ") -> - | I16: =IF(ISNUMBER(G16/D16),G16/D16," - ") -> - | J16: =IF(ISNUMBER(H16/E16),H16/E16," - ") -> - | K16: =IF(AND(ISNUMBER(I16/Datos!ER16),(G16<>0)),((I16-Datos!ER16)/Datos!ER16)," - ") -> - | L16: =IF(AND(ISNUMBER(J16/Datos!ER16),(H16<>0)),((J16-Datos!ER16)/Datos!ER16)," - ") -> - | M16: =IF(EXACT(Datos!ER16,""),"-",Datos!ER16) -> 1000
A17: =Datos!A17 -> Jdos. Violencia contra la mujer/Secc Viol. TI. | B17: =Datos!BL17 -> 0 | C17: =Datos!AR17 -> 0 | D17: =Datos!BK17 -> 0 | E17: =Datos!AQ17 -> 0 | F17: =IF(ISNUMBER(E17/Datos!BH17),E17/Datos!BH17," - ") -> 0 | G17: =IF(ISNUMBER(Datos!BJ17),Datos!BJ17," - ") -> - | H17: =IF(ISNUMBER(Datos!AS17),Datos!AS17," - ") -> - | I17: =IF(ISNUMBER(G17/D17),G17/D17," - ") -> - | J17: =IF(ISNUMBER(H17/E17),H17/E17," - ") -> - | K17: =IF(AND(ISNUMBER(I17/Datos!ER17),(G17<>0)),((I17-Datos!ER17)/Datos!ER17)," - ") -> - | L17: =IF(AND(ISNUMBER(J17/Datos!ER17),(H17<>0)),((J17-Datos!ER17)/Datos!ER17)," - ") -> - | M17: =IF(EXACT(Datos!ER17,""),"-",Datos!ER17) -> 1600
A23: =Criterios!A4 -> Fecha Informe: 17 mar. 2026

Sheet Resol  Asuntos
B2: =Criterios!A9 &" "&Criterios!B9 -> Tribunales de Justicia CATALUÑA
A3: Resolución de Asuntos | B3: =Criterios!A10 &" "&Criterios!B10 -> Provincias BARCELONA
B4: =Criterios!A11 &" "&Criterios!B11 -> Resumenes por Partidos Judiciales VIC
A5: ="Año: " &Criterios!B5 & " Trimestre " &Criterios!D5 & " al " &Criterios!D6 -> Año: 2025 Trimestre 4 al 4 | B5: Órganos | C5: Magistrados, Jueces | D5: SENTENCIAS | F5: AUTOS | H5: DECRETOS
A7: =Datos!A7 -> COMPETENCIAS | B7: Nº | C7: Nº | D7: Nº Sentencias | E7: Media x Órgano | F7: Nº Autos | G7: Media x Órgano | H7: Nº Decretos | I7: Media x Órgano
A8: =Datos!A8 -> Jurisdicción Civil ( 1 ):
A9: =Datos!A9 -> Jdos. 1ª Instancia | B9: =Datos!AO9 -> 0 | C9: =Datos!AQ9 -> 0 | D9: =IF(ISNUMBER(Datos!M9),Datos!M9," - ") -> - | E9: =IF(ISNUMBER(D9/B9),D9/B9," - ") -> - | F9: =IF(ISNUMBER(Datos!N9),Datos!N9," - ") -> - | G9: =IF(ISNUMBER(F9/B9),F9/B9," - ") -> - | H9: =IF(ISNUMBER(Datos!O9),Datos!O9," - ") -> - | I9: =IF(ISNUMBER(H9/B9),H9/B9," - ") -> - | BZ9: =Datos!EZ9 -> 0
A10: =Datos!A10 -> Jdos. Violencia contra la mujer/Secc Viol. TI. | B10: =Datos!AO10 -> 1 | C10: =Datos!AQ10 -> 0 | D10: =IF(ISNUMBER(Datos!M10),Datos!M10," - ") -> 8 | E10: =IF(ISNUMBER(D10/B10),D10/B10," - ") -> 8 | F10: =IF(ISNUMBER(Datos!N10),Datos!N10," - ") -> 4 | G10: =IF(ISNUMBER(F10/B10),F10/B10," - ") -> 4 | H10: =IF(ISNUMBER(Datos!O10),Datos!O10," - ") -> 1 | I10: =IF(ISNUMBER(H10/B10),H10/B10," - ") -> 1 | BZ10: =Datos!EZ10 -> 0
A11: =Datos!A11 -> Jdos. Familia | B11: =Datos!AO11 -> 0 | C11: =Datos!AQ11 -> 0 | D11: =IF(ISNUMBER(Datos!M11),Datos!M11," - ") -> - | E11: =IF(ISNUMBER(D11/B11),D11/B11," - ") -> - | F11: =IF(ISNUMBER(Datos!N11),Datos!N11," - ") -> - | G11: =IF(ISNUMBER(F11/B11),F11/B11," - ") -> - | H11: =IF(ISNUMBER(Datos!O11),Datos!O11," - ") -> - | I11: =IF(ISNUMBER(H11/B11),H11/B11," - ") -> - | BZ11: =Datos!EZ11 -> 0
A12: =Datos!A12 -> Jdos. 1ª Instª. e Instr./Secc. Civil y de Inst. TI | B12: =Datos!AO12 -> 6 | C12: =Datos!AQ12 -> 6 | D12: =IF(ISNUMBER(Datos!M12),Datos!M12," - ") -> 442 | E12: =IF(ISNUMBER(D12/B12),D12/B12," - ") -> 73.666667 | F12: =IF(ISNUMBER(Datos!N12),Datos!N12," - ") -> 1295 | G12: =IF(ISNUMBER(F12/B12),F12/B12," - ") -> 215.83333 | H12: =IF(ISNUMBER(Datos!O12),Datos!O12," - ") -> 744 | I12: =IF(ISNUMBER(H12/B12),H12/B12," - ") -> 124 | BZ12: =Datos!EZ12 -> 0
A13: =Datos!A13 -> TOTAL | B13: =Datos!AP13 -> 6 | C13: =Datos!AR13 -> 6 | D13: =SUBTOTAL(9,D9:D12) -> 450 | E13: =IF(ISNUMBER(D13/B13),D13/B13," - ") -> 75 | F13: =SUBTOTAL(9,F9:F12) -> 1299 | G13: =IF(ISNUMBER(F13/B13),F13/B13," - ") -> 216.5 | H13: =SUBTOTAL(9,H9:H12) -> 745 | I13: =IF(ISNUMBER(H13/B13),H13/B13," - ") -> 124.16667
A14: =Datos!A14 -> Jurisdicción Penal ( 2 ): | B14: =Datos!AO14 -> 0 | BZ14: =Datos!EZ14 -> 0
A15: =Datos!A15 -> Jdos. Instrucción | B15: =Datos!AO15 -> 0 | C15: =Datos!AQ15 -> 0 | D15: =IF(ISNUMBER(Datos!M15),Datos!M15," - ") -> - | E15: =IF(ISNUMBER(D15/B15),D15/B15," - ") -> - | F15: =IF(ISNUMBER(Datos!N15),Datos!N15," - ") -> - | G15: =IF(ISNUMBER(F15/B15),F15/B15," - ") -> - | H15: =IF(ISNUMBER(Datos!O15),Datos!O15," - ") -> - | I15: =IF(ISNUMBER(H15/B15),H15/B15," - ") -> - | BZ15: =Datos!EZ15 -> 0
A16: =Datos!A16 -> Jdos. 1ª Instª. e Instr./Secc. Civil y de Inst. TI | B16: =Datos!AO16 -> 6 | C16: =Datos!AQ16 -> 6 | D16: =IF(ISNUMBER(Datos!M16),Datos!M16," - ") -> 259 | E16: =IF(ISNUMBER(D16/B16),D16/B16," - ") -> 43.166667 | F16: =IF(ISNUMBER(Datos!N16),Datos!N16," - ") -> 803 | G16: =IF(ISNUMBER(F16/B16),F16/B16," - ") -> 133.83333 | H16: =IF(ISNUMBER(Datos!O16),Datos!O16," - ") -> 6 | I16: =IF(ISNUMBER(H16/B16),H16/B16," - ") -> 1 | BZ16: =Datos!EZ16 -> 0
A17: =Datos!A17 -> Jdos. Violencia contra la mujer/Secc Viol. TI. | B17: =Datos!AO17 -> 1 | C17: =Datos!AQ17 -> 0 | D17: =IF(ISNUMBER(Datos!M17),Datos!M17," - ") -> 18 | E17: =IF(ISNUMBER(D17/B17),D17/B17," - ") -> 18 | F17: =IF(ISNUMBER(Datos!N17),Datos!N17," - ") -> 72 | G17: =IF(ISNUMBER(F17/B17),F17/B17," - ") -> 72 | H17: =IF(ISNUMBER(Datos!O17),Datos!O17," - ") -> 0 | I17: =IF(ISNUMBER(H17/B17),H17/B17," - ") -> 0 | BZ17: =Datos!EZ17 -> 0
A18: =Datos!A18 -> TOTAL | B18: =Datos!AP18 -> 6 | C18: =Datos!AR18 -> 6 | D18: =SUBTOTAL(9,D15:D17) -> 277 | E18: =IF(ISNUMBER(D18/B18),D18/B18," - ") -> 46.166667 | F18: =SUBTOTAL(9,F15:F17) -> 875 | G18: =IF(ISNUMBER(F18/B18),F18/B18," - ") -> 145.83333 | H18: =SUBTOTAL(9,H15:H17) -> 6 | I18: =IF(ISNUMBER(H18/B18),H18/B18," - ") -> 1
A19: =Datos!A19 -> TOTAL JURISDICCIONES | B19: =Datos!AP19 -> 6 | C19: =Datos!AR19 -> 6 | D19: =SUBTOTAL(9,D8:D18) -> 727 | E19: =IF(ISNUMBER(D19/B19),D19/B19," - ") -> 121.16667 | F19: =SUBTOTAL(9,F8:F18) -> 2174 | G19: =IF(ISNUMBER(F19/B19),F19/B19," - ") -> 362.33333 | H19: =SUBTOTAL(9,H8:H18) -> 751 | I19: =IF(ISNUMBER(H19/B19),H19/B19," - ") -> 125.16667
A22: =Criterios!A4 -> Fecha Informe: 17 mar. 2026

Sheet Ejecu  Sentencias
B2: =Criterios!A9 &" "&Criterios!B9 -> Tribunales de Justicia CATALUÑA
A3: Ejecución de Sentencias | B3: =Criterios!A10 &" "&Criterios!B10 -> Provincias BARCELONA
B4: =Criterios!A11 &" "&Criterios!B11 -> Resumenes por Partidos Judiciales VIC
A5: ="Año: " &Criterios!B5 & " Trimestre " &Criterios!D5 & " al " &Criterios!D6 -> Año: 2025 Trimestre 4 al 4 | B5: Registradas | C5: Resueltas | D5: En Tramite Al Final Del Periodo
A7: =Datos!A7 -> COMPETENCIAS
A8: =Datos!A8 -> Jurisdicción Civil ( 1 ):
A9: =Datos!A9 -> Jdos. 1ª Instancia | B9: =IF(ISNUMBER(Datos!P9),Datos!P9," - ") -> - | C9: =IF(ISNUMBER(Datos!Q9),Datos!Q9," - ") -> - | D9: =IF(ISNUMBER(Datos!R9),Datos!R9," - ") -> -
A10: =Datos!A10 -> Jdos. Violencia contra la mujer/Secc Viol. TI. | B10: =IF(ISNUMBER(Datos!P10),Datos!P10," - ") -> 9 | C10: =IF(ISNUMBER(Datos!Q10),Datos!Q10," - ") -> 1 | D10: =IF(ISNUMBER(Datos!R10),Datos!R10," - ") -> 67
A11: =Datos!A11 -> Jdos. Familia | B11: =IF(ISNUMBER(Datos!P11),Datos!P11," - ") -> - | C11: =IF(ISNUMBER(Datos!Q11),Datos!Q11," - ") -> - | D11: =IF(ISNUMBER(Datos!R11),Datos!R11," - ") -> -
A12: =Datos!A12 -> Jdos. 1ª Instª. e Instr./Secc. Civil y de Inst. TI | B12: =IF(ISNUMBER(Datos!P12),Datos!P12," - ") -> 639 | C12: =IF(ISNUMBER(Datos!Q12),Datos!Q12," - ") -> 232 | D12: =IF(ISNUMBER(Datos!R12),Datos!R12," - ") -> 9056
A13: =Datos!A13 -> TOTAL | B13: =SUBTOTAL(9,B9:B12) -> 648 | C13: =SUBTOTAL(9,C9:C12) -> 233 | D13: =SUBTOTAL(9,D9:D12) -> 9123
A14: =Datos!A14 -> Jurisdicción Penal ( 2 ):
A15: =Datos!A15 -> Jdos. Instrucción | B15: =IF(ISNUMBER(Datos!P15),Datos!P15," - ") -> - | C15: =IF(ISNUMBER(Datos!Q15),Datos!Q15," - ") -> - | D15: =IF(ISNUMBER(Datos!R15),Datos!R15," - ") -> -
A16: =Datos!A16 -> Jdos. 1ª Instª. e Instr./Secc. Civil y de Inst. TI | B16: =IF(ISNUMBER(Datos!P16),Datos!P16," - ") -> 38 | C16: =IF(ISNUMBER(Datos!Q16),Datos!Q16," - ") -> 34 | D16: =IF(ISNUMBER(Datos!R16),Datos!R16," - ") -> 339
A17: =Datos!A17 -> Jdos. Violencia contra la mujer/Secc Viol. TI. | B17: =IF(ISNUMBER(Datos!P17),Datos!P17," - ") -> 0 | C17: =IF(ISNUMBER(Datos!Q17),Datos!Q17," - ") -> 1 | D17: =IF(ISNUMBER(Datos!R17),Datos!R17," - ") -> 6
A18: =Datos!A18 -> TOTAL | B18: =SUBTOTAL(9,B15:B17) -> 38 | C18: =SUBTOTAL(9,C15:C17) -> 35 | D18: =SUBTOTAL(9,D15:D17) -> 345
A19: =Datos!A19 -> TOTAL JURISDICCIONES | B19: =SUBTOTAL(9,B8:B18) -> 686 | C19: =SUBTOTAL(9,C8:C18) -> 268 | D19: =SUBTOTAL(9,D8:D18) -> 9468
A22: =Criterios!A4 -> Fecha Informe: 17 mar. 2026

Sheet Evolución
B2: =Criterios!A9 &" "&Criterios!B9 -> Tribunales de Justicia CATALUÑA
A3: Evolución | B3: =Criterios!A10 &" "&Criterios!B10 -> Provincias BARCELONA
B4: =Criterios!A11 &" "&Criterios!B11 -> Resumenes por Partidos Judiciales VIC
A5: ="Año: " &Criterios!B5 & " Trimestre " &Criterios!D5 & " al " &Criterios!D6 -> Año: 2025 Trimestre 4 al 4 | B5: En Tramite Al Inicio Del Periodo | C5: Ingresados | D5: Resueltos | E5: En Tramite Al Final Del Periodo | F5: Sentencias | G5: Autos | H5: Tasas Resolución | I5: Tasas Pendencia | J5: Tasas Sentencia | K5: Tasas Congestión
A7: =Datos!A7 -> COMPETENCIAS
A8: =Datos!A8 -> Jurisdicción Civil ( 1 ):
A9: =Datos!A9 -> Jdos. 1ª Instancia | B9: =IF(ISNUMBER( IF(J_V="SI",(Datos!I9-Datos!S9)/Datos!S9,(Datos!I9+Datos!Y9-(Datos!S9+Datos!AG9))/(Datos!S9+Datos!AG9)) ),IF(J_V="SI",(Datos!I9-Datos!S9)/Datos!S9,(Datos!I9+Datos!Y9-(Datos!S9+Datos!AG9))/(Datos!S9+Datos!AG9))," - ") -> - | C9: =IF(ISNUMBER( IF(J_V="SI",(Datos!J9-Datos!T9)/Datos!T9,(Datos!J9+Datos!Z9-(Datos!T9+Datos!AH9))/(Datos!T9+Datos!AH9)) ),IF(J_V="SI",(Datos!J9-Datos!T9)/Datos!T9,(Datos!J9+Datos!Z9-(Datos!T9+Datos!AH9))/(Datos!T9+Datos!AH9))," - ") -> - | D9: =IF(ISNUMBER( IF(J_V="SI",(Datos!K9-Datos!U9)/Datos!U9,(Datos!K9+Datos!AA9-(Datos!U9+Datos!AI9))/(Datos!U9+Datos!AI9)) ),IF(J_V="SI",(Datos!K9-Datos!U9)/Datos!U9,(Datos!K9+Datos!AA9-(Datos!U9+Datos!AI9))/(Datos!U9+Datos!AI9))," - ") -> - | E9: =IF(ISNUMBER( IF(J_V="SI",(Datos!L9-Datos!V9)/Datos!V9,(Datos!L9+Datos!AB9-(Datos!V9+Datos!AJ9))/(Datos!V9+Datos!AJ9)) ),IF(J_V="SI",(Datos!L9-Datos!V9)/Datos!V9,(Datos!L9+Datos!AB9-(Datos!V9+Datos!AJ9))/(Datos!V9+Datos!AJ9))," - ") -> - | F9: =IF(ISNUMBER((Datos!M9-Datos!W9)/Datos!W9),(Datos!M9-Datos!W9)/Datos!W9," - ") -> - | G9: =IF(ISNUMBER((Datos!N9-Datos!X9)/Datos!X9),(Datos!N9-Datos!X9)/Datos!X9," - ") -> - | H9: =IF(ISNUMBER(((NºAsuntos!G9/NºAsuntos!E9)-Datos!BD9)/Datos!BD9),((NºAsuntos!G9/NºAsuntos!E9)-Datos!BD9)/Datos!BD9," - ") -> - | I9: =IF(ISNUMBER(((NºAsuntos!I9/NºAsuntos!G9)-Datos!BE9)/Datos!BE9),((NºAsuntos!I9/NºAsuntos!G9)-Datos!BE9)/Datos!BE9," - ") -> - | J9: =IF(ISNUMBER((('Resol Asuntos'!D9/NºAsuntos!G9)-Datos!BF9)/Datos!BF9),(('Resol Asuntos'!D9/NºAsuntos!G9)-Datos!BF9)/Datos!BF9," - ") -> - | K9: =IF(ISNUMBER((((NºAsuntos!C9+NºAsuntos!E9)/NºAsuntos!G9)-Datos!BG9)/Datos!BG9),(((NºAsuntos!C9+NºAsuntos!E9)/NºAsuntos!G9)-Datos!BG9)/Datos!BG9," - ") -> -
A10: =Datos!A10 -> Jdos. Violencia contra la mujer/Secc Viol. TI. | B10: =IF(ISNUMBER((Datos!I10-Datos!S10)/Datos!S10),(Datos!I10-Datos!S10)/Datos!S10," - ") -> 0.010309278 | C10: =IF(ISNUMBER((Datos!J10-Datos!T10)/Datos!T10),(Datos!J10-Datos!T10)/Datos!T10," - ") -> -0.26666667 | D10: =IF(ISNUMBER((Datos!K10-Datos!U10)/Datos!U10),(Datos!K10-Datos!U10)/Datos!U10," - ") -> -0.57142857 | E10: =IF(ISNUMBER((Datos!L10-Datos!V10)/Datos!V10),(Datos!L10-Datos!V10)/Datos!V10," - ") -> 0.1547619 | F10: =IF(ISNUMBER((Datos!M10-Datos!W10)/Datos!W10),(Datos!M10-Datos!W10)/Datos!W10," - ") -> -0.27272727 | G10: =IF(ISNUMBER((Datos!N10-Datos!X10)/Datos!X10),(Datos!N10-Datos!X10)/Datos!X10," - ") -> -0.69230769 | H10: =IF(ISNUMBER(((NºAsuntos!G10/NºAsuntos!E10)-Datos!BD10)/Datos!BD10),((NºAsuntos!G10/NºAsuntos!E10)-Datos!BD10)/Datos!BD10," - ") -> -0.41558442 | I10: =IF(ISNUMBER(((NºAsuntos!I10/NºAsuntos!G10)-Datos!BE10)/Datos!BE10),((NºAsuntos!I10/NºAsuntos!G10)-Datos!BE10)/Datos!BE10," - ") -> 1.6944444 | J10: =IF(ISNUMBER((('Resol Asuntos'!D10/NºAsuntos!G10)-Datos!BF10)/Datos!BF10),(('Resol Asuntos'!D10/NºAsuntos!G10)-Datos!BF10)/Datos!BF10," - ") -> 0.6969697 | K10: =IF(ISNUMBER((((NºAsuntos!C10+NºAsuntos!E10)/NºAsuntos!G10)-Datos!BG10)/Datos!BG10),(((NºAsuntos!C10+NºAsuntos!E10)/NºAsuntos!G10)-Datos!BG10)/Datos!BG10," - ") -> 1.2708333
A11: =Datos!A11 -> Jdos. Familia | B11: =IF(ISNUMBER( IF(J_V="SI",(Datos!I11-Datos!S11)/Datos!S11,(Datos!I11+Datos!Y11-(Datos!S11+Datos!AG11))/(Datos!S11+Datos!AG11)) ),IF(J_V="SI",(Datos!I11-Datos!S11)/Datos!S11,(Datos!I11+Datos!Y11-(Datos!S11+Datos!AG11))/(Datos!S11+Datos!AG11))," - ") -> - | C11: =IF(ISNUMBER( IF(J_V="SI",(Datos!J11-Datos!T11)/Datos!T11,(Datos!J11+Datos!Z11-(Datos!T11+Datos!AH11))/(Datos!T11+Datos!AH11)) ),IF(J_V="SI",(Datos!J11-Datos!T11)/Datos!T11,(Datos!J11+Datos!Z11-(Datos!T11+Datos!AH11))/(Datos!T11+Datos!AH11))," - ") -> - | D11: =IF(ISNUMBER( IF(J_V="SI",(Datos!K11-Datos!U11)/Datos!U11,(Datos!K11+Datos!AA11-(Datos!U11+Datos!AI11))/(Datos!U11+Datos!AI11)) ),IF(J_V="SI",(Datos!K11-Datos!U11)/Datos!U11,(Datos!K11+Datos!AA11-(Datos!U11+Datos!AI11))/(Datos!U11+Datos!AI11))," - ") -> - | E11: =IF(ISNUMBER( IF(J_V="SI",(Datos!L11-Datos!V11)/Datos!V11,(Datos!L11+Datos!AB11-(Datos!V11+Datos!AJ11))/(Datos!V11+Datos!AJ11)) ),IF(J_V="SI",(Datos!L11-Datos!V11)/Datos!V11,(Datos!L11+Datos!AB11-(Datos!V11+Datos!AJ11))/(Datos!V11+Datos!AJ11))," - ") -> - | F11: =IF(ISNUMBER((Datos!M11-Datos!W11)/Datos!W11),(Datos!M11-Datos!W11)/Datos!W11," - ") -> - | G11: =IF(ISNUMBER((Datos!N11-Datos!X11)/Datos!X11),(Datos!N11-Datos!X11)/Datos!X11," - ") -> - | H11: =IF(ISNUMBER(((NºAsuntos!G11/NºAsuntos!E11)-Datos!BD11)/Datos!BD11),((NºAsuntos!G11/NºAsuntos!E11)-Datos!BD11)/Datos!BD11," - ") -> - | I11: =IF(ISNUMBER(((NºAsuntos!I11/NºAsuntos!G11)-Datos!BE11)/Datos!BE11),((NºAsuntos!I11/NºAsuntos!G11)-Datos!BE11)/Datos!BE11," - ") -> - | J11: =IF(ISNUMBER((('Resol Asuntos'!D11/NºAsuntos!G11)-Datos!BF11)/Datos!BF11),(('Resol Asuntos'!D11/NºAsuntos!G11)-Datos!BF11)/Datos!BF11," - ") -> - | K11: =IF(ISNUMBER((((NºAsuntos!C11+NºAsuntos!E11)/NºAsuntos!G11)-Datos!BG11)/Datos!BG11),(((NºAsuntos!C11+NºAsuntos!E11)/NºAsuntos!G11)-Datos!BG11)/Datos!BG11," - ") -> -
A12: =Datos!A12 -> Jdos. 1ª Instª. e Instr./Secc. Civil y de Inst. TI | B12: =IF(ISNUMBER( IF(J_V="SI",(Datos!I12-Datos!S12)/Datos!S12,(Datos!I12+Datos!Y12-(Datos!S12+Datos!AG12))/(Datos!S12+Datos!AG12)) ),IF(J_V="SI",(Datos!I12-Datos!S12)/Datos!S12,(Datos!I12+Datos!Y12-(Datos!S12+Datos!AG12))/(Datos!S12+Datos!AG12))," - ") -> 0.056652102 | C12: =IF(ISNUMBER( IF(J_V="SI",(Datos!J12-Datos!T12)/Datos!T12,(Datos!J12+Datos!Z12-(Datos!T12+Datos!AH12))/(Datos!T12+Datos!AH12)) ),IF(J_V="SI",(Datos!J12-Datos!T12)/Datos!T12,(Datos!J12+Datos!Z12-(Datos!T12+Datos!AH12))/(Datos!T12+Datos!AH12))," - ") -> -0.064013841 | D12: =IF(ISNUMBER( IF(J_V="SI",(Datos!K12-Datos!U12)/Datos!U12,(Datos!K12+Datos!AA12-(Datos!U12+Datos!AI12))/(Datos!U12+Datos!AI12)) ),IF(J_V="SI",(Datos!K12-Datos!U12)/Datos!U12,(Datos!K12+Datos!AA12-(Datos!U12+Datos!AI12))/(Datos!U12+Datos!AI12))," - ") -> 0.59813084 | E12: =IF(ISNUMBER( IF(J_V="SI",(Datos!L12-Datos!V12)/Datos!V12,(Datos!L12+Datos!AB12-(Datos!V12+Datos!AJ12))/(Datos!V12+Datos!AJ12)) ),IF(J_V="SI",(Datos!L12-Datos!V12)/Datos!V12,(Datos!L12+Datos!AB12-(Datos!V12+Datos!AJ12))/(Datos!V12+Datos!AJ12))," - ") -> -0.10032602 | F12: =IF(ISNUMBER((Datos!M12-Datos!W12)/Datos!W12),(Datos!M12-Datos!W12)/Datos!W12," - ") -> 0.11616162 | G12: =IF(ISNUMBER((Datos!N12-Datos!X12)/Datos!X12),(Datos!N12-Datos!X12)/Datos!X12," - ") -> 0.95324284 | H12: =IF(ISNUMBER(((NºAsuntos!G12/NºAsuntos!E12)-Datos!BD12)/Datos!BD12),((NºAsuntos!G12/NºAsuntos!E12)-Datos!BD12)/Datos!BD12," - ") -> 0.70742999 | I12: =IF(ISNUMBER(((NºAsuntos!I12/NºAsuntos!G12)-Datos!BE12)/Datos!BE12),((NºAsuntos!I12/NºAsuntos!G12)-Datos!BE12)/Datos!BE12," - ") -> -0.43704611 | J12: =IF(ISNUMBER((('Resol Asuntos'!D12/NºAsuntos!G12)-Datos!BF12)/Datos!BF12),(('Resol Asuntos'!D12/NºAsuntos!G12)-Datos!BF12)/Datos!BF12," - ") -> -0.582846 | K12: =IF(ISNUMBER((((NºAsuntos!C12+NºAsuntos!E12)/NºAsuntos!G12)-Datos!BG12)/Datos!BG12),(((NºAsuntos!C12+NºAsuntos!E12)/NºAsuntos!G12)-Datos!BG12)/Datos!BG12," - ") -> -0.3544603
A13: =Datos!A13 -> TOTAL | B13: =IF(ISNUMBER( IF(J_V="SI",(Datos!I13-Datos!S13)/Datos!S13,(Datos!I13+Datos!Y13-(Datos!S13+Datos!AG13))/(Datos!S13+Datos!AG13)) ),IF(J_V="SI",(Datos!I13-Datos!S13)/Datos!S13,(Datos!I13+Datos!Y13-(Datos!S13+Datos!AG13))/(Datos!S13+Datos!AG13))," - ") -> 0.055984556 | C13: =IF(ISNUMBER( IF(J_V="SI",(Datos!J13-Datos!T13)/Datos!T13,(Datos!J13+Datos!Z13-(Datos!T13+Datos!AH13))/(Datos!T13+Datos!AH13)) ),IF(J_V="SI",(Datos!J13-Datos!T13)/Datos!T13,(Datos!J13+Datos!Z13-(Datos!T13+Datos!AH13))/(Datos!T13+Datos!AH13))," - ") -> -0.065751858 | D13: =IF(ISNUMBER( IF(J_V="SI",(Datos!K13-Datos!U13)/Datos!U13,(Datos!K13+Datos!AA13-(Datos!U13+Datos!AI13))/(Datos!U13+Datos!AI13)) ),IF(J_V="SI",(Datos!K13-Datos!U13)/Datos!U13,(Datos!K13+Datos!AA13-(Datos!U13+Datos!AI13))/(Datos!U13+Datos!AI13))," - ") -> 0.57807716 | E13: =IF(ISNUMBER( IF(J_V="SI",(Datos!L13-Datos!V13)/Datos!V13,(Datos!L13+Datos!AB13-(Datos!V13+Datos!AJ13))/(Datos!V13+Datos!AJ13)) ),IF(J_V="SI",(Datos!L13-Datos!V13)/Datos!V13,(Datos!L13+Datos!AB13-(Datos!V13+Datos!AJ13))/(Datos!V13+Datos!AJ13))," - ") -> -0.097189696 | F13: =IF(ISNUMBER((Datos!M13-Datos!W13)/Datos!W13),(Datos!M13-Datos!W13)/Datos!W13," - ") -> 0.10565111 | G13: =IF(ISNUMBER((Datos!N13-Datos!X13)/Datos!X13),(Datos!N13-Datos!X13)/Datos!X13," - ") -> 0.92159763 | H13: =IF(ISNUMBER(((NºAsuntos!G13/NºAsuntos!E13)-Datos!BD13)/Datos!BD13),((NºAsuntos!G13/NºAsuntos!E13)-Datos!BD13)/Datos!BD13," - ") -> 0.68914134 | I13: =IF(ISNUMBER(((NºAsuntos!I13/NºAsuntos!G13)-Datos!BE13)/Datos!BE13),((NºAsuntos!I13/NºAsuntos!G13)-Datos!BE13)/Datos!BE13," - ") -> -0.42790484 | J13: =IF(ISNUMBER((('Resol Asuntos'!D13/NºAsuntos!G13)-Datos!BF13)/Datos!BF13),(('Resol Asuntos'!D13/NºAsuntos!G13)-Datos!BF13)/Datos!BF13," - ") -> -0.57691816 | K13: =IF(ISNUMBER((((NºAsuntos!C13+NºAsuntos!E13)/NºAsuntos!G13)-Datos!BG13)/Datos!BG13),(((NºAsuntos!C13+NºAsuntos!E13)/NºAsuntos!G13)-Datos!BG13)/Datos!BG13," - ") -> -0.34674595
A14: =Datos!A14 -> Jurisdicción Penal ( 2 ):
A15: =Datos!A15 -> Jdos. Instrucción | B15: =IF(ISNUMBER( IF(D_I="SI",(Datos!I15-Datos!S15)/Datos!S15,(Datos!I15+Datos!AC15-(Datos!S15+Datos!AK15))/(Datos!S15+Datos!AK15)) ),IF(D_I="SI",(Datos!I15-Datos!S15)/Datos!S15,(Datos!I15+Datos!AC15-(Datos!S15+Datos!AK15))/(Datos!S15+Datos!AK15))," - ") -> - | C15: =IF(ISNUMBER( IF(D_I="SI",(Datos!J15-Datos!T15)/Datos!T15,(Datos!J15+Datos!AD15-(Datos!T15+Datos!AL15))/(Datos!T15+Datos!AL15)) ),IF(D_I="SI",(Datos!J15-Datos!T15)/Datos!T15,(Datos!J15+Datos!AD15-(Datos!T15+Datos!AL15))/(Datos!T15+Datos!AL15))," - ") -> - | D15: =IF(ISNUMBER( IF(D_I="SI",(Datos!K15-Datos!U15)/Datos!U15,(Datos!K15+Datos!AE15-(Datos!U15+Datos!AM15))/(Datos!U15+Datos!AM15)) ),IF(D_I="SI",(Datos!K15-Datos!U15)/Datos!U15,(Datos!K15+Datos!AE15-(Datos!U15+Datos!AM15))/(Datos!U15+Datos!AM15))," - ") -> - | E15: =IF(ISNUMBER( IF(D_I="SI",(Datos!L15-Datos!V15)/Datos!V15,(Datos!L15+Datos!AF15-(Datos!V15+Datos!AN15))/(Datos!V15+Datos!AN15)) ),IF(D_I="SI",(Datos!L15-Datos!V15)/Datos!V15,(Datos!L15+Datos!AF15-(Datos!V15+Datos!AN15))/(Datos!V15+Datos!AN15))," - ") -> - | F15: =IF(ISNUMBER((Datos!M15-Datos!W15)/Datos!W15),(Datos!M15-Datos!W15)/Datos!W15," - ") -> - | G15: =IF(ISNUMBER((Datos!N15-Datos!X15)/Datos!X15),(Datos!N15-Datos!X15)/Datos!X15," - ") -> - | H15: =IF(ISNUMBER(((NºAsuntos!G15/NºAsuntos!E15)-Datos!BD15)/Datos!BD15),((NºAsuntos!G15/NºAsuntos!E15)-Datos!BD15)/Datos!BD15," - ") -> - | I15: =IF(ISNUMBER(((NºAsuntos!I15/NºAsuntos!G15)-Datos!BE15)/Datos!BE15),((NºAsuntos!I15/NºAsuntos!G15)-Datos!BE15)/Datos!BE15," - ") -> - | J15: =IF(ISNUMBER((('Resol Asuntos'!D15/NºAsuntos!G15)-Datos!BF15)/Datos!BF15),(('Resol Asuntos'!D15/NºAsuntos!G15)-Datos!BF15)/Datos!BF15," - ") -> - | K15: =IF(ISNUMBER((((NºAsuntos!C15+NºAsuntos!E15)/NºAsuntos!G15)-Datos!BG15)/Datos!BG15),(((NºAsuntos!C15+NºAsuntos!E15)/NºAsuntos!G15)-Datos!BG15)/Datos!BG15," - ") -> -
A16: =Datos!A16 -> Jdos. 1ª Instª. e Instr./Secc. Civil y de Inst. TI | B16: =IF(ISNUMBER( IF(D_I="SI",(Datos!I16-Datos!S16)/Datos!S16,(Datos!I16+Datos!AC16-(Datos!S16+Datos!AK16))/(Datos!S16+Datos!AK16)) ),IF(D_I="SI",(Datos!I16-Datos!S16)/Datos!S16,(Datos!I16+Datos!AC16-(Datos!S16+Datos!AK16))/(Datos!S16+Datos!AK16))," - ") -> 0.029078665 | C16: =IF(ISNUMBER( IF(D_I="SI",(Datos!J16-Datos!T16)/Datos!T16,(Datos!J16+Datos!AD16-(Datos!T16+Datos!AL16))/(Datos!T16+Datos!AL16)) ),IF(D_I="SI",(Datos!J16-Datos!T16)/Datos!T16,(Datos!J16+Datos!AD16-(Datos!T16+Datos!AL16))/(Datos!T16+Datos!AL16))," - ") -> -0.0044370494 | D16: =IF(ISNUMBER( IF(D_I="SI",(Datos!K16-Datos!U16)/Datos!U16,(Datos!K16+Datos!AE16-(Datos!U16+Datos!AM16))/(Datos!U16+Datos!AM16)) ),IF(D_I="SI",(Datos!K16-Datos!U16)/Datos!U16,(Datos!K16+Datos!AE16-(Datos!U16+Datos!AM16))/(Datos!U16+Datos!AM16))," - ") -> -0.12189616 | E16: =IF(ISNUMBER( IF(D_I="SI",(Datos!L16-Datos!V16)/Datos!V16,(Datos!L16+Datos!AF16-(Datos!V16+Datos!AN16))/(Datos!V16+Datos!AN16)) ),IF(D_I="SI",(Datos!L16-Datos!V16)/Datos!V16,(Datos!L16+Datos!AF16-(Datos!V16+Datos!AN16))/(Datos!V16+Datos!AN16))," - ") -> 0.094864246 | F16: =IF(ISNUMBER((Datos!M16-Datos!W16)/Datos!W16),(Datos!M16-Datos!W16)/Datos!W16," - ") -> -0.081560284 | G16: =IF(ISNUMBER((Datos!N16-Datos!X16)/Datos!X16),(Datos!N16-Datos!X16)/Datos!X16," - ") -> -0.29561404 | H16: =IF(ISNUMBER(((NºAsuntos!G16/NºAsuntos!E16)-Datos!BD16)/Datos!BD16),((NºAsuntos!G16/NºAsuntos!E16)-Datos!BD16)/Datos!BD16," - ") -> -0.11798261 | I16: =IF(ISNUMBER(((NºAsuntos!I16/NºAsuntos!G16)-Datos!BE16)/Datos!BE16),((NºAsuntos!I16/NºAsuntos!G16)-Datos!BE16)/Datos!BE16," - ") -> 0.24685054 | J16: =IF(ISNUMBER((('Resol Asuntos'!D16/NºAsuntos!G16)-Datos!BF16)/Datos!BF16),(('Resol Asuntos'!D16/NºAsuntos!G16)-Datos!BF16)/Datos!BF16," - ") -> 0.045935204 | K16: =IF(ISNUMBER((((NºAsuntos!C16+NºAsuntos!E16)/NºAsuntos!G16)-Datos!BG16)/Datos!BG16),(((NºAsuntos!C16+NºAsuntos!E16)/NºAsuntos!G16)-Datos!BG16)/Datos!BG16," - ") -> 0.15835932
A17: =Datos!A17 -> Jdos. Violencia contra la mujer/Secc Viol. TI. | B17: =IF(ISNUMBER( IF(D_I="SI",(Datos!I17-Datos!S17)/Datos!S17,(Datos!I17+Datos!AC17-(Datos!S17+Datos!AK17))/(Datos!S17+Datos!AK17)) ),IF(D_I="SI",(Datos!I17-Datos!S17)/Datos!S17,(Datos!I17+Datos!AC17-(Datos!S17+Datos!AK17))/(Datos!S17+Datos!AK17))," - ") -> -0.35897436 | C17: =IF(ISNUMBER( IF(D_I="SI",(Datos!J17-Datos!T17)/Datos!T17,(Datos!J17+Datos!AD17-(Datos!T17+Datos!AL17))/(Datos!T17+Datos!AL17)) ),IF(D_I="SI",(Datos!J17-Datos!T17)/Datos!T17,(Datos!J17+Datos!AD17-(Datos!T17+Datos!AL17))/(Datos!T17+Datos!AL17))," - ") -> -0.38372093 | D17: =IF(ISNUMBER( IF(D_I="SI",(Datos!K17-Datos!U17)/Datos!U17,(Datos!K17+Datos!AE17-(Datos!U17+Datos!AM17))/(Datos!U17+Datos!AM17)) ),IF(D_I="SI",(Datos!K17-Datos!U17)/Datos!U17,(Datos!K17+Datos!AE17-(Datos!U17+Datos!AM17))/(Datos!U17+Datos!AM17))," - ") -> -0.30890052 | E17: =IF(ISNUMBER( IF(D_I="SI",(Datos!L17-Datos!V17)/Datos!V17,(Datos!L17+Datos!AF17-(Datos!V17+Datos!AN17))/(Datos!V17+Datos!AN17)) ),IF(D_I="SI",(Datos!L17-Datos!V17)/Datos!V17,(Datos!L17+Datos!AF17-(Datos!V17+Datos!AN17))/(Datos!V17+Datos!AN17))," - ") -> -0.50505051 | F17: =IF(ISNUMBER((Datos!M17-Datos!W17)/Datos!W17),(Datos!M17-Datos!W17)/Datos!W17," - ") -> 0.28571429 | G17: =IF(ISNUMBER((Datos!N17-Datos!X17)/Datos!X17),(Datos!N17-Datos!X17)/Datos!X17," - ") -> -0.37931034 | H17: =IF(ISNUMBER(((NºAsuntos!G17/NºAsuntos!E17)-Datos!BD17)/Datos!BD17),((NºAsuntos!G17/NºAsuntos!E17)-Datos!BD17)/Datos!BD17," - ") -> 0.1214067 | I17: =IF(ISNUMBER(((NºAsuntos!I17/NºAsuntos!G17)-Datos!BE17)/Datos!BE17),((NºAsuntos!I17/NºAsuntos!G17)-Datos!BE17)/Datos!BE17," - ") -> -0.28382308 | J17: =IF(ISNUMBER((('Resol Asuntos'!D17/NºAsuntos!G17)-Datos!BF17)/Datos!BF17),(('Resol Asuntos'!D17/NºAsuntos!G17)-Datos!BF17)/Datos!BF17," - ") -> 0.86038961 | K17: =IF(ISNUMBER((((NºAsuntos!C17+NºAsuntos!E17)/NºAsuntos!G17)-Datos!BG17)/Datos!BG17),(((NºAsuntos!C17+NºAsuntos!E17)/NºAsuntos!G17)-Datos!BG17)/Datos!BG17," - ") -> -0.093766384
A18: =Datos!A18 -> TOTAL | B18: =IF(ISNUMBER( IF(Criterios!B14="SI",(Datos!I18-Datos!S18)/Datos!S18,(Datos!I18+Datos!AC18-(Datos!S18+Datos!AK18))/(Datos!S18+Datos!AK18)) ),IF(Criterios!B14="SI",(Datos!I18-Datos!S18)/Datos!S18,(Datos!I18+Datos!AC18-(Datos!S18+Datos!AK18))/(Datos!S18+Datos!AK18))," - ") -> 0.015661939 | C18: =IF(ISNUMBER( IF(Criterios!B14="SI",(Datos!J18-Datos!T18)/Datos!T18,(Datos!J18+Datos!AD18-(Datos!T18+Datos!AL18))/(Datos!T18+Datos!AL18)) ),IF(Criterios!B14="SI",(Datos!J18-Datos!T18)/Datos!T18,(Datos!J18+Datos!AD18-(Datos!T18+Datos!AL18))/(Datos!T18+Datos!AL18))," - ") -> -0.037468354 | D18: =IF(ISNUMBER( IF(Criterios!B14="SI",(Datos!K18-Datos!U18)/Datos!U18,(Datos!K18+Datos!AE18-(Datos!U18+Datos!AM18))/(Datos!U18+Datos!AM18)) ),IF(Criterios!B14="SI",(Datos!K18-Datos!U18)/Datos!U18,(Datos!K18+Datos!AE18-(Datos!U18+Datos!AM18))/(Datos!U18+Datos!AM18))," - ") -> -0.1400917 | E18: =IF(ISNUMBER( IF(Criterios!B14="SI",(Datos!L18-Datos!V18)/Datos!V18,(Datos!L18+Datos!AF18-(Datos!V18+Datos!AN18))/(Datos!V18+Datos!AN18)) ),IF(Criterios!B14="SI",(Datos!L18-Datos!V18)/Datos!V18,(Datos!L18+Datos!AF18-(Datos!V18+Datos!AN18))/(Datos!V18+Datos!AN18))," - ") -> 0.076045627 | F18: =IF(ISNUMBER((Datos!M18-Datos!W18)/Datos!W18),(Datos!M18-Datos!W18)/Datos!W18," - ") -> -0.064189189 | G18: =IF(ISNUMBER((Datos!N18-Datos!X18)/Datos!X18),(Datos!N18-Datos!X18)/Datos!X18," - ") -> -0.30334395 | H18: =IF(ISNUMBER(((NºAsuntos!G18/NºAsuntos!E18)-Datos!BD18)/Datos!BD18),((NºAsuntos!G18/NºAsuntos!E18)-Datos!BD18)/Datos!BD18," - ") -> -0.10661815 | I18: =IF(ISNUMBER(((NºAsuntos!I18/NºAsuntos!G18)-Datos!BE18)/Datos!BE18),((NºAsuntos!I18/NºAsuntos!G18)-Datos!BE18)/Datos!BE18," - ") -> 0.25134927 | J18: =IF(ISNUMBER((('Resol Asuntos'!D18/NºAsuntos!G18)-Datos!BF18)/Datos!BF18),(('Resol Asuntos'!D18/NºAsuntos!G18)-Datos!BF18)/Datos!BF18," - ") -> 0.088268141 | K18: =IF(ISNUMBER((((NºAsuntos!C18+NºAsuntos!E18)/NºAsuntos!G18)-Datos!BG18)/Datos!BG18),(((NºAsuntos!C18+NºAsuntos!E18)/NºAsuntos!G18)-Datos!BG18)/Datos!BG18," - ") -> 0.15835765
A19: =Datos!A19 -> TOTAL JURISDICCIONES | B19: =IF(ISNUMBER( IF(J_V="SI",(Datos!I19-Datos!S19)/Datos!S19,(Datos!I19+Datos!Y19-(Datos!S19+Datos!AG19))/(Datos!S19+Datos!AG19)) ),IF(J_V="SI",(Datos!I19-Datos!S19)/Datos!S19,(Datos!I19+Datos!Y19-(Datos!S19+Datos!AG19))/(Datos!S19+Datos!AG19))," - ") -> 0.042498517 | C19: =IF(ISNUMBER( IF(J_V="SI",(Datos!J19-Datos!T19)/Datos!T19,(Datos!J19+Datos!Z19-(Datos!T19+Datos!AH19))/(Datos!T19+Datos!AH19)) ),IF(J_V="SI",(Datos!J19-Datos!T19)/Datos!T19,(Datos!J19+Datos!Z19-(Datos!T19+Datos!AH19))/(Datos!T19+Datos!AH19))," - ") -> -0.05075188 | D19: =IF(ISNUMBER( IF(J_V="SI",(Datos!K19-Datos!U19)/Datos!U19,(Datos!K19+Datos!AA19-(Datos!U19+Datos!AI19))/(Datos!U19+Datos!AI19)) ),IF(J_V="SI",(Datos!K19-Datos!U19)/Datos!U19,(Datos!K19+Datos!AA19-(Datos!U19+Datos!AI19))/(Datos!U19+Datos!AI19))," - ") -> 0.18604004 | E19: =IF(ISNUMBER( IF(J_V="SI",(Datos!L19-Datos!V19)/Datos!V19,(Datos!L19+Datos!AB19-(Datos!V19+Datos!AJ19))/(Datos!V19+Datos!AJ19)) ),IF(J_V="SI",(Datos!L19-Datos!V19)/Datos!V19,(Datos!L19+Datos!AB19-(Datos!V19+Datos!AJ19))/(Datos!V19+Datos!AJ19))," - ") -> -0.042450941 | F19: =IF(ISNUMBER((Datos!M19-Datos!W19)/Datos!W19),(Datos!M19-Datos!W19)/Datos!W19," - ") -> 0.034139403 | G19: =IF(ISNUMBER((Datos!N19-Datos!X19)/Datos!X19),(Datos!N19-Datos!X19)/Datos!X19," - ") -> 0.1252588 | H19: =IF(ISNUMBER((Tasas!B19-Datos!BD19)/Datos!BD19),(Tasas!B19-Datos!BD19)/Datos!BD19," - ") -> 0.24945209 | I19: =IF(ISNUMBER((Tasas!C19-Datos!BE19)/Datos!BE19),(Tasas!C19-Datos!BE19)/Datos!BE19," - ") -> -0.19265031 | J19: =IF(ISNUMBER((Tasas!D19-Datos!BF19)/Datos!BF19),(Tasas!D19-Datos!BF19)/Datos!BF19," - ") -> -0.36807822 | K19: =IF(ISNUMBER((Tasas!E19-Datos!BG19)/Datos!BG19),(Tasas!E19-Datos!BG19)/Datos!BG19," - ") -> -0.14217839
A21: NOTA ACLARATORIA: En el año 2007 se ha pasado a recoger, por primera vez, el dato de número de autos finales en los órganos de la jurisdicción penal. Por este motivo el dato de la evolución de los autos, en los órganos de esta jurisdicción, respecto al mismo periodo del año anterior carece de significación
A23: =Criterios!A4 -> Fecha Informe: 17 mar. 2026

Sheet Tasas
B2: =Criterios!A9 &" "&Criterios!B9 -> Tribunales de Justicia CATALUÑA
A3: Tasas | B3: =Criterios!A10 &" "&Criterios!B10 -> Provincias BARCELONA
B4: =Criterios!A11 &" "&Criterios!B11 -> Resumenes por Partidos Judiciales VIC
A5: ="Año: " &Criterios!B5 & " Trimestre " &Criterios!D5 & " al " &Criterios!D6 -> Año: 2025 Trimestre 4 al 4 | B5: Resolución | C5: Pendencia | D5: Sentencia | E5: Congestión
A7: =Datos!A7 -> COMPETENCIAS
A8: =Datos!A8 -> Jurisdicción Civil ( 1 ):
A9: =Datos!A9 -> Jdos. 1ª Instancia | B9: =IF(ISNUMBER(NºAsuntos!G9/NºAsuntos!E9),NºAsuntos!G9/NºAsuntos!E9," - ") -> - | C9: =IF(ISNUMBER(NºAsuntos!I9/NºAsuntos!G9),NºAsuntos!I9/NºAsuntos!G9," - ") -> - | D9: =IF(ISNUMBER('Resol Asuntos'!D9/NºAsuntos!G9),'Resol Asuntos'!D9/NºAsuntos!G9," - ") -> - | E9: =IF(ISNUMBER((NºAsuntos!C9+NºAsuntos!E9)/NºAsuntos!G9),(NºAsuntos!C9+NºAsuntos!E9)/NºAsuntos!G9," - ") -> -
A10: =Datos!A10 -> Jdos. Violencia contra la mujer/Secc Viol. TI. | B10: =IF(ISNUMBER(NºAsuntos!G10/NºAsuntos!E10),NºAsuntos!G10/NºAsuntos!E10," - ") -> 1.0909091 | C10: =IF(ISNUMBER(NºAsuntos!I10/NºAsuntos!G10),NºAsuntos!I10/NºAsuntos!G10," - ") -> 8.0833333 | D10: =IF(ISNUMBER('Resol Asuntos'!D10/NºAsuntos!G10),'Resol Asuntos'!D10/NºAsuntos!G10," - ") -> 0.66666667 | E10: =IF(ISNUMBER((NºAsuntos!C10+NºAsuntos!E10)/NºAsuntos!G10),(NºAsuntos!C10+NºAsuntos!E10)/NºAsuntos!G10," - ") -> 9.0833333
A11: =Datos!A11 -> Jdos. Familia | B11: =IF(ISNUMBER(NºAsuntos!G11/NºAsuntos!E11),NºAsuntos!G11/NºAsuntos!E11," - ") -> - | C11: =IF(ISNUMBER(NºAsuntos!I11/NºAsuntos!G11),NºAsuntos!I11/NºAsuntos!G11," - ") -> - | D11: =IF(ISNUMBER('Resol Asuntos'!D11/NºAsuntos!G11),'Resol Asuntos'!D11/NºAsuntos!G11," - ") -> - | E11: =IF(ISNUMBER((NºAsuntos!C11+NºAsuntos!E11)/NºAsuntos!G11),(NºAsuntos!C11+NºAsuntos!E11)/NºAsuntos!G11," - ") -> -
A12: =Datos!A12 -> Jdos. 1ª Instª. e Instr./Secc. Civil y de Inst. TI | B12: =IF(ISNUMBER(NºAsuntos!G12/NºAsuntos!E12),NºAsuntos!G12/NºAsuntos!E12," - ") -> 1.5804067 | C12: =IF(ISNUMBER(NºAsuntos!I12/NºAsuntos!G12),NºAsuntos!I12/NºAsuntos!G12," - ") -> 2.3668616 | D12: =IF(ISNUMBER('Resol Asuntos'!D12/NºAsuntos!G12),'Resol Asuntos'!D12/NºAsuntos!G12," - ") -> 0.17231969 | E12: =IF(ISNUMBER((NºAsuntos!C12+NºAsuntos!E12)/NºAsuntos!G12),(NºAsuntos!C12+NºAsuntos!E12)/NºAsuntos!G12," - ") -> 3.3668616
A13: =Datos!A13 -> TOTAL | B13: =IF(ISNUMBER(NºAsuntos!G13/NºAsuntos!E13),NºAsuntos!G13/NºAsuntos!E13," - ") -> 1.5771114 | C13: =IF(ISNUMBER(NºAsuntos!I13/NºAsuntos!G13),NºAsuntos!I13/NºAsuntos!G13," - ") -> 2.3934808 | D13: =IF(ISNUMBER('Resol Asuntos'!D13/NºAsuntos!G13),'Resol Asuntos'!D13/NºAsuntos!G13," - ") -> 0.17462165 | E13: =IF(ISNUMBER((NºAsuntos!C13+NºAsuntos!E13)/NºAsuntos!G13),(NºAsuntos!C13+NºAsuntos!E13)/NºAsuntos!G13," - ") -> 3.3934808
A14: =Datos!A14 -> Jurisdicción Penal ( 2 ):
A15: =Datos!A15 -> Jdos. Instrucción | B15: =IF(ISNUMBER(NºAsuntos!G15/NºAsuntos!E15),NºAsuntos!G15/NºAsuntos!E15," - ") -> - | C15: =IF(ISNUMBER(NºAsuntos!I15/NºAsuntos!G15),NºAsuntos!I15/NºAsuntos!G15," - ") -> - | D15: =IF(ISNUMBER('Resol Asuntos'!D15/NºAsuntos!G15),'Resol Asuntos'!D15/NºAsuntos!G15," - ") -> - | E15: =IF(ISNUMBER((NºAsuntos!C15+NºAsuntos!E15)/NºAsuntos!G15),(NºAsuntos!C15+NºAsuntos!E15)/NºAsuntos!G15," - ") -> -
A16: =Datos!A16 -> Jdos. 1ª Instª. e Instr./Secc. Civil y de Inst. TI | B16: =IF(ISNUMBER(NºAsuntos!G16/NºAsuntos!E16),NºAsuntos!G16/NºAsuntos!E16," - ") -> 0.86685237 | C16: =IF(ISNUMBER(NºAsuntos!I16/NºAsuntos!G16),NºAsuntos!I16/NºAsuntos!G16," - ") -> 2.1510283 | D16: =IF(ISNUMBER('Resol Asuntos'!D16/NºAsuntos!G16),'Resol Asuntos'!D16/NºAsuntos!G16," - ") -> 0.16645244 | E16: =IF(ISNUMBER((NºAsuntos!C16+NºAsuntos!E16)/NºAsuntos!G16),(NºAsuntos!C16+NºAsuntos!E16)/NºAsuntos!G16," - ") -> 3.3142674
A17: =Datos!A17 -> Jdos. Violencia contra la mujer/Secc Viol. TI. | B17: =IF(ISNUMBER(NºAsuntos!G17/NºAsuntos!E17),NºAsuntos!G17/NºAsuntos!E17," - ") -> 1.245283 | C17: =IF(ISNUMBER(NºAsuntos!I17/NºAsuntos!G17),NºAsuntos!I17/NºAsuntos!G17," - ") -> 0.37121212 | D17: =IF(ISNUMBER('Resol Asuntos'!D17/NºAsuntos!G17),'Resol Asuntos'!D17/NºAsuntos!G17," - ") -> 0.13636364 | E17: =IF(ISNUMBER((NºAsuntos!C17+NºAsuntos!E17)/NºAsuntos!G17),(NºAsuntos!C17+NºAsuntos!E17)/NºAsuntos!G17," - ") -> 1.3712121
A18: =Datos!A18 -> TOTAL | B18: =IF(ISNUMBER(NºAsuntos!G18/NºAsuntos!E18),NºAsuntos!G18/NºAsuntos!E18," - ") -> 0.88795371 | C18: =IF(ISNUMBER(NºAsuntos!I18/NºAsuntos!G18),NºAsuntos!I18/NºAsuntos!G18," - ") -> 2.0118483 | D18: =IF(ISNUMBER('Resol Asuntos'!D18/NºAsuntos!G18),'Resol Asuntos'!D18/NºAsuntos!G18," - ") -> 0.16409953 | E18: =IF(ISNUMBER((NºAsuntos!C18+NºAsuntos!E18)/NºAsuntos!G18),(NºAsuntos!C18+NºAsuntos!E18)/NºAsuntos!G18," - ") -> 3.1623223
A19: =Datos!A19 -> TOTAL JURISDICCIONES | B19: =IF(ISNUMBER(NºAsuntos!G19/NºAsuntos!E19),NºAsuntos!G19/NºAsuntos!E19," - ") -> 1.2065064 | C19: =IF(ISNUMBER(NºAsuntos!I19/NºAsuntos!G19),NºAsuntos!I19/NºAsuntos!G19," - ") -> 2.2424385 | D19: =IF(ISNUMBER('Resol Asuntos'!D19/NºAsuntos!G19),'Resol Asuntos'!D19/NºAsuntos!G19," - ") -> 0.17045721 | E19: =IF(ISNUMBER((NºAsuntos!C19+NºAsuntos!E19)/NºAsuntos!G19),(NºAsuntos!C19+NºAsuntos!E19)/NºAsuntos!G19," - ") -> 3.301993
A23: =Criterios!A4 -> Fecha Informe: 17 mar. 2026

Sheet Indicadores
F2: =Criterios!A9 &" "&Criterios!B9 -> Tribunales de Justicia CATALUÑA | L2: =Criterios!A10 &" "&Criterios!B10 -> Provincias BARCELONA | N2: =Criterios!A11 &" "&Criterios!B11 -> Resumenes por Partidos Judiciales VIC
A5: Código de órgano | C5: ="Año: " &Criterios!B$5 & " Trimestre " &Criterios!D$5 & " al " &Criterios!D$6 -> Año: 2025 Trimestre 4 al 4 | D5: Otra comp. | E5: Número de magistrados | F5: En Tramite Al Inicio Del Periodo (Regularizado) | G5: En Tramite Al Inicio Del Periodo | H5: A ASUNTOS ingresados | I5: A ASUNTOS ingresados 2 | J5: A ASUNTOS ingresados 3 | K5: Asuntos reabiertos | L5: Ejecuciones ingresadas | M5: Ejecuciones reiniciadas | N5: INGRESO COMPUTABLE (A+B) | O5: INGRESO COMPUTABLE (Civil + Penal) | P5: % Ingreso Computable | Q5: % Ingreso Computable total | R5: SOLO Monitorios ingresados | S5: RESOLUCIONNº H/P | T5: % S/INDICADOR DE RESOLUCION (Horas punto) | U5: TOTAL RESOLUCIONNº H/P | V5: % S/INDICADOR DE RESOLUCIÓN TOTAL (CIVIL Y PENAL) | W5: Resolución ingresados A | X5: Resolución ejecuciones B | Y5: Resolución TOTAL C | Z5: Resolución Monitorios | AA5: Pendencia A | AB5: Pendencia B | AC5: Pendencia A+B | AD5: Pendencia Monitorios | AE5: Nº TOTAL Sentencias Pendientes | AF5: Nª Sentencias menos 3 m | AG5: Nª sentencias entre 3 y 6m | AH5: Nª Sentencias más de 6m | AI5: Nº TOTAL Sentencias dictadas | AJ5: Escritos pendientes hasta 30 días | AK5: Escritos pendientes mas de 30 días | AL5: Tasa Resolución | AM5: Tiempo de respuesta | AN5: Tasa Sentencia | AO5: Tasa Congestión | AP5: % Señalamientos suspendidos | AQ5: Variación de Pendientes A | AR5: Variación de Pendientes B | AS5: Procedimeintos abreviados elevados | AT5: Suspendidos | AU5: Señalados | AV5: Asuntos Pendientes de Incoar | AW5: Asuntos Repartidos Pendientes de Aceptar | AX5: Fecha señalamiento más alejada en el tiempo | AY5: Módulo entrada 2018 | AZ5: % Módulo entrada 2018 | BF5: M. TeórIco 1 | BH5: M. TeórIco 2 | BJ5: M. TeórIco 3 | BL5: M. TeórIco Tot
BF6: Inferior | BG6: Superior | BH6: Inferior | BI6: Superior | BJ6: Inferior | BK6: Superior | BL6: Inferior | BM6: Superior
C7: =Datos!A7 -> COMPETENCIAS
C8: =Datos!A8 -> Jurisdicción Civil ( 1 ):
A9: =Datos!AO9 -> 0 | B9: C | C9: =Datos!A9 -> Jdos. 1ª Instancia | E9: =IF(ISNUMBER(Datos!AQ9),Datos!AQ9," - ") -> 0 | F9: =IF(ISNUMBER(AA9+W9-I9-K9),AA9+W9-I9-K9," - ") -> - | G9: =IF(ISNUMBER(IF(J_V="SI",Datos!I9,Datos!I9+Datos!Y9)-IF(Monitorios="SI",Datos!CA9,0)), IF(J_V="SI",Datos!I9,Datos!I9+Datos!Y9)-IF(Monitorios="SI",Datos!CA9,0), " - ") -> - | H9: =IF(ISNUMBER(Datos!DB9),Datos!DB9," - ") -> - | I9: =IF(ISNUMBER(Datos!DC9),Datos!DC9," - ") -> - | J9: =IF(ISNUMBER(Datos!DD9),Datos!DD9," - ") -> - | K9: =IF(ISNUMBER(Datos!DF9),Datos!DF9,0) -> 0 | L9: =IF(ISNUMBER(Datos!P9),Datos!P9,0) -> 0 | M9: =IF(ISNUMBER(Datos!DE9),Datos!DE9," - ") -> - | N9: =IF(ISNUMBER(H9+L9),H9+L9," - ") -> - | P9: =IF(ISNUMBER((N9)/((BL9+BM9)/2)),(N9)/((BL9+BM9)/2)," - ") -> - | Q9: =IF(ISNUMBER((N9)/((BL9+BM9)/2)),(N9)/((BL9+BM9)/2)," - ") -> - | R9: =IF(ISNUMBER(Datos!CB9),Datos!CB9," - ") -> - | S9: =IF(ISNUMBER(Datos!BY9+Datos!BZ9*0.86),Datos!BY9+Datos!BZ9*0.86," - ") -> 0 | T9: =IF(ISNUMBER((S9*factor_trimestre)/DatosB!CN9),(S9*factor_trimestre)/DatosB!CN9,"-") -> 0 | V9: =IF(ISNUMBER((U9*factor_trimestre)/DatosB!CN9),(U9*factor_trimestre)/DatosB!CN9,"-") -> 0 | W9: =IF(ISNUMBER(IF(J_V="SI",Datos!K9,Datos!K9+Datos!AA9)-IF(Monitorios="SI",Datos!CC9,0)), IF(J_V="SI",Datos!K9,Datos!K9+Datos!AA9)-IF(Monitorios="SI",Datos!CC9,0), " - ") -> - | X9: =IF(ISNUMBER(Datos!Q9),Datos!Q9," - ") -> - | Y9: =SUM(W9:X9) -> 0 | Z9: =IF(ISNUMBER(Datos!CC9),Datos!CC9," - ") -> - | AA9: =IF(ISNUMBER(IF(J_V="SI",Datos!L9,Datos!L9+Datos!AB9)-IF(Monitorios="SI",Datos!CD9,0)), IF(J_V="SI",Datos!L9,Datos!L9+Datos!AB9)-IF(Monitorios="SI",Datos!CD9,0), " - ") -> - | AB9: =IF(ISNUMBER(Datos!R9),Datos!R9," - ") -> - | AC9: =IF(ISNUMBER(AA9+AB9),AA9+AB9," - ") -> - | AD9: =IF(ISNUMBER(Datos!CD9),Datos!CD9," - ") -> - | AE9: =IF(ISNUMBER(Datos!BV9),Datos!BV9," - ") -> - | AF9: =IF(ISNUMBER(Datos!CK9),Datos!CK9," - ") -> - | AG9: =IF(ISNUMBER(Datos!CL9),Datos!CL9," - ") -> - | AH9: =IF(ISNUMBER(Datos!CM9),Datos!CM9," - ") -> - | AI9: =IF(ISNUMBER(Datos!M9),Datos!M9," - ") -> - | AJ9: =IF(ISNUMBER(Datos!BW9),Datos!BW9," - ") -> - | AK9: =IF(ISNUMBER(Datos!BX9),Datos!BX9," - ") -> - | AL9: =IF(ISNUMBER(NºAsuntos!G9/NºAsuntos!E9),NºAsuntos!G9/NºAsuntos!E9," - ") -> - | AM9: =IF(ISNUMBER(((NºAsuntos!I9/NºAsuntos!G9)*11)/factor_trimestre),((NºAsuntos!I9/NºAsuntos!G9)*11)/factor_trimestre," - ") -> - | AN9: =IF(ISNUMBER('Resol Asuntos'!D9/NºAsuntos!G9),'Resol Asuntos'!D9/NºAsuntos!G9," - ") -> - | AO9: =IF(ISNUMBER((NºAsuntos!C9+NºAsuntos!E9)/NºAsuntos!G9),(NºAsuntos!C9+NºAsuntos!E9)/NºAsuntos!G9," - ") -> - | AP9: =IF(ISNUMBER(AT9/AU9),AT9/AU9," - ") -> - | AQ9: =IF(ISNUMBER((I9-W9+K9)/(F9)),(I9-W9+K9)/(F9)," - ") -> - | AR9: =IF(ISNUMBER((Datos!P9-Datos!Q9+M9)/(Datos!R9-Datos!P9+Datos!Q9-M9)),(Datos!P9-Datos!Q9+M9)/(Datos!R9-Datos!P9+Datos!Q9-M9)," - ") -> - | AS9: =IF(ISNUMBER(Datos!CS9),Datos!CS9," - ") -> - | AT9: =IF(ISNUMBER(Datos!CI9),Datos!CI9," - ") -> - | AU9: =IF(ISNUMBER(Datos!CJ9),Datos!CJ9," - ") -> - | AV9: =IF(ISNUMBER(Datos!CW9),Datos!CW9," - ") -> - | AW9: =IF(ISNUMBER(Datos!EV9),Datos!EV9," - ") -> - | AX9: =IF(ISNUMBER(Datos!CX9)," - ",Datos!CX9) -> 0 | AY9: =IF(ISNUMBER(Datos!ET9),Datos!ET9," - ") -> - | AZ9: =(AY9/Datos!ER9)*factor_trimestre -> #VALUE! | BF9: =Datos!BN9/factor_trimestre -> 0 | BG9: =Datos!BO9/factor_trimestre -> 0 | BH9: =Datos!BP9/factor_trimestre -> 0 | BI9: =Datos!BQ9/factor_trimestre -> 0 | BJ9: =Datos!BR9/factor_trimestre -> 0 | BK9: =Datos!BS9/factor_trimestre -> 0 | BL9: =Datos!BT9/factor_trimestre -> 0 | BM9: =Datos!BU9/factor_trimestre -> 0
A10: =Datos!AO10 -> 1 | B10: C | C10: =Datos!A10 -> Jdos. Violencia contra la mujer/Secc Viol. TI. | E10: =IF(ISNUMBER(Datos!AQ10),Datos!AQ10," - ") -> 0 | F10: =IF(ISNUMBER(Datos!L10+Datos!K10-Datos!J10-K10),Datos!L10+Datos!K10-Datos!J10-K10," - ") -> 98 | G10: =IF(ISNUMBER(Datos!I10),Datos!I10," - ") -> 98 | H10: =IF(ISNUMBER(Datos!DB10),Datos!DB10," - ") -> - | I10: =IF(ISNUMBER(Datos!DC10),Datos!DC10," - ") -> - | J10: =IF(ISNUMBER(Datos!DD10),Datos!DD10," - ") -> - | K10: =IF(ISNUMBER(Datos!DF10),Datos!DF10,0) -> 0 | L10: =IF(ISNUMBER(Datos!P10),Datos!P10,0) -> 9 | M10: =IF(ISNUMBER(Datos!DE10),Datos!DE10," - ") -> - | N10: =IF(ISNUMBER(H10),H10," - ") -> - | O10: =IF(ISNUMBER(INDIRECT("N"&ROW()+salto-1)),N10+(INDIRECT("N"&ROW()+salto-1)),N10+(INDIRECT("N"&ROW()-salto+1))) -> #VALUE! | P10: =IF(ISNUMBER((N10)/((BL10+BM10)/2)),(N10)/((BL10+BM10)/2)," - ") -> - | Q10: =IF(jurisdiccion="Jurisdicción Civil y Penal",IF(ISNUMBER((O10)/((BL10+BM10)/2)),(O10)/((BL10+BM10)/2)," - "),IF(ISNUMBER((N10)/((BF10+BG10)/2)),(N10)/((BF10+BG10)/2)," - ")) -> - | R10: =IF(ISNUMBER(Datos!CB10),Datos!CB10," - ") -> - | S10: =IF(ISNUMBER(Datos!BY10),Datos!BY10," - ") -> - | T10: =IF(ISNUMBER((S10*factor_trimestre)/DatosB!CN10),(S10*factor_trimestre)/DatosB!CN10,"-") -> - | U10: =IF(ISNUMBER(INDIRECT("S"&ROW()+salto-1)),S10+(INDIRECT("S"&ROW()+salto-1)),S10+(INDIRECT("S"&ROW()-salto+1))) -> #VALUE! | V10: =IF(ISNUMBER((U10*factor_trimestre)/DatosB!CN10),(U10*factor_trimestre)/DatosB!CN10,"-") -> - | W10: =IF(ISNUMBER(Datos!K10),Datos!K10," - ") -> 12 | X10: =IF(ISNUMBER(Datos!Q10),Datos!Q10," - ") -> 1 | Y10: =SUM(W10:X10) -> 13 | Z10: =IF(ISNUMBER(Datos!CC10),Datos!CC10," - ") -> - | AA10: =IF(ISNUMBER(Datos!L10),Datos!L10,"-") -> 97 | AB10: =IF(ISNUMBER(Datos!R10),Datos!R10," - ") -> 67 | AC10: =IF(ISNUMBER(AA10+AB10),AA10+AB10," - ") -> 164 | AD10: =IF(ISNUMBER(Datos!CD10),Datos!CD10," - ") -> - | AE10: =IF(ISNUMBER(Datos!BV10),Datos!BV10," - ") -> - | AF10: =IF(ISNUMBER(Datos!CK10),Datos!CK10," - ") -> - | AG10: =IF(ISNUMBER(Datos!CL10),Datos!CL10," - ") -> - | AH10: =IF(ISNUMBER(Datos!CM10),Datos!CM10," - ") -> - | AI10: =IF(ISNUMBER(Datos!M10),Datos!M10," - ") -> 8 | AJ10: =IF(ISNUMBER(Datos!BW10),Datos!BW10," - ") -> - | AK10: =IF(ISNUMBER(Datos!BX10),Datos!BX10," - ") -> - | AL10: =IF(ISNUMBER(NºAsuntos!G10/NºAsuntos!E10),NºAsuntos!G10/NºAsuntos!E10," - ") -> 1.0909091 | AM10: =IF(ISNUMBER(((NºAsuntos!I10/NºAsuntos!G10)*11)/factor_trimestre),((NºAsuntos!I10/NºAsuntos!G10)*11)/factor_trimestre," - ") -> 24.25 | AN10: =IF(ISNUMBER('Resol Asuntos'!D10/NºAsuntos!G10),'Resol Asuntos'!D10/NºAsuntos!G10," - ") -> 0.66666667 | AO10: =IF(ISNUMBER((NºAsuntos!C10+NºAsuntos!E10)/NºAsuntos!G10),(NºAsuntos!C10+NºAsuntos!E10)/NºAsuntos!G10," - ") -> 9.0833333 | AP10: =IF(ISNUMBER(AT10/AU10),AT10/AU10," - ") -> - | AQ10: =IF(ISNUMBER((H10-W10+K10)/(F10)),(H10-W10+K10)/(F10)," - ") -> - | AR10: =IF(ISNUMBER((Datos!P10-Datos!Q10+M10)/(Datos!R10-Datos!P10+Datos!Q10-M10)),(Datos!P10-Datos!Q10+M10)/(Datos!R10-Datos!P10+Datos!Q10-M10)," - ") -> - | AS10: =IF(ISNUMBER(Datos!CS10),Datos!CS10," - ") -> - | AT10: =IF(ISNUMBER(Datos!CI10),Datos!CI10," - ") -> - | AU10: =IF(ISNUMBER(Datos!CJ10),Datos!CJ10," - ") -> - | AV10: =IF(ISNUMBER(Datos!CW10),Datos!CW10," - ") -> - | AW10: =IF(ISNUMBER(Datos!EV10),Datos!EV10," - ") -> - | AX10: =IF(ISNUMBER(Datos!CX10)," - ",Datos!CX10) -> 0 | AY10: =IF(ISNUMBER(Datos!EO10),Datos!EO10," - ") -> - | AZ10: =(AY10/Datos!ER10)*factor_trimestre -> #VALUE! | BF10: =Datos!BN10/factor_trimestre -> 0 | BG10: =Datos!BO10/factor_trimestre -> 0 | BH10: =Datos!BP10/factor_trimestre -> 0 | BI10: =Datos!BQ10/factor_trimestre -> 0 | BJ10: =Datos!BR10/factor_trimestre -> 0 | BK10: =Datos!BS10/factor_trimestre -> 0 | BL10: =Datos!BT10/factor_trimestre -> 0 | BM10: =Datos!BU10/factor_trimestre -> 0
