Workbook
Name _Toc505678886: DatosB!#REF!
Name agrupada: Criterios!$D$13
Name Año: Criterios!$B$5
Name boletin: Criterios!$A$8
Name D_I: Criterios!$B$14
Name factor_trimestre: Criterios!$R$8
Name J_V: Criterios!$B$13
Name jurisdiccion: Criterios!$E$8
Name Monitorios: Criterios!#REF!
Name salto: Criterios!$Q$10
Name TrimFin: Criterios!$D$6
Name TrimIni: Criterios!$D$5
Name ultimoDiaTrim: Criterios!$Q$12

Sheet Criterios
Q2: Factor normalización dedicación magistrados por trimestre
A3: ACTIVIDAD POR JURISDICCIÓN | Q3: 1 | R3: 3 | S3: =AND(Q3>=TrimIni,Q3<=TrimFin) -> FALSE
A4: Fecha Informe: 17 mar. 2026 | Q4: 2 | R4: 3 | S4: =AND(Q4>=TrimIni,Q4<=TrimFin) -> FALSE
A5: Año: | B5: 2025 | C5: Trimestre desde | D5: 4 | Q5: 3 | R5: 2 | S5: =AND(Q5>=TrimIni,Q5<=TrimFin) -> FALSE
C6: Trimestre hasta | D6: 4 | Q6: 4 | R6: 3 | S6: =AND(Q6>=TrimIni,Q6<=TrimFin) -> TRUE
R8: =11/SUMIF(S3:S6,TRUE,R3:R6) -> 3.6666667
A9: Tribunales de Justicia | B9: CATALUÑA
A10: Provincias | B10: BARCELONA | Q10: 0
A11: Resumenes por Partidos Judiciales | B11: VIC
A13: Excluir Jurisdicción Voluntaria: | B13: NO | C13: Agrupada: | D13: NO
A14: Excluir Diligencias Indeterminadas: | B14: SI

Sheet NºAsuntos
B2: =Criterios!A9 &" "&Criterios!B9 -> Tribunales de Justicia CATALUÑA
A3: Nº de Asuntos | B3: =Criterios!A10 &" "&Criterios!B10 -> Provincias BARCELONA
B4: =Criterios!A11 &" "&Criterios!B11 -> Resumenes por Partidos Judiciales VIC
A5: ="Año: " &Criterios!B5 & " Trimestre " &Criterios!D5 & " al " &Criterios!D6 -> Año: 2025 Trimestre 4 al 4 | B5: Órganos | C5: En Tramite Al Inicio Del Periodo | E5: Ingresados | G5: Resueltos | I5: En Tramite Al Final Del Periodo | K5: Módulo Entrada 2018 | L5: % Módulo Entrada 2018 | M5: Módulo Resolución 2018 | N5: Módulo Pendencia 2018
A7: COMPETENCIAS | B7: Nº | C7: Nº Asuntos | D7: Media x Órgano | E7: Nº Asuntos | F7: Media x Órgano | G7: Nº Asuntos | H7: Media x Órgano | I7: Nº Asuntos | J7: Media x Órgano
A8: =Datos!A8 -> Jurisdicción Civil ( 1 ):
A9: =Datos!A9 -> Jdos. 1ª Instancia | B9: =Datos!AO9 -> 0 | C9: =IF(ISNUMBER(IF(J_V="SI",Datos!I9,Datos!I9+Datos!Y9)),IF(J_V="SI",Datos!I9,Datos!I9+Datos!Y9)," - ") -> - | D9: =IF(ISNUMBER(C9/Datos!BH9),C9/Datos!BH9," - ") -> - | E9: =IF(ISNUMBER(IF(J_V="SI",Datos!J9,Datos!J9+Datos!Z9)),IF(J_V="SI",Datos!J9,Datos!J9+Datos!Z9)," - ") -> - | F9: =IF(ISNUMBER(E9/B9),E9/B9," - ") -> - | G9: =IF(ISNUMBER(IF(J_V="SI",Datos!K9,Datos!K9+Datos!AA9)),IF(J_V="SI",Datos!K9,Datos!K9+Datos!AA9)," - ") -> - | H9: =IF(ISNUMBER(G9/B9),G9/B9," - ") -> - | I9: =IF(ISNUMBER(IF(J_V="SI",Datos!L9,Datos!L9+Datos!AB9)),IF(J_V="SI",Datos!L9,Datos!L9+Datos!AB9)," - ") -> - | J9: =IF(ISNUMBER(I9/B9),I9/B9," - ") -> - | K9: =IF(ISNUMBER(Datos!EO9),Datos!EO9," - ") -> - | L9: =K9*factor_trimestre/Datos!ER9 -> #VALUE! | M9: =IF(ISNUMBER(Datos!EP9),Datos!EP9," - ") -> - | N9: =IF(ISNUMBER(Datos!EQ9),Datos!EQ9," - ") -> - | BQ9: =Datos!EZ9 -> 0
A10: =Datos!A10 -> Jdos. Violencia contra la mujer/Secc Viol. TI. | B10: =Datos!AO10 -> 1 | C10: =IF(ISNUMBER(Datos!I10),Datos!I10," - ") -> 98 | D10: =IF(ISNUMBER(C10/Datos!BH10),C10/Datos!BH10," - ") -> 98 | E10: =IF(ISNUMBER(Datos!J10),Datos!J10," - ") -> 11 | F10: =IF(ISNUMBER(E10/B10),E10/B10," - ") -> 11 | G10: =IF(ISNUMBER(Datos!K10),Datos!K10," - ") -> 12 | H10: =IF(ISNUMBER(G10/B10),G10/B10," - ") -> 12 | I10: =IF(ISNUMBER(Datos!L10),Datos!L10," - ") -> 97 | J10: =IF(ISNUMBER(I10/B10),I10/B10," - ") -> 97 | K10: =IF(ISNUMBER(Datos!EO10),Datos!EO10," - ") -> - | L10: =K10*factor_trimestre/Datos!ER10 -> #VALUE! | M10: =IF(ISNUMBER(Datos!EP10),Datos!EP10," - ") -> - | N10: =IF(ISNUMBER(Datos!EQ10),Datos!EQ10," - ") -> - | BQ10: =Datos!EZ10 -> 0
A11: =Datos!A11 -> Jdos. Familia | B11: =Datos!AO11 -> 0 | C11: =IF(ISNUMBER(IF(J_V="SI",Datos!I11,Datos!I11+Datos!Y11)),IF(J_V="SI",Datos!I11,Datos!I11+Datos!Y11)," - ") -> - | D11: =IF(ISNUMBER(C11/Datos!BH11),C11/Datos!BH11," - ") -> - | E11: =IF(ISNUMBER(IF(J_V="SI",Datos!J11,Datos!J11+Datos!Z11)),IF(J_V="SI",Datos!J11,Datos!J11+Datos!Z11)," - ") -> - | F11: =IF(ISNUMBER(E11/B11),E11/B11," - ") -> - | G11: =IF(ISNUMBER(IF(J_V="SI",Datos!K11,Datos!K11+Datos!AA11)),IF(J_V="SI",Datos!K11,Datos!K11+Datos!AA11)," - ") -> - | H11: =IF(ISNUMBER(G11/B11),G11/B11," - ") -> - | I11: =IF(ISNUMBER(IF(J_V="SI",Datos!L11,Datos!L11+Datos!AB11)),IF(J_V="SI",Datos!L11,Datos!L11+Datos!AB11)," - ") -> - | J11: =IF(ISNUMBER(I11/B11),I11/B11," - ") -> - | K11: =IF(ISNUMBER(Datos!EO11),Datos!EO11," - ") -> - | L11: =K11*factor_trimestre/Datos!ER11 -> #VALUE! | M11: =IF(ISNUMBER(Datos!EP11),Datos!EP11," - ") -> - | N11: =IF(ISNUMBER(Datos!EQ11),Datos!EQ11," - ") -> - | BQ11: =Datos!EZ11 -> 0
A12: =Datos!A12 -> Jdos. 1ª Instª. e Instr./Secc. Civil y de Inst. TI | B12: =Datos!AO12 -> 6 | C12: =IF(ISNUMBER(IF(J_V="SI",Datos!I12,Datos!I12+Datos!Y12)),IF(J_V="SI",Datos!I12,Datos!I12+Datos!Y12)," - ") -> 7013 | D12: =IF(ISNUMBER(C12/Datos!BH12),C12/Datos!BH12," - ") -> 1168.8333 | E12: =IF(ISNUMBER(IF(J_V="SI",Datos!J12,Datos!J12+Datos!Z12)),IF(J_V="SI",Datos!J12,Datos!J12+Datos!Z12)," - ") -> 1623 | F12: =IF(ISNUMBER(E12/B12),E12/B12," - ") -> 270.5 | G12: =IF(ISNUMBER(IF(J_V="SI",Datos!K12,Datos!K12+Datos!AA12)),IF(J_V="SI",Datos!K12,Datos!K12+Datos!AA12)," - ") -> 2565 | H12: =IF(ISNUMBER(G12/B12),G12/B12," - ") -> 427.5 | I12: =IF(ISNUMBER(IF(J_V="SI",Datos!L12,Datos!L12+Datos!AB12)),IF(J_V="SI",Datos!L12,Datos!L12+Datos!AB12)," - ") -> 6071 | J12: =IF(ISNUMBER(I12/B12),I12/B12," - ") -> 1011.8333 | K12: =IF(ISNUMBER(Datos!EO12),Datos!EO12," - ") -> - | L12: =K12*factor_trimestre/Datos!ER12 -> #VALUE! | M12: =IF(ISNUMBER(Datos!EP12),Datos!EP12," - ") -> - | N12: =IF(ISNUMBER(Datos!EQ12),Datos!EQ12," - ") -> - | BQ12: =Datos!EZ12 -> 0
A13: =Datos!A13 -> TOTAL | B13: =Datos!AP13 -> 6 | C13: =SUBTOTAL(9,C8:C12) -> 7111 | D13: =IF(ISNUMBER(C13/Datos!BI13),C13/Datos!BI13," - ") -> - | E13: =SUBTOTAL(9,E8:E12) -> 1634 | F13: =IF(ISNUMBER(E13/B13),E13/B13," - ") -> 272.33333 | G13: =SUBTOTAL(9,G8:G12) -> 2577 | H13: =IF(ISNUMBER(G13/B13),G13/B13," - ") -> 429.5 | I13: =SUBTOTAL(9,I8:I12) -> 6168 | J13: =IF(ISNUMBER(I13/B13),I13/B13," - ") -> 1028 | K13: =SUBTOTAL(9,K8:K12) -> 0 | M13: =SUBTOTAL(9,M8:M12) -> 0 | N13: =SUBTOTAL(9,N8:N12) -> 0
A14: =Datos!A14 -> Jurisdicción Penal ( 2 ): | BQ14: =Datos!EZ14 -> 0
A15: =Datos!A15 -> Jdos. Instrucción | B15: =Datos!AO15 -> 0 | C15: =IF(ISNUMBER(IF(D_I="SI",Datos!I15,Datos!I15+Datos!AC15)),IF(D_I="SI",Datos!I15,Datos!I15+Datos!AC15)," - ") -> - | D15: =IF(ISNUMBER(C15/Datos!BH15),C15/Datos!BH15," - ") -> - | E15: =IF(ISNUMBER(IF(D_I="SI",Datos!J15,Datos!J15+Datos!AD15)),IF(D_I="SI",Datos!J15,Datos!J15+Datos!AD15)," - ") -> - | F15: =IF(ISNUMBER(E15/B15),E15/B15," - ") -> - | G15: =IF(ISNUMBER(IF(D_I="SI",Datos!K15,Datos!K15+Datos!AE15)),IF(D_I="SI",Datos!K15,Datos!K15+Datos!AE15)," - ") -> - | H15: =IF(ISNUMBER(G15/B15),G15/B15," - ") -> - | I15: =IF(ISNUMBER(IF(D_I="SI",Datos!L15,Datos!L15+Datos!AF15)),IF(D_I="SI",Datos!L15,Datos!L15+Datos!AF15)," - ") -> - | J15: =IF(ISNUMBER(I15/B15),I15/B15," - ") -> - | K15: =IF(ISNUMBER(Datos!EO15),Datos!EO15," - ") -> - | L15: =K15*factor_trimestre/Datos!ER15 -> #VALUE! | M15: =IF(ISNUMBER(Datos!EP15),Datos!EP15," - ") -> - | N15: =IF(ISNUMBER(Datos!EQ15),Datos!EQ15," - ") -> - | BQ15: =Datos!EZ15 -> 0
A16: =Datos!A16 -> Jdos. 1ª Instª. e Instr./Secc. Civil y de Inst. TI | B16: =Datos!AO16 -> 6 | C16: =IF(ISNUMBER(IF(D_I="SI",Datos!I16,Datos!I16+Datos!AC16)),IF(D_I="SI",Datos!I16,Datos!I16+Datos!AC16)," - ") -> 3362 | D16: =IF(ISNUMBER(C16/Datos!BH16),C16/Datos!BH16," - ") -> 560.33333 | E16: =IF(ISNUMBER(IF(D_I="SI",Datos!J16,Datos!J16+Datos!AD16)),IF(D_I="SI",Datos!J16,Datos!J16+Datos!AD16)," - ") -> 1795 | F16: =IF(ISNUMBER(E16/B16),E16/B16," - ") -> 299.16667 | G16: =IF(ISNUMBER(IF(D_I="SI",Datos!K16,Datos!K16+Datos!AE16)),IF(D_I="SI",Datos!K16,Datos!K16+Datos!AE16)," - ") -> 1556 | H16: =IF(ISNUMBER(G16/B16),G16/B16," - ") -> 259.33333 | I16: =IF(ISNUMBER(IF(D_I="SI",Datos!L16,Datos!L16+Datos!AF16)),IF(D_I="SI",Datos!L16,Datos!L16+Datos!AF16)," - ") -> 3347 | J16: =IF(ISNUMBER(I16/B16),I16/B16," - ") -> 557.83333 | K16: =IF(ISNUMBER(Datos!EO16),Datos!EO16," - ") -> - | L16: =K16*factor_trimestre/Datos!ER16 -> #VALUE! | M16: =IF(ISNUMBER(Datos!EP16),Datos!EP16," - ") -> - | N16: =IF(ISNUMBER(Datos!EQ16),Datos!EQ16," - ") -> - | BQ16: =Datos!EZ16 -> 0
A17: =Datos!A17 -> Jdos. Violencia contra la mujer/Secc Viol. TI. | B17: =Datos!AO17 -> 1 | C17: =IF(ISNUMBER(IF(D_I="SI",Datos!I17,Datos!I17+Datos!AC17)),IF(D_I="SI",Datos!I17,Datos!I17+Datos!AC17)," - ") -> 75 | D17: =IF(ISNUMBER(C17/Datos!BH17),C17/Datos!BH17," - ") -> 75 | E17: =IF(ISNUMBER(IF(D_I="SI",Datos!J17,Datos!J17+Datos!AD17)),IF(D_I="SI",Datos!J17,Datos!J17+Datos!AD17)," - ") -> 106 | F17: =IF(ISNUMBER(E17/B17),E17/B17," - ") -> 106 | G17: =IF(ISNUMBER(IF(D_I="SI",Datos!K17,Datos!K17+Datos!AE17)),IF(D_I="SI",Datos!K17,Datos!K17+Datos!AE17)," - ") -> 132 | H17: =IF(ISNUMBER(G17/B17),G17/B17," - ") -> 132 | I17: =IF(ISNUMBER(IF(D_I="SI",Datos!L17,Datos!L17+Datos!AF17)),IF(D_I="SI",Datos!L17,Datos!L17+Datos!AF17)," - ") -> 49 | J17: =IF(ISNUMBER(I17/B17),I17/B17," - ") -> 49 | K17: =IF(ISNUMBER(Datos!EO17),Datos!EO17," - ") -> - | L17: =K17*factor_trimestre/Datos!ER17 -> #VALUE! | M17: =IF(ISNUMBER(Datos!EP17),Datos!EP17," - ") -> - | N17: =IF(ISNUMBER(Datos!EQ17),Datos!EQ17," - ") -> - | BQ17: =Datos!EZ17 -> 0
A18: =Datos!A18 -> TOTAL | B18: =Datos!AP18 -> 6 | C18: =SUBTOTAL(9,C14:C17) -> 3437 | D18: =IF(ISNUMBER(C18/Datos!BI18),C18/Datos!BI18," - ") -> - | E18: =SUBTOTAL(9,E14:E17) -> 1901 | F18: =IF(ISNUMBER(E18/B18),E18/B18," - ") -> 316.83333 | G18: =SUBTOTAL(9,G14:G17) -> 1688 | H18: =IF(ISNUMBER(G18/B18),G18/B18," - ") -> 281.33333 | I18: =SUBTOTAL(9,I14:I17) -> 3396 | J18: =IF(ISNUMBER(I18/B18),I18/B18," - ") -> 566 | K18: =SUBTOTAL(9,K14:K17) -> 0 | M18: =SUBTOTAL(9,M14:M17) -> 0 | N18: =SUBTOTAL(9,N14:N17) -> 0
A19: =Datos!A19 -> TOTAL JURISDICCIONES | B19: =Datos!AP19 -> 6 | C19: =SUBTOTAL(9,C9:C18) -> 10548 | D19: =IF(ISNUMBER(C19/Datos!BI19),C19/Datos!BI19," - ") -> - | E19: =SUBTOTAL(9,E9:E18) -> 3535 | F19: =IF(ISNUMBER(E19/B19),E19/B19," - ") -> 589.16667 | G19: =SUBTOTAL(9,G9:G18) -> 4265 | H19: =IF(ISNUMBER(G19/B19),G19/B19," - ") -> 710.83333 | I19: =SUBTOTAL(9,I9:I18) -> 9564 | J19: =IF(ISNUMBER(I19/B19),I19/B19," - ") -> 1594 | K19: =SUBTOTAL(9,K9:K18) -> 0 | M19: =SUBTOTAL(9,M9:M18) -> 0 | N19: =SUBTOTAL(9,N9:N18) -> 0
A20: =IF(J_V="NO","(1) Incluida Jurisdicción Voluntaria","(1) Excluída Jurisdicción Voluntaria") -> (1) Incluida Jurisdicción Voluntaria
A21: =IF(D_I="NO","(2) Incluídas Diligencias Indeterminadas","(2) Excluídas Diligencias Indeterminadas") -> (2) Excluídas Diligencias Indeterminadas
A23: =Criterios!A4 -> Fecha Informe: 17 mar. 2026

Sheet Modulos
B2: =Criterios!A9 &" "&Criterios!B9 -> Tribunales de Justicia CATALUÑA
A3: Carga de trabajo por localidades | B3: =Criterios!A10 &" "&Criterios!B10 -> Provincias BARCELONA
B4: =Criterios!A11 &" "&Criterios!B11 -> Resumenes por Partidos Judiciales VIC
A5: ="Año: " &Criterios!B5 -> Año: 2025 | B5: Nº jueces/ magistrados | D5: Nº jueces/ magistrados (que graban) | G5: Entrada Total | I5: Entrada por juzgado/ magistrado | K5: Entrada en relación al Módulo teórico
A7: =Datos!A7 -> COMPETENCIAS | B7: Año Anterior | C7: Año Actual | D7: Año Anterior | E7: Año Actual | F7: Media x Órgano | G7: Año Anterior | H7: Año Actual | I7: Año Anterior | J7: Año Actual | K7: Año Anterior | L7: Año Actual | M7: Módulo teórico
A8: =Datos!A8 -> Jurisdicción Civil ( 1 ):
A9: =Datos!A9 -> Jdos. 1ª Instancia | B9: =Datos!BL9 -> 0 | C9: =Datos!AR9 -> 0 | D9: =Datos!BK9 -> 0 | E9: =Datos!AQ9 -> 0 | F9: =IF(ISNUMBER(E9/Datos!BH9),E9/Datos!BH9," - ") -> - | G9: =IF(ISNUMBER(Datos!BJ9),Datos!BJ9," - ") -> - | H9: =IF(ISNUMBER(Datos!AS9),Datos!AS9," - ") -> - | I9: =IF(ISNUMBER(G9/D9),G9/D9," - ") -> - | J9: =IF(ISNUMBER(H9/E9),H9/E9," - ") -> - | K9: =IF(AND(ISNUMBER(I9/Datos!ER9),(G9<>0)),((I9-Datos!ER9)/Datos!ER9)," - ") -> - | L9: =IF(AND(ISNUMBER(J9/Datos!ER9),(H9<>0)),((J9-Datos!ER9)/Datos!ER9)," - ") -> - | M9: =IF(EXACT(Datos!ER9,""),"-",Datos!ER9) -> 1200
A10: =Datos!A10 -> Jdos. Violencia contra la mujer/Secc Viol. TI. | B10: =Datos!BL10 -> 0 | C10: =Datos!AR10 -> 0 | D10: =Datos!BK10 -> 0 | E10: =Datos!AQ10 -> 0 | F10: =IF(ISNUMBER(E10/Datos!BH10),E10/Datos!BH10," - ") -> 0 | G10: =IF(ISNUMBER(Datos!BJ10),Datos!BJ10," - ") -> - | H10: =IF(ISNUMBER(Datos!AS10),Datos!AS10," - ") -> - | I10: =IF(ISNUMBER(G10/D10),G10/D10," - ") -> - | J10: =IF(ISNUMBER(H10/E10),H10/E10," - ") -> - | K10: =IF(AND(ISNUMBER(I10/Datos!ER10),(G10<>0)),((I10-Datos!ER10)/Datos!ER10)," - ") -> - | L10: =IF(AND(ISNUMBER(J10/Datos!ER10),(H10<>0)),((J10-Datos!ER10)/Datos!ER10)," - ") -> - | M10: =IF(EXACT(Datos!ER10,""),"-",Datos!ER10) -> 1600
A11: =Datos!A11 -> Jdos. Familia | B11: =Datos!BL11 -> 0 | C11: =Datos!AR11 -> 0 | D11: =Datos!BK11 -> 0 | E11: =Datos!AQ11 -> 0 | F11: =IF(ISNUMBER(E11/Datos!BH11),E11/Datos!BH11," - ") -> - | G11: =IF(ISNUMBER(Datos!BJ11),Datos!BJ11," - ") -> - | H11: =IF(ISNUMBER(Datos!AS11),Datos!AS11," - ") -> - | I11: =IF(ISNUMBER(G11/D11),G11/D11," - ") -> - | J11: =IF(ISNUMBER(H11/E11),H11/E11," - ") -> - | K11: =IF(AND(ISNUMBER(I11/Datos!ER11),(G11<>0)),((I11-Datos!ER11)/Datos!ER11)," - ") -> - | L11: =IF(AND(ISNUMBER(J11/Datos!ER11),(H11<>0)),((J11-Datos!ER11)/Datos!ER11)," - ") -> - | M11: =IF(EXACT(Datos!ER11,""),"-",Datos!ER11) -> 1323
A12: =Datos!A12 -> Jdos. 1ª Instª. e Instr./Secc. Civil y de Inst. TI | B12: =Datos!BL12 -> 0 | C12: =Datos!AR12 -> 6 | D12: =Datos!BK12 -> 0 | E12: =Datos!AQ12 -> 6 | F12: =IF(ISNUMBER(E12/Datos!BH12),E12/Datos!BH12," - ") -> 1 | G12: =IF(ISNUMBER(Datos!BJ12),Datos!BJ12," - ") -> - | H12: =IF(ISNUMBER(Datos!AS12),Datos!AS12," - ") -> - | I12: =IF(ISNUMBER(G12/D12),G12/D12," - ") -> - | J12: =IF(ISNUMBER(H12/E12),H12/E12," - ") -> - | K12: =IF(AND(ISNUMBER(I12/Datos!ER12),(G12<>0)),((I12-Datos!ER12)/Datos!ER12)," - ") -> - | L12: =IF(AND(ISNUMBER(J12/Datos!ER12),(H12<>0)),((J12-Datos!ER12)/Datos!ER12)," - ") -> - | M12: =IF(EXACT(Datos!ER12,""),"-",Datos!ER12) -> 680
A14: =Datos!A14 -> Jurisdicción Penal ( 2 ):
A15: =Datos!A15 -> Jdos. Instrucción | B15: =Datos!BL15 -> 0 | C15: =Datos!AR15 -> 0 | D15: =Datos!BK15 -> 0 | E15: =Datos!AQ15 -> 0 | F15: =IF(ISNUMBER(E15/Datos!BH15),E15/Datos!BH15," - ") -> - | G15: =IF(ISNUMBER(Datos!BJ15),Datos!BJ15," - ") -> - | H15: =IF(ISNUMBER(Datos!AS15),Datos!AS15," - ") -> - | I15: =IF(ISNUMBER(G15/D15),G15/D15," - ") -> - | J15: =IF(ISNUMBER(H15/E15),H15/E15," - ") -> - | K15: =IF(AND(ISNUMBER(I15/Datos!ER15),(G15<>0)),((I15-Datos!ER15)/Datos!ER15)," - ") -> - | L15: =IF(AND(ISNUMBER(J15/Datos!ER15),(H15<>0)),((J15-Datos!ER15)/Datos!ER15)," - ") -> - | M15: =IF(EXACT(Datos!ER15,""),"-",Datos!ER15) -> 3300
A16: =Datos!A16 -> Jdos. 1ª Instª. e Instr./Secc. Civil y de Inst. TI | B16: =Datos!BL16 -> 0 | C16: =Datos!AR16 -> 6 | D16: =Datos!BK16 -> 0 | E16: =Datos!AQ16 -> 6 | F16: =IF(ISNUMBER(E16/Datos!BH16),E16/Datos!BH16," - ") -> 1 | G16: =IF(ISNUMBER(Datos!BJ16),Datos!BJ16," - ") -> - | H16: =IF(ISNUMBER(Datos!AS16),Datos!AS16," - ") -> - | I16: =IF(ISNUMBER(G16/D16),G16/D16," - ") -> - | J16: =IF(ISNUMBER(H16/E16),H16/E16," - ") -> - | K16: =IF(AND(ISNUMBER(I16/Datos!ER16),(G16<>0)),((I16-Datos!ER16)/Datos!ER16)," - ") -> - | L16: =IF(AND(ISNUMBER(J16/Datos!ER16),(H16<>0)),((J16-Datos!ER16)/Datos!ER16)," - ") -> - | M16: =IF(EXACT(Datos!ER16,""),"-",Datos!ER16) -> 1000
A17: =Datos!A17 -> Jdos. Violencia contra la mujer/Secc Viol. TI. | B17: =Datos!BL17 -> 0 | C17: =Datos!AR17 -> 0 | D17: =Datos!BK17 -> 0 | E17: =Datos!AQ17 -> 0 | F17: =IF(ISNUMBER(E17/Datos!BH17),E17/Datos!BH17," - ") -> 0 | G17: =IF(ISNUMBER(Datos!BJ17),Datos!BJ17," - ") -> - | H17: =IF(ISNUMBER(Datos!AS17),Datos!AS17," - ") -> - | I17: =IF(ISNUMBER(G17/D17),G17/D17," - ") -> - | J17: =IF(ISNUMBER(H17/E17),H17/E17," - ") -> - | K17: =IF(AND(ISNUMBER(I17/Datos!ER17),(G17<>0)),((I17-Datos!ER17)/Datos!ER17)," - ") -> - | L17: =IF(AND(ISNUMBER(J17/Datos!ER17),(H17<>0)),((J17-Datos!ER17)/Datos!ER17)," - ") -> - | M17: =IF(EXACT(Datos!ER17,""),"-",Datos!ER17) -> 1600
A23: =Criterios!A4 -> Fecha Informe: 17 mar. 2026

Sheet Resol  Asuntos
B2: =Criterios!A9 &" "&Criterios!B9 -> Tribunales de Justicia CATALUÑA
A3: Resolución de Asuntos | B3: =Criterios!A10 &" "&Criterios!B10 -> Provincias BARCELONA
B4: =Criterios!A11 &" "&Criterios!B11 -> Resumenes por Partidos Judiciales VIC
A5: ="Año: " &Criterios!B5 & " Trimestre " &Criterios!D5 & " al " &Criterios!D6 -> Año: 2025 Trimestre 4 al 4 | B5: Órganos | C5: Magistrados, Jueces | D5: SENTENCIAS | F5: AUTOS | H5: DECRETOS
A7: =Datos!A7 -> COMPETENCIAS | B7: Nº | C7: Nº | D7: Nº Sentencias | E7: Media x Órgano | F7: Nº Autos | G7: Media x Órgano | H7: Nº Decretos | I7: Media x Órgano
A8: =Datos!A8 -> Jurisdicción Civil ( 1 ):
A9: =Datos!A9 -> Jdos. 1ª Instancia | B9: =Datos!AO9 -> 0 | C9: =Datos!AQ9 -> 0 | D9: =IF(ISNUMBER(Datos!M9),Datos!M9," - ") -> - | E9: =IF(ISNUMBER(D9/B9),D9/B9," - ") -> - | F9: =IF(ISNUMBER(Datos!N9),Datos!N9," - ") -> - | G9: =IF(ISNUMBER(F9/B9),F9/B9," - ") -> - | H9: =IF(ISNUMBER(Datos!O9),Datos!O9," - ") -> - | I9: =IF(ISNUMBER(H9/B9),H9/B9," - ") -> - | BZ9: =Datos!EZ9 -> 0
A10: =Datos!A10 -> Jdos. Violencia contra la mujer/Secc Viol. TI. | B10: =Datos!AO10 -> 1 | C10: =Datos!AQ10 -> 0 | D10: =IF(ISNUMBER(Datos!M10),Datos!M10," - ") -> 8 | E10: =IF(ISNUMBER(D10/B10),D10/B10," - ") -> 8 | F10: =IF(ISNUMBER(Datos!N10),Datos!N10," - ") -> 4 | G10: =IF(ISNUMBER(F10/B10),F10/B10," - ") -> 4 | H10: =IF(ISNUMBER(Datos!O10),Datos!O10," - ") -> 1 | I10: =IF(ISNUMBER(H10/B10),H10/B10," - ") -> 1 | BZ10: =Datos!EZ10 -> 0
A11: =Datos!A11 -> Jdos. Familia | B11: =Datos!AO11 -> 0 | C11: =Datos!AQ11 -> 0 | D11: =IF(ISNUMBER(Datos!M11),Datos!M11," - ") -> - | E11: =IF(ISNUMBER(D11/B11),D11/B11," - ") -> - | F11: =IF(ISNUMBER(Datos!N11),Datos!N11," - ") -> - | G11: =IF(ISNUMBER(F11/B11),F11/B11," - ") -> - | H11: =IF(ISNUMBER(Datos!O11),Datos!O11," - ") -> - | I11: =IF(ISNUMBER(H11/B11),H11/B11," - ") -> - | BZ11: =Datos!EZ11 -> 0
A12: =Datos!A12 -> Jdos. 1ª Instª. e Instr./Secc. Civil y de Inst. TI | B12: =Datos!AO12 -> 6 | C12: =Datos!AQ12 -> 6 | D12: =IF(ISNUMBER(Datos!M12),Datos!M12," - ") -> 442 | E12: =IF(ISNUMBER(D12/B12),D12/B12," - ") -> 73.666667 | F12: =IF(ISNUMBER(Datos!N12),Datos!N12," - ") -> 1295 | G12: =IF(ISNUMBER(F12/B12),F12/B12," - ") -> 215.83333 | H12: =IF(ISNUMBER(Datos!O12),Datos!O12," - ") -> 744 | I12: =IF(ISNUMBER(H12/B12),H12/B12," - ") -> 124 | BZ12: =Datos!EZ12 -> 0
A13: =Datos!A13 -> TOTAL | B13: =Datos!AP13 -> 6 | C13: =Datos!AR13 -> 6 | D13: =SUBTOTAL(9,D9:D12) -> 450 | E13: =IF(ISNUMBER(D13/B13),D13/B13," - ") -> 75 | F13: =SUBTOTAL(9,F9:F12) -> 1299 | G13: =IF(ISNUMBER(F13/B13),F13/B13," - ") -> 216.5 | H13: =SUBTOTAL(9,H9:H12) -> 745 | I13: =IF(ISNUMBER(H13/B13),H13/B13," - ") -> 124.16667
A14: =Datos!A14 -> Jurisdicción Penal ( 2 ): | B14: =Datos!AO14 -> 0 | BZ14: =Datos!EZ14 -> 0
A15: =Datos!A15 -> Jdos. Instrucción | B15: =Datos!AO15 -> 0 | C15: =Datos!AQ15 -> 0 | D15: =IF(ISNUMBER(Datos!M15),Datos!M15," - ") -> - | E15: =IF(ISNUMBER(D15/B15),D15/B15," - ") -> - | F15: =IF(ISNUMBER(Datos!N15),Datos!N15," - ") -> - | G15: =IF(ISNUMBER(F15/B15),F15/B15," - ") -> - | H15: =IF(ISNUMBER(Datos!O15),Datos!O15," - ") -> - | I15: =IF(ISNUMBER(H15/B15),H15/B15," - ") -> - | BZ15: =Datos!EZ15 -> 0
A16: =Datos!A16 -> Jdos. 1ª Instª. e Instr./Secc. Civil y de Inst. TI | B16: =Datos!AO16 -> 6 | C16: =Datos!AQ16 -> 6 | D16: =IF(ISNUMBER(Datos!M16),Datos!M16," - ") -> 259 | E16: =IF(ISNUMBER(D16/B16),D16/B16," - ") -> 43.166667 | F16: =IF(ISNUMBER(Datos!N16),Datos!N16," - ") -> 803 | G16: =IF(ISNUMBER(F16/B16),F16/B16," - ") -> 133.83333 | H16: =IF(ISNUMBER(Datos!O16),Datos!O16," - ") -> 6 | I16: =IF(ISNUMBER(H16/B16),H16/B16," - ") -> 1 | BZ16: =Datos!EZ16 -> 0
A17: =Datos!A17 -> Jdos. Violencia contra la mujer/Secc Viol. TI. | B17: =Datos!AO17 -> 1 | C17: =Datos!AQ17 -> 0 | D17: =IF(ISNUMBER(Datos!M17),Datos!M17," - ") -> 18 | E17: =IF(ISNUMBER(D17/B17),D17/B17," - ") -> 18 | F17: =IF(ISNUMBER(Datos!N17),Datos!N17," - ") -> 72 | G17: =IF(ISNUMBER(F17/B17),F17/B17," - ") -> 72 | H17: =IF(ISNUMBER(Datos!O17),Datos!O17," - ") -> 0 | I17: =IF(ISNUMBER(H17/B17),H17/B17," - ") -> 0 | BZ17: =Datos!EZ17 -> 0
A18: =Datos!A18 -> TOTAL | B18: =Datos!AP18 -> 6 | C18: =Datos!AR18 -> 6 | D18: =SUBTOTAL(9,D15:D17) -> 277 | E18: =IF(ISNUMBER(D18/B18),D18/B18," - ") -> 46.166667 | F18: =SUBTOTAL(9,F15:F17) -> 875 | G18: =IF(ISNUMBER(F18/B18),F18/B18," - ") -> 145.83333 | H18: =SUBTOTAL(9,H15:H17) -> 6 | I18: =IF(ISNUMBER(H18/B18),H18/B18," - ") -> 1
A19: =Datos!A19 -> TOTAL JURISDICCIONES | B19: =Datos!AP19 -> 6 | C19: =Datos!AR19 -> 6 | D19: =SUBTOTAL(9,D8:D18) -> 727 | E19: =IF(ISNUMBER(D19/B19),D19/B19," - ") -> 121.16667 | F19: =SUBTOTAL(9,F8:F18) -> 2174 | G19: =IF(ISNUMBER(F19/B19),F19/B19," - ") -> 362.33333 | H19: =SUBTOTAL(9,H8:H18) -> 751 | I19: =IF(ISNUMBER(H19/B19),H19/B19," - ") -> 125.16667
A22: =Criterios!A4 -> Fecha Informe: 17 mar. 2026

Sheet Ejecu  Sentencias
B2: =Criterios!A9 &" "&Criterios!B9 -> Tribunales de Justicia CATALUÑA
A3: Ejecución de Sentencias | B3: =Criterios!A10 &" "&Criterios!B10 -> Provincias BARCELONA
B4: =Criterios!A11 &" "&Criterios!B11 -> Resumenes por Partidos Judiciales VIC
A5: ="Año: " &Criterios!B5 & " Trimestre " &Criterios!D5 & " al " &Criterios!D6 -> Año: 2025 Trimestre 4 al 4 | B5: Registradas | C5: Resueltas | D5: En Tramite Al Final Del Periodo
A7: =Datos!A7 -> COMPETENCIAS
A8: =Datos!A8 -> Jurisdicción Civil ( 1 ):
A9: =Datos!A9 -> Jdos. 1ª Instancia | B9: =IF(ISNUMBER(Datos!P9),Datos!P9," - ") -> - | C9: =IF(ISNUMBER(Datos!Q9),Datos!Q9," - ") -> - | D9: =IF(ISNUMBER(Datos!R9),Datos!R9," - ") -> -
A10: =Datos!A10 -> Jdos. Violencia contra la mujer/Secc Viol. TI. | B10: =IF(ISNUMBER(Datos!P10),Datos!P10," - ") -> 9 | C10: =IF(ISNUMBER(Datos!Q10),Datos!Q10," - ") -> 1 | D10: =IF(ISNUMBER(Datos!R10),Datos!R10," - ") -> 67
A11: =Datos!A11 -> Jdos. Familia | B11: =IF(ISNUMBER(Datos!P11),Datos!P11," - ") -> - | C11: =IF(ISNUMBER(Datos!Q11),Datos!Q11," - ") -> - | D11: =IF(ISNUMBER(Datos!R11),Datos!R11," - ") -> -
A12: =Datos!A12 -> Jdos. 1ª Instª. e Instr./Secc. Civil y de Inst. TI | B12: =IF(ISNUMBER(Datos!P12),Datos!P12," - ") -> 639 | C12: =IF(ISNUMBER(Datos!Q12),Datos!Q12," - ") -> 232 | D12: =IF(ISNUMBER(Datos!R12),Datos!R12," - ") -> 9056
A13: =Datos!A13 -> TOTAL | B13: =SUBTOTAL(9,B9:B12) -> 648 | C13: =SUBTOTAL(9,C9:C12) -> 233 | D13: =SUBTOTAL(9,D9:D12) -> 9123
A14: =Datos!A14 -> Jurisdicción Penal ( 2 ):
A15: =Datos!A15 -> Jdos. Instrucción | B15: =IF(ISNUMBER(Datos!P15),Datos!P15," - ") -> - | C15: =IF(ISNUMBER(Datos!Q15),Datos!Q15," - ") -> - | D15: =IF(ISNUMBER(Datos!R15),Datos!R15," - ") -> -
A16: =Datos!A16 -> Jdos. 1ª Instª. e Instr./Secc. Civil y de Inst. TI | B16: =IF(ISNUMBER(Datos!P16),Datos!P16," - ") -> 38 | C16: =IF(ISNUMBER(Datos!Q16),Datos!Q16," - ") -> 34 | D16: =IF(ISNUMBER(Datos!R16),Datos!R16," - ") -> 339
A17: =Datos!A17 -> Jdos. Violencia contra la mujer/Secc Viol. TI. | B17: =IF(ISNUMBER(Datos!P17),Datos!P17," - ") -> 0 | C17: =IF(ISNUMBER(Datos!Q17),Datos!Q17," - ") -> 1 | D17: =IF(ISNUMBER(Datos!R17),Datos!R17," - ") -> 6
A18: =Datos!A18 -> TOTAL | B18: =SUBTOTAL(9,B15:B17) -> 38 | C18: =SUBTOTAL(9,C15:C17) -> 35 | D18: =SUBTOTAL(9,D15:D17) -> 345
A19: =Datos!A19 -> TOTAL JURISDICCIONES | B19: =SUBTOTAL(9,B8:B18) -> 686 | C19: =SUBTOTAL(9,C8:C18) -> 268 | D19: =SUBTOTAL(9,D8:D18) -> 9468
A22: =Criterios!A4 -> Fecha Informe: 17 mar. 2026

Sheet Evolución
B2: =Criterios!A9 &" "&Criterios!B9 -> Tribunales de Justicia CATALUÑA
A3: Evolución | B3: =Criterios!A10 &" "&Criterios!B10 -> Provincias BARCELONA
B4: =Criterios!A11 &" "&Criterios!B11 -> Resumenes por Partidos Judiciales VIC
A5: ="Año: " &Criterios!B5 & " Trimestre " &Criterios!D5 & " al " &Criterios!D6 -> Año: 2025 Trimestre 4 al 4 | B5: En Tramite Al Inicio Del Periodo | C5: Ingresados | D5: Resueltos | E5: En Tramite Al Final Del Periodo | F5: Sentencias | G5: Autos | H5: Tasas Resolución | I5: Tasas Pendencia | J5: Tasas Sentencia | K5: Tasas Congestión
A7: =Datos!A7 -> COMPETENCIAS
A8: =Datos!A8 -> Jurisdicción Civil ( 1 ):
A9: =Datos!A9 -> Jdos. 1ª Instancia | B9: =IF(ISNUMBER( IF(J_V="SI",(Datos!I9-Datos!S9)/Datos!S9,(Datos!I9+Datos!Y9-(Datos!S9+Datos!AG9))/(Datos!S9+Datos!AG9)) ),IF(J_V="SI",(Datos!I9-Datos!S9)/Datos!S9,(Datos!I9+Datos!Y9-(Datos!S9+Datos!AG9))/(Datos!S9+Datos!AG9))," - ") -> - | C9: =IF(ISNUMBER( IF(J_V="SI",(Datos!J9-Datos!T9)/Datos!T9,(Datos!J9+Datos!Z9-(Datos!T9+Datos!AH9))/(Datos!T9+Datos!AH9)) ),IF(J_V="SI",(Datos!J9-Datos!T9)/Datos!T9,(Datos!J9+Datos!Z9-(Datos!T9+Datos!AH9))/(Datos!T9+Datos!AH9))," - ") -> - | D9: =IF(ISNUMBER( IF(J_V="SI",(Datos!K9-Datos!U9)/Datos!U9,(Datos!K9+Datos!AA9-(Datos!U9+Datos!AI9))/(Datos!U9+Datos!AI9)) ),IF(J_V="SI",(Datos!K9-Datos!U9)/Datos!U9,(Datos!K9+Datos!AA9-(Datos!U9+Datos!AI9))/(Datos!U9+Datos!AI9))," - ") -> - | E9: =IF(ISNUMBER( IF(J_V="SI",(Datos!L9-Datos!V9)/Datos!V9,(Datos!L9+Datos!AB9-(Datos!V9+Datos!AJ9))/(Datos!V9+Datos!AJ9)) ),IF(J_V="SI",(Datos!L9-Datos!V9)/Datos!V9,(Datos!L9+Datos!AB9-(Datos!V9+Datos!AJ9))/(Datos!V9+Datos!AJ9))," - ") -> - | F9: =IF(ISNUMBER((Datos!M9-Datos!W9)/Datos!W9),(Datos!M9-Datos!W9)/Datos!W9," - ") -> - | G9: =IF(ISNUMBER((Datos!N9-Datos!X9)/Datos!X9),(Datos!N9-Datos!X9)/Datos!X9," - ") -> - | H9: =IF(ISNUMBER(((NºAsuntos!G9/NºAsuntos!E9)-Datos!BD9)/Datos!BD9),((NºAsuntos!G9/NºAsuntos!E9)-Datos!BD9)/Datos!BD9," - ") -> - | I9: =IF(ISNUMBER(((NºAsuntos!I9/NºAsuntos!G9)-Datos!BE9)/Datos!BE9),((NºAsuntos!I9/NºAsuntos!G9)-Datos!BE9)/Datos!BE9," - ") -> - | J9: =IF(ISNUMBER((('Resol Asuntos'!D9/NºAsuntos!G9)-Datos!BF9)/Datos!BF9),(('Resol Asuntos'!D9/NºAsuntos!G9)-Datos!BF9)/Datos!BF9," - ") -> - | K9: =IF(ISNUMBER((((NºAsuntos!C9+NºAsuntos!E9)/NºAsuntos!G9)-Datos!BG9)/Datos!BG9),(((NºAsuntos!C9+NºAsuntos!E9)/NºAsuntos!G9)-Datos!BG9)/Datos!BG9," - ") -> -
A10: =Datos!A10 -> Jdos. Violencia contra la mujer/Secc Viol. TI. | B10: =IF(ISNUMBER((Datos!I10-Datos!S10)/Datos!S10),(Datos!I10-Datos!S10)/Datos!S10," - ") -> 0.010309278 | C10: =IF(ISNUMBER((Datos!J10-Datos!T10)/Datos!T10),(Datos!J10-Datos!T10)/Datos!T10," - ") -> -0.26666667 | D10: =IF(ISNUMBER((Datos!K10-Datos!U10)/Datos!U10),(Datos!K10-Datos!U10)/Datos!U10," - ") -> -0.57142857 | E10: =IF(ISNUMBER((Datos!L10-Datos!V10)/Datos!V10),(Datos!L10-Datos!V10)/Datos!V10," - ") -> 0.1547619 | F10: =IF(ISNUMBER((Datos!M10-Datos!W10)/Datos!W10),(Datos!M10-Datos!W10)/Datos!W10," - ") -> -0.27272727 | G10: =IF(ISNUMBER((Datos!N10-Datos!X10)/Datos!X10),(Datos!N10-Datos!X10)/Datos!X10," - ") -> -0.69230769 | H10: =IF(ISNUMBER(((NºAsuntos!G10/NºAsuntos!E10)-Datos!BD10)/Datos!BD10),((NºAsuntos!G10/NºAsuntos!E10)-Datos!BD10)/Datos!BD10," - ") -> -0.41558442 | I10: =IF(ISNUMBER(((NºAsuntos!I10/NºAsuntos!G10)-Datos!BE10)/Datos!BE10),((NºAsuntos!I10/NºAsuntos!G10)-Datos!BE10)/Datos!BE10," - ") -> 1.6944444 | J10: =IF(ISNUMBER((('Resol Asuntos'!D10/NºAsuntos!G10)-Datos!BF10)/Datos!BF10),(('Resol Asuntos'!D10/NºAsuntos!G10)-Datos!BF10)/Datos!BF10," - ") -> 0.6969697 | K10: =IF(ISNUMBER((((NºAsuntos!C10+NºAsuntos!E10)/NºAsuntos!G10)-Datos!BG10)/Datos!BG10),(((NºAsuntos!C10+NºAsuntos!E10)/NºAsuntos!G10)-Datos!BG10)/Datos!BG10," - ") -> 1.2708333
A11: =Datos!A11 -> Jdos. Familia | B11: =IF(ISNUMBER( IF(J_V="SI",(Datos!I11-Datos!S11)/Datos!S11,(Datos!I11+Datos!Y11-(Datos!S11+Datos!AG11))/(Datos!S11+Datos!AG11)) ),IF(J_V="SI",(Datos!I11-Datos!S11)/Datos!S11,(Datos!I11+Datos!Y11-(Datos!S11+Datos!AG11))/(Datos!S11+Datos!AG11))," - ") -> - | C11: =IF(ISNUMBER( IF(J_V="SI",(Datos!J11-Datos!T11)/Datos!T11,(Datos!J11+Datos!Z11-(Datos!T11+Datos!AH11))/(Datos!T11+Datos!AH11)) ),IF(J_V="SI",(Datos!J11-Datos!T11)/Datos!T11,(Datos!J11+Datos!Z11-(Datos!T11+Datos!AH11))/(Datos!T11+Datos!AH11))," - ") -> - | D11: =IF(ISNUMBER( IF(J_V="SI",(Datos!K11-Datos!U11)/Datos!U11,(Datos!K11+Datos!AA11-(Datos!U11+Datos!AI11))/(Datos!U11+Datos!AI11)) ),IF(J_V="SI",(Datos!K11-Datos!U11)/Datos!U11,(Datos!K11+Datos!AA11-(Datos!U11+Datos!AI11))/(Datos!U11+Datos!AI11))," - ") -> - | E11: =IF(ISNUMBER( IF(J_V="SI",(Datos!L11-Datos!V11)/Datos!V11,(Datos!L11+Datos!AB11-(Datos!V11+Datos!AJ11))/(Datos!V11+Datos!AJ11)) ),IF(J_V="SI",(Datos!L11-Datos!V11)/Datos!V11,(Datos!L11+Datos!AB11-(Datos!V11+Datos!AJ11))/(Datos!V11+Datos!AJ11))," - ") -> - | F11: =IF(ISNUMBER((Datos!M11-Datos!W11)/Datos!W11),(Datos!M11-Datos!W11)/Datos!W11," - ") -> - | G11: =IF(ISNUMBER((Datos!N11-Datos!X11)/Datos!X11),(Datos!N11-Datos!X11)/Datos!X11," - ") -> - | H11: =IF(ISNUMBER(((NºAsuntos!G11/NºAsuntos!E11)-Datos!BD11)/Datos!BD11),((NºAsuntos!G11/NºAsuntos!E11)-Datos!BD11)/Datos!BD11," - ") -> - | I11: =IF(ISNUMBER(((NºAsuntos!I11/NºAsuntos!G11)-Datos!BE11)/Datos!BE11),((NºAsuntos!I11/NºAsuntos!G11)-Datos!BE11)/Datos!BE11," - ") -> - | J11: =IF(ISNUMBER((('Resol Asuntos'!D11/NºAsuntos!G11)-Datos!BF11)/Datos!BF11),(('Resol Asuntos'!D11/NºAsuntos!G11)-Datos!BF11)/Datos!BF11," - ") -> - | K11: =IF(ISNUMBER((((NºAsuntos!C11+NºAsuntos!E11)/NºAsuntos!G11)-Datos!BG11)/Datos!BG11),(((NºAsuntos!C11+NºAsuntos!E11)/NºAsuntos!G11)-Datos!BG11)/Datos!BG11," - ") -> -
A12: =Datos!A12 -> Jdos. 1ª Instª. e Instr./Secc. Civil y de Inst. TI | B12: =IF(ISNUMBER( IF(J_V="SI",(Datos!I12-Datos!S12)/Datos!S12,(Datos!I12+Datos!Y12-(Datos!S12+Datos!AG12))/(Datos!S12+Datos!AG12)) ),IF(J_V="SI",(Datos!I12-Datos!S12)/Datos!S12,(Datos!I12+Datos!Y12-(Datos!S12+Datos!AG12))/(Datos!S12+Datos!AG12))," - ") -> 0.056652102 | C12: =IF(ISNUMBER( IF(J_V="SI",(Datos!J12-Datos!T12)/Datos!T12,(Datos!J12+Datos!Z12-(Datos!T12+Datos!AH12))/(Datos!T12+Datos!AH12)) ),IF(J_V="SI",(Datos!J12-Datos!T12)/Datos!T12,(Datos!J12+Datos!Z12-(Datos!T12+Datos!AH12))/(Datos!T12+Datos!AH12))," - ") -> -0.064013841 | D12: =IF(ISNUMBER( IF(J_V="SI",(Datos!K12-Datos!U12)/Datos!U12,(Datos!K12+Datos!AA12-(Datos!U12+Datos!AI12))/(Datos!U12+Datos!AI12)) ),IF(J_V="SI",(Datos!K12-Datos!U12)/Datos!U12,(Datos!K12+Datos!AA12-(Datos!U12+Datos!AI12))/(Datos!U12+Datos!AI12))," - ") -> 0.59813084 | E12: =IF(ISNUMBER( IF(J_V="SI",(Datos!L12-Datos!V12)/Datos!V12,(Datos!L12+Datos!AB12-(Datos!V12+Datos!AJ12))/(Datos!V12+Datos!AJ12)) ),IF(J_V="SI",(Datos!L12-Datos!V12)/Datos!V12,(Datos!L12+Datos!AB12-(Datos!V12+Datos!AJ12))/(Datos!V12+Datos!AJ12))," - ") -> -0.10032602 | F12: =IF(ISNUMBER((Datos!M12-Datos!W12)/Datos!W12),(Datos!M12-Datos!W12)/Datos!W12," - ") -> 0.11616162 | G12: =IF(ISNUMBER((Datos!N12-Datos!X12)/Datos!X12),(Datos!N12-Datos!X12)/Datos!X12," - ") -> 0.95324284 | H12: =IF(ISNUMBER(((NºAsuntos!G12/NºAsuntos!E12)-Datos!BD12)/Datos!BD12),((NºAsuntos!G12/NºAsuntos!E12)-Datos!BD12)/Datos!BD12," - ") -> 0.70742999 | I12: =IF(ISNUMBER(((NºAsuntos!I12/NºAsuntos!G12)-Datos!BE12)/Datos!BE12),((NºAsuntos!I12/NºAsuntos!G12)-Datos!BE12)/Datos!BE12," - ") -> -0.43704611 | J12: =IF(ISNUMBER((('Resol Asuntos'!D12/NºAsuntos!G12)-Datos!BF12)/Datos!BF12),(('Resol Asuntos'!D12/NºAsuntos!G12)-Datos!BF12)/Datos!BF12," - ") -> -0.582846 | K12: =IF(ISNUMBER((((NºAsuntos!C12+NºAsuntos!E12)/NºAsuntos!G12)-Datos!BG12)/Datos!BG12),(((NºAsuntos!C12+NºAsuntos!E12)/NºAsuntos!G12)-Datos!BG12)/Datos!BG12," - ") -> -0.3544603
A13: =Datos!A13 -> TOTAL | B13: =IF(ISNUMBER( IF(J_V="SI",(Datos!I13-Datos!S13)/Datos!S13,(Datos!I13+Datos!Y13-(Datos!S13+Datos!AG13))/(Datos!S13+Datos!AG13)) ),IF(J_V="SI",(Datos!I13-Datos!S13)/Datos!S13,(Datos!I13+Datos!Y13-(Datos!S13+Datos!AG13))/(Datos!S13+Datos!AG13))," - ") -> 0.055984556 | C13: =IF(ISNUMBER( IF(J_V="SI",(Datos!J13-Datos!T13)/Datos!T13,(Datos!J13+Datos!Z13-(Datos!T13+Datos!AH13))/(Datos!T13+Datos!AH13)) ),IF(J_V="SI",(Datos!J13-Datos!T13)/Datos!T13,(Datos!J13+Datos!Z13-(Datos!T13+Datos!AH13))/(Datos!T13+Datos!AH13))," - ") -> -0.065751858 | D13: =IF(ISNUMBER( IF(J_V="SI",(Datos!K13-Datos!U13)/Datos!U13,(Datos!K13+Datos!AA13-(Datos!U13+Datos!AI13))/(Datos!U13+Datos!AI13)) ),IF(J_V="SI",(Datos!K13-Datos!U13)/Datos!U13,(Datos!K13+Datos!AA13-(Datos!U13+Datos!AI13))/(Datos!U13+Datos!AI13))," - ") -> 0.57807716 | E13: =IF(ISNUMBER( IF(J_V="SI",(Datos!L13-Datos!V13)/Datos!V13,(Datos!L13+Datos!AB13-(Datos!V13+Datos!AJ13))/(Datos!V13+Datos!AJ13)) ),IF(J_V="SI",(Datos!L13-Datos!V13)/Datos!V13,(Datos!L13+Datos!AB13-(Datos!V13+Datos!AJ13))/(Datos!V13+Datos!AJ13))," - ") -> -0.097189696 | F13: =IF(ISNUMBER((Datos!M13-Datos!W13)/Datos!W13),(Datos!M13-Datos!W13)/Datos!W13," - ") -> 0.10565111 | G13: =IF(ISNUMBER((Datos!N13-Datos!X13)/Datos!X13),(Datos!N13-Datos!X13)/Datos!X13," - ") -> 0.92159763 | H13: =IF(ISNUMBER(((NºAsuntos!G13/NºAsuntos!E13)-Datos!BD13)/Datos!BD13),((NºAsuntos!G13/NºAsuntos!E13)-Datos!BD13)/Datos!BD13," - ") -> 0.68914134 | I13: =IF(ISNUMBER(((NºAsuntos!I13/NºAsuntos!G13)-Datos!BE13)/Datos!BE13),((NºAsuntos!I13/NºAsuntos!G13)-Datos!BE13)/Datos!BE13," - ") -> -0.42790484 | J13: =IF(ISNUMBER((('Resol Asuntos'!D13/NºAsuntos!G13)-Datos!BF13)/Datos!BF13),(('Resol Asuntos'!D13/NºAsuntos!G13)-Datos!BF13)/Datos!BF13," - ") -> -0.57691816 | K13: =IF(ISNUMBER((((NºAsuntos!C13+NºAsuntos!E13)/NºAsuntos!G13)-Datos!BG13)/Datos!BG13),(((NºAsuntos!C13+NºAsuntos!E13)/NºAsuntos!G13)-Datos!BG13)/Datos!BG13," - ") -> -0.34674595
A14: =Datos!A14 -> Jurisdicción Penal ( 2 ):
A15: =Datos!A15 -> Jdos. Instrucción | B15: =IF(ISNUMBER( IF(D_I="SI",(Datos!I15-Datos!S15)/Datos!S15,(Datos!I15+Datos!AC15-(Datos!S15+Datos!AK15))/(Datos!S15+Datos!AK15)) ),IF(D_I="SI",(Datos!I15-Datos!S15)/Datos!S15,(Datos!I15+Datos!AC15-(Datos!S15+Datos!AK15))/(Datos!S15+Datos!AK15))," - ") -> - | C15: =IF(ISNUMBER( IF(D_I="SI",(Datos!J15-Datos!T15)/Datos!T15,(Datos!J15+Datos!AD15-(Datos!T15+Datos!AL15))/(Datos!T15+Datos!AL15)) ),IF(D_I="SI",(Datos!J15-Datos!T15)/Datos!T15,(Datos!J15+Datos!AD15-(Datos!T15+Datos!AL15))/(Datos!T15+Datos!AL15))," - ") -> - | D15: =IF(ISNUMBER( IF(D_I="SI",(Datos!K15-Datos!U15)/Datos!U15,(Datos!K15+Datos!AE15-(Datos!U15+Datos!AM15))/(Datos!U15+Datos!AM15)) ),IF(D_I="SI",(Datos!K15-Datos!U15)/Datos!U15,(Datos!K15+Datos!AE15-(Datos!U15+Datos!AM15))/(Datos!U15+Datos!AM15))," - ") -> - | E15: =IF(ISNUMBER( IF(D_I="SI",(Datos!L15-Datos!V15)/Datos!V15,(Datos!L15+Datos!AF15-(Datos!V15+Datos!AN15))/(Datos!V15+Datos!AN15)) ),IF(D_I="SI",(Datos!L15-Datos!V15)/Datos!V15,(Datos!L15+Datos!AF15-(Datos!V15+Datos!AN15))/(Datos!V15+Datos!AN15))," - ") -> - | F15: =IF(ISNUMBER((Datos!M15-Datos!W15)/Datos!W15),(Datos!M15-Datos!W15)/Datos!W15," - ") -> - | G15: =IF(ISNUMBER((Datos!N15-Datos!X15)/Datos!X15),(Datos!N15-Datos!X15)/Datos!X15," - ") -> - | H15: =IF(ISNUMBER(((NºAsuntos!G15/NºAsuntos!E15)-Datos!BD15)/Datos!BD15),((NºAsuntos!G15/NºAsuntos!E15)-Datos!BD15)/Datos!BD15," - ") -> - | I15: =IF(ISNUMBER(((NºAsuntos!I15/NºAsuntos!G15)-Datos!BE15)/Datos!BE15),((NºAsuntos!I15/NºAsuntos!G15)-Datos!BE15)/Datos!BE15," - ") -> - | J15: =IF(ISNUMBER((('Resol Asuntos'!D15/NºAsuntos!G15)-Datos!BF15)/Datos!BF15),(('Resol Asuntos'!D15/NºAsuntos!G15)-Datos!BF15)/Datos!BF15," - ") -> - | K15: =IF(ISNUMBER((((NºAsuntos!C15+NºAsuntos!E15)/NºAsuntos!G15)-Datos!BG15)/Datos!BG15),(((NºAsuntos!C15+NºAsuntos!E15)/NºAsuntos!G15)-Datos!BG15)/Datos!BG15," - ") -> -
A16: =Datos!A16 -> Jdos. 1ª Instª. e Instr./Secc. Civil y de Inst. TI | B16: =IF(ISNUMBER( IF(D_I="SI",(Datos!I16-Datos!S16)/Datos!S16,(Datos!I16+Datos!AC16-(Datos!S16+Datos!AK16))/(Datos!S16+Datos!AK16)) ),IF(D_I="SI",(Datos!I16-Datos!S16)/Datos!S16,(Datos!I16+Datos!AC16-(Datos!S16+Datos!AK16))/(Datos!S16+Datos!AK16))," - ") -> 0.029078665 | C16: =IF(ISNUMBER( IF(D_I="SI",(Datos!J16-Datos!T16)/Datos!T16,(Datos!J16+Datos!AD16-(Datos!T16+Datos!AL16))/(Datos!T16+Datos!AL16)) ),IF(D_I="SI",(Datos!J16-Datos!T16)/Datos!T16,(Datos!J16+Datos!AD16-(Datos!T16+Datos!AL16))/(Datos!T16+Datos!AL16))," - ") -> -0.0044370494 | D16: =IF(ISNUMBER( IF(D_I="SI",(Datos!K16-Datos!U16)/Datos!U16,(Datos!K16+Datos!AE16-(Datos!U16+Datos!AM16))/(Datos!U16+Datos!AM16)) ),IF(D_I="SI",(Datos!K16-Datos!U16)/Datos!U16,(Datos!K16+Datos!AE16-(Datos!U16+Datos!AM16))/(Datos!U16+Datos!AM16))," - ") -> -0.12189616 | E16: =IF(ISNUMBER( IF(D_I="SI",(Datos!L16-Datos!V16)/Datos!V16,(Datos!L16+Datos!AF16-(Datos!V16+Datos!AN16))/(Datos!V16+Datos!AN16)) ),IF(D_I="SI",(Datos!L16-Datos!V16)/Datos!V16,(Datos!L16+Datos!AF16-(Datos!V16+Datos!AN16))/(Datos!V16+Datos!AN16))," - ") -> 0.094864246 | F16: =IF(ISNUMBER((Datos!M16-Datos!W16)/Datos!W16),(Datos!M16-Datos!W16)/Datos!W16," - ") -> -0.081560284 | G16: =IF(ISNUMBER((Datos!N16-Datos!X16)/Datos!X16),(Datos!N16-Datos!X16)/Datos!X16," - ") -> -0.29561404 | H16: =IF(ISNUMBER(((NºAsuntos!G16/NºAsuntos!E16)-Datos!BD16)/Datos!BD16),((NºAsuntos!G16/NºAsuntos!E16)-Datos!BD16)/Datos!BD16," - ") -> -0.11798261 | I16: =IF(ISNUMBER(((NºAsuntos!I16/NºAsuntos!G16)-Datos!BE16)/Datos!BE16),((NºAsuntos!I16/NºAsuntos!G16)-Datos!BE16)/Datos!BE16," - ") -> 0.24685054 | J16: =IF(ISNUMBER((('Resol Asuntos'!D16/NºAsuntos!G16)-Datos!BF16)/Datos!BF16),(('Resol Asuntos'!D16/NºAsuntos!G16)-Datos!BF16)/Datos!BF16," - ") -> 0.045935204 | K16: =IF(ISNUMBER((((NºAsuntos!C16+NºAsuntos!E16)/NºAsuntos!G16)-Datos!BG16)/Datos!BG16),(((NºAsuntos!C16+NºAsuntos!E16)/NºAsuntos!G16)-Datos!BG16)/Datos!BG16," - ") -> 0.15835932
A17: =Datos!A17 -> Jdos. Violencia contra la mujer/Secc Viol. TI. | B17: =IF(ISNUMBER( IF(D_I="SI",(Datos!I17-Datos!S17)/Datos!S17,(Datos!I17+Datos!AC17-(Datos!S17+Datos!AK17))/(Datos!S17+Datos!AK17)) ),IF(D_I="SI",(Datos!I17-Datos!S17)/Datos!S17,(Datos!I17+Datos!AC17-(Datos!S17+Datos!AK17))/(Datos!S17+Datos!AK17))," - ") -> -0.35897436 | C17: =IF(ISNUMBER( IF(D_I="SI",(Datos!J17-Datos!T17)/Datos!T17,(Datos!J17+Datos!AD17-(Datos!T17+Datos!AL17))/(Datos!T17+Datos!AL17)) ),IF(D_I="SI",(Datos!J17-Datos!T17)/Datos!T17,(Datos!J17+Datos!AD17-(Datos!T17+Datos!AL17))/(Datos!T17+Datos!AL17))," - ") -> -0.38372093 | D17: =IF(ISNUMBER( IF(D_I="SI",(Datos!K17-Datos!U17)/Datos!U17,(Datos!K17+Datos!AE17-(Datos!U17+Datos!AM17))/(Datos!U17+Datos!AM17)) ),IF(D_I="SI",(Datos!K17-Datos!U17)/Datos!U17,(Datos!K17+Datos!AE17-(Datos!U17+Datos!AM17))/(Datos!U17+Datos!AM17))," - ") -> -0.30890052 | E17: =IF(ISNUMBER( IF(D_I="SI",(Datos!L17-Datos!V17)/Datos!V17,(Datos!L17+Datos!AF17-(Datos!V17+Datos!AN17))/(Datos!V17+Datos!AN17)) ),IF(D_I="SI",(Datos!L17-Datos!V17)/Datos!V17,(Datos!L17+Datos!AF17-(Datos!V17+Datos!AN17))/(Datos!V17+Datos!AN17))," - ") -> -0.50505051 | F17: =IF(ISNUMBER((Datos!M17-Datos!W17)/Datos!W17),(Datos!M17-Datos!W17)/Datos!W17," - ") -> 0.28571429 | G17: =IF(ISNUMBER((Datos!N17-Datos!X17)/Datos!X17),(Datos!N17-Datos!X17)/Datos!X17," - ") -> -0.37931034 | H17: =IF(ISNUMBER(((NºAsuntos!G17/NºAsuntos!E17)-Datos!BD17)/Datos!BD17),((NºAsuntos!G17/NºAsuntos!E17)-Datos!BD17)/Datos!BD17," - ") -> 0.1214067 | I17: =IF(ISNUMBER(((NºAsuntos!I17/NºAsuntos!G17)-Datos!BE17)/Datos!BE17),((NºAsuntos!I17/NºAsuntos!G17)-Datos!BE17)/Datos!BE17," - ") -> -0.28382308 | J17: =IF(ISNUMBER((('Resol Asuntos'!D17/NºAsuntos!G17)-Datos!BF17)/Datos!BF17),(('Resol Asuntos'!D17/NºAsuntos!G17)-Datos!BF17)/Datos!BF17," - ") -> 0.86038961 | K17: =IF(ISNUMBER((((NºAsuntos!C17+NºAsuntos!E17)/NºAsuntos!G17)-Datos!BG17)/Datos!BG17),(((NºAsuntos!C17+NºAsuntos!E17)/NºAsuntos!G17)-Datos!BG17)/Datos!BG17," - ") -> -0.093766384
A18: =Datos!A18 -> TOTAL | B18: =IF(ISNUMBER( IF(Criterios!B14="SI",(Datos!I18-Datos!S18)/Datos!S18,(Datos!I18+Datos!AC18-(Datos!S18+Datos!AK18))/(Datos!S18+Datos!AK18)) ),IF(Criterios!B14="SI",(Datos!I18-Datos!S18)/Datos!S18,(Datos!I18+Datos!AC18-(Datos!S18+Datos!AK18))/(Datos!S18+Datos!AK18))," - ") -> 0.015661939 | C18: =IF(ISNUMBER( IF(Criterios!B14="SI",(Datos!J18-Datos!T18)/Datos!T18,(Datos!J18+Datos!AD18-(Datos!T18+Datos!AL18))/(Datos!T18+Datos!AL18)) ),IF(Criterios!B14="SI",(Datos!J18-Datos!T18)/Datos!T18,(Datos!J18+Datos!AD18-(Datos!T18+Datos!AL18))/(Datos!T18+Datos!AL18))," - ") -> -0.037468354 | D18: =IF(ISNUMBER( IF(Criterios!B14="SI",(Datos!K18-Datos!U18)/Datos!U18,(Datos!K18+Datos!AE18-(Datos!U18+Datos!AM18))/(Datos!U18+Datos!AM18)) ),IF(Criterios!B14="SI",(Datos!K18-Datos!U18)/Datos!U18,(Datos!K18+Datos!AE18-(Datos!U18+Datos!AM18))/(Datos!U18+Datos!AM18))," - ") -> -0.1400917 | E18: =IF(ISNUMBER( IF(Criterios!B14="SI",(Datos!L18-Datos!V18)/Datos!V18,(Datos!L18+Datos!AF18-(Datos!V18+Datos!AN18))/(Datos!V18+Datos!AN18)) ),IF(Criterios!B14="SI",(Datos!L18-Datos!V18)/Datos!V18,(Datos!L18+Datos!AF18-(Datos!V18+Datos!AN18))/(Datos!V18+Datos!AN18))," - ") -> 0.076045627 | F18: =IF(ISNUMBER((Datos!M18-Datos!W18)/Datos!W18),(Datos!M18-Datos!W18)/Datos!W18," - ") -> -0.064189189 | G18: =IF(ISNUMBER((Datos!N18-Datos!X18)/Datos!X18),(Datos!N18-Datos!X18)/Datos!X18," - ") -> -0.30334395 | H18: =IF(ISNUMBER(((NºAsuntos!G18/NºAsuntos!E18)-Datos!BD18)/Datos!BD18),((NºAsuntos!G18/NºAsuntos!E18)-Datos!BD18)/Datos!BD18," - ") -> -0.10661815 | I18: =IF(ISNUMBER(((NºAsuntos!I18/NºAsuntos!G18)-Datos!BE18)/Datos!BE18),((NºAsuntos!I18/NºAsuntos!G18)-Datos!BE18)/Datos!BE18," - ") -> 0.25134927 | J18: =IF(ISNUMBER((('Resol Asuntos'!D18/NºAsuntos!G18)-Datos!BF18)/Datos!BF18),(('Resol Asuntos'!D18/NºAsuntos!G18)-Datos!BF18)/Datos!BF18," - ") -> 0.088268141 | K18: =IF(ISNUMBER((((NºAsuntos!C18+NºAsuntos!E18)/NºAsuntos!G18)-Datos!BG18)/Datos!BG18),(((NºAsuntos!C18+NºAsuntos!E18)/NºAsuntos!G18)-Datos!BG18)/Datos!BG18," - ") -> 0.15835765
A19: =Datos!A19 -> TOTAL JURISDICCIONES | B19: =IF(ISNUMBER( IF(J_V="SI",(Datos!I19-Datos!S19)/Datos!S19,(Datos!I19+Datos!Y19-(Datos!S19+Datos!AG19))/(Datos!S19+Datos!AG19)) ),IF(J_V="SI",(Datos!I19-Datos!S19)/Datos!S19,(Datos!I19+Datos!Y19-(Datos!S19+Datos!AG19))/(Datos!S19+Datos!AG19))," - ") -> 0.042498517 | C19: =IF(ISNUMBER( IF(J_V="SI",(Datos!J19-Datos!T19)/Datos!T19,(Datos!J19+Datos!Z19-(Datos!T19+Datos!AH19))/(Datos!T19+Datos!AH19)) ),IF(J_V="SI",(Datos!J19-Datos!T19)/Datos!T19,(Datos!J19+Datos!Z19-(Datos!T19+Datos!AH19))/(Datos!T19+Datos!AH19))," - ") -> -0.05075188 | D19: =IF(ISNUMBER( IF(J_V="SI",(Datos!K19-Datos!U19)/Datos!U19,(Datos!K19+Datos!AA19-(Datos!U19+Datos!AI19))/(Datos!U19+Datos!AI19)) ),IF(J_V="SI",(Datos!K19-Datos!U19)/Datos!U19,(Datos!K19+Datos!AA19-(Datos!U19+Datos!AI19))/(Datos!U19+Datos!AI19))," - ") -> 0.18604004 | E19: =IF(ISNUMBER( IF(J_V="SI",(Datos!L19-Datos!V19)/Datos!V19,(Datos!L19+Datos!AB19-(Datos!V19+Datos!AJ19))/(Datos!V19+Datos!AJ19)) ),IF(J_V="SI",(Datos!L19-Datos!V19)/Datos!V19,(Datos!L19+Datos!AB19-(Datos!V19+Datos!AJ19))/(Datos!V19+Datos!AJ19))," - ") -> -0.042450941 | F19: =IF(ISNUMBER((Datos!M19-Datos!W19)/Datos!W19),(Datos!M19-Datos!W19)/Datos!W19," - ") -> 0.034139403 | G19: =IF(ISNUMBER((Datos!N19-Datos!X19)/Datos!X19),(Datos!N19-Datos!X19)/Datos!X19," - ") -> 0.1252588 | H19: =IF(ISNUMBER((Tasas!B19-Datos!BD19)/Datos!BD19),(Tasas!B19-Datos!BD19)/Datos!BD19," - ") -> 0.24945209 | I19: =IF(ISNUMBER((Tasas!C19-Datos!BE19)/Datos!BE19),(Tasas!C19-Datos!BE19)/Datos!BE19," - ") -> -0.19265031 | J19: =IF(ISNUMBER((Tasas!D19-Datos!BF19)/Datos!BF19),(Tasas!D19-Datos!BF19)/Datos!BF19," - ") -> -0.36807822 | K19: =IF(ISNUMBER((Tasas!E19-Datos!BG19)/Datos!BG19),(Tasas!E19-Datos!BG19)/Datos!BG19," - ") -> -0.14217839
A21: NOTA ACLARATORIA: En el año 2007 se ha pasado a recoger, por primera vez, el dato de número de autos finales en los órganos de la jurisdicción penal. Por este motivo el dato de la evolución de los autos, en los órganos de esta jurisdicción, respecto al mismo periodo del año anterior carece de significación
A23: =Criterios!A4 -> Fecha Informe: 17 mar. 2026

Sheet Tasas
B2: =Criterios!A9 &" "&Criterios!B9 -> Tribunales de Justicia CATALUÑA
A3: Tasas | B3: =Criterios!A10 &" "&Criterios!B10 -> Provincias BARCELONA
B4: =Criterios!A11 &" "&Criterios!B11 -> Resumenes por Partidos Judiciales VIC
A5: ="Año: " &Criterios!B5 & " Trimestre " &Criterios!D5 & " al " &Criterios!D6 -> Año: 2025 Trimestre 4 al 4 | B5: Resolución | C5: Pendencia | D5: Sentencia | E5: Congestión
A7: =Datos!A7 -> COMPETENCIAS
A8: =Datos!A8 -> Jurisdicción Civil ( 1 ):
A9: =Datos!A9 -> Jdos. 1ª Instancia | B9: =IF(ISNUMBER(NºAsuntos!G9/NºAsuntos!E9),NºAsuntos!G9/NºAsuntos!E9," - ") -> - | C9: =IF(ISNUMBER(NºAsuntos!I9/NºAsuntos!G9),NºAsuntos!I9/NºAsuntos!G9," - ") -> - | D9: =IF(ISNUMBER('Resol Asuntos'!D9/NºAsuntos!G9),'Resol Asuntos'!D9/NºAsuntos!G9," - ") -> - | E9: =IF(ISNUMBER((NºAsuntos!C9+NºAsuntos!E9)/NºAsuntos!G9),(NºAsuntos!C9+NºAsuntos!E9)/NºAsuntos!G9," - ") -> -
A10: =Datos!A10 -> Jdos. Violencia contra la mujer/Secc Viol. TI. | B10: =IF(ISNUMBER(NºAsuntos!G10/NºAsuntos!E10),NºAsuntos!G10/NºAsuntos!E10," - ") -> 1.0909091 | C10: =IF(ISNUMBER(NºAsuntos!I10/NºAsuntos!G10),NºAsuntos!I10/NºAsuntos!G10," - ") -> 8.0833333 | D10: =IF(ISNUMBER('Resol Asuntos'!D10/NºAsuntos!G10),'Resol Asuntos'!D10/NºAsuntos!G10," - ") -> 0.66666667 | E10: =IF(ISNUMBER((NºAsuntos!C10+NºAsuntos!E10)/NºAsuntos!G10),(NºAsuntos!C10+NºAsuntos!E10)/NºAsuntos!G10," - ") -> 9.0833333
A11: =Datos!A11 -> Jdos. Familia | B11: =IF(ISNUMBER(NºAsuntos!G11/NºAsuntos!E11),NºAsuntos!G11/NºAsuntos!E11," - ") -> - | C11: =IF(ISNUMBER(NºAsuntos!I11/NºAsuntos!G11),NºAsuntos!I11/NºAsuntos!G11," - ") -> - | D11: =IF(ISNUMBER('Resol Asuntos'!D11/NºAsuntos!G11),'Resol Asuntos'!D11/NºAsuntos!G11," - ") -> - | E11: =IF(ISNUMBER((NºAsuntos!C11+NºAsuntos!E11)/NºAsuntos!G11),(NºAsuntos!C11+NºAsuntos!E11)/NºAsuntos!G11," - ") -> -
A12: =Datos!A12 -> Jdos. 1ª Instª. e Instr./Secc. Civil y de Inst. TI | B12: =IF(ISNUMBER(NºAsuntos!G12/NºAsuntos!E12),NºAsuntos!G12/NºAsuntos!E12," - ") -> 1.5804067 | C12: =IF(ISNUMBER(NºAsuntos!I12/NºAsuntos!G12),NºAsuntos!I12/NºAsuntos!G12," - ") -> 2.3668616 | D12: =IF(ISNUMBER('Resol Asuntos'!D12/NºAsuntos!G12),'Resol Asuntos'!D12/NºAsuntos!G12," - ") -> 0.17231969 | E12: =IF(ISNUMBER((NºAsuntos!C12+NºAsuntos!E12)/NºAsuntos!G12),(NºAsuntos!C12+NºAsuntos!E12)/NºAsuntos!G12," - ") -> 3.3668616
A13: =Datos!A13 -> TOTAL | B13: =IF(ISNUMBER(NºAsuntos!G13/NºAsuntos!E13),NºAsuntos!G13/NºAsuntos!E13," - ") -> 1.5771114 | C13: =IF(ISNUMBER(NºAsuntos!I13/NºAsuntos!G13),NºAsuntos!I13/NºAsuntos!G13," - ") -> 2.3934808 | D13: =IF(ISNUMBER('Resol Asuntos'!D13/NºAsuntos!G13),'Resol Asuntos'!D13/NºAsuntos!G13," - ") -> 0.17462165 | E13: =IF(ISNUMBER((NºAsuntos!C13+NºAsuntos!E13)/NºAsuntos!G13),(NºAsuntos!C13+NºAsuntos!E13)/NºAsuntos!G13," - ") -> 3.3934808
A14: =Datos!A14 -> Jurisdicción Penal ( 2 ):
A15: =Datos!A15 -> Jdos. Instrucción | B15: =IF(ISNUMBER(NºAsuntos!G15/NºAsuntos!E15),NºAsuntos!G15/NºAsuntos!E15," - ") -> - | C15: =IF(ISNUMBER(NºAsuntos!I15/NºAsuntos!G15),NºAsuntos!I15/NºAsuntos!G15," - ") -> - | D15: =IF(ISNUMBER('Resol Asuntos'!D15/NºAsuntos!G15),'Resol Asuntos'!D15/NºAsuntos!G15," - ") -> - | E15: =IF(ISNUMBER((NºAsuntos!C15+NºAsuntos!E15)/NºAsuntos!G15),(NºAsuntos!C15+NºAsuntos!E15)/NºAsuntos!G15," - ") -> -
A16: =Datos!A16 -> Jdos. 1ª Instª. e Instr./Secc. Civil y de Inst. TI | B16: =IF(ISNUMBER(NºAsuntos!G16/NºAsuntos!E16),NºAsuntos!G16/NºAsuntos!E16," - ") -> 0.86685237 | C16: =IF(ISNUMBER(NºAsuntos!I16/NºAsuntos!G16),NºAsuntos!I16/NºAsuntos!G16," - ") -> 2.1510283 | D16: =IF(ISNUMBER('Resol Asuntos'!D16/NºAsuntos!G16),'Resol Asuntos'!D16/NºAsuntos!G16," - ") -> 0.16645244 | E16: =IF(ISNUMBER((NºAsuntos!C16+NºAsuntos!E16)/NºAsuntos!G16),(NºAsuntos!C16+NºAsuntos!E16)/NºAsuntos!G16," - ") -> 3.3142674
A17: =Datos!A17 -> Jdos. Violencia contra la mujer/Secc Viol. TI. | B17: =IF(ISNUMBER(NºAsuntos!G17/NºAsuntos!E17),NºAsuntos!G17/NºAsuntos!E17," - ") -> 1.245283 | C17: =IF(ISNUMBER(NºAsuntos!I17/NºAsuntos!G17),NºAsuntos!I17/NºAsuntos!G17," - ") -> 0.37121212 | D17: =IF(ISNUMBER('Resol Asuntos'!D17/NºAsuntos!G17),'Resol Asuntos'!D17/NºAsuntos!G17," - ") -> 0.13636364 | E17: =IF(ISNUMBER((NºAsuntos!C17+NºAsuntos!E17)/NºAsuntos!G17),(NºAsuntos!C17+NºAsuntos!E17)/NºAsuntos!G17," - ") -> 1.3712121
A18: =Datos!A18 -> TOTAL | B18: =IF(ISNUMBER(NºAsuntos!G18/NºAsuntos!E18),NºAsuntos!G18/NºAsuntos!E18," - ") -> 0.88795371 | C18: =IF(ISNUMBER(NºAsuntos!I18/NºAsuntos!G18),NºAsuntos!I18/NºAsuntos!G18," - ") -> 2.0118483 | D18: =IF(ISNUMBER('Resol Asuntos'!D18/NºAsuntos!G18),'Resol Asuntos'!D18/NºAsuntos!G18," - ") -> 0.16409953 | E18: =IF(ISNUMBER((NºAsuntos!C18+NºAsuntos!E18)/NºAsuntos!G18),(NºAsuntos!C18+NºAsuntos!E18)/NºAsuntos!G18," - ") -> 3.1623223
A19: =Datos!A19 -> TOTAL JURISDICCIONES | B19: =IF(ISNUMBER(NºAsuntos!G19/NºAsuntos!E19),NºAsuntos!G19/NºAsuntos!E19," - ") -> 1.2065064 | C19: =IF(ISNUMBER(NºAsuntos!I19/NºAsuntos!G19),NºAsuntos!I19/NºAsuntos!G19," - ") -> 2.2424385 | D19: =IF(ISNUMBER('Resol Asuntos'!D19/NºAsuntos!G19),'Resol Asuntos'!D19/NºAsuntos!G19," - ") -> 0.17045721 | E19: =IF(ISNUMBER((NºAsuntos!C19+NºAsuntos!E19)/NºAsuntos!G19),(NºAsuntos!C19+NºAsuntos!E19)/NºAsuntos!G19," - ") -> 3.301993
A23: =Criterios!A4 -> Fecha Informe: 17 mar. 2026

Sheet Indicadores
F2: =Criterios!A9 &" "&Criterios!B9 -> Tribunales de Justicia CATALUÑA | L2: =Criterios!A10 &" "&Criterios!B10 -> Provincias BARCELONA | N2: =Criterios!A11 &" "&Criterios!B11 -> Resumenes por Partidos Judiciales VIC
A5: Código de órgano | C5: ="Año: " &Criterios!B$5 & " Trimestre " &Criterios!D$5 & " al " &Criterios!D$6 -> Año: 2025 Trimestre 4 al 4 | D5: Otra comp. | E5: Número de magistrados | F5: En Tramite Al Inicio Del Periodo (Regularizado) | G5: En Tramite Al Inicio Del Periodo | H5: A ASUNTOS ingresados | I5: A ASUNTOS ingresados 2 | J5: A ASUNTOS ingresados 3 | K5: Asuntos reabiertos | L5: Ejecuciones ingresadas | M5: Ejecuciones reiniciadas | N5: INGRESO COMPUTABLE (A+B) | O5: INGRESO COMPUTABLE (Civil + Penal) | P5: % Ingreso Computable | Q5: % Ingreso Computable total | R5: SOLO Monitorios ingresados | S5: RESOLUCIONNº H/P | T5: % S/INDICADOR DE RESOLUCION (Horas punto) | U5: TOTAL RESOLUCIONNº H/P | V5: % S/INDICADOR DE RESOLUCIÓN TOTAL (CIVIL Y PENAL) | W5: Resolución ingresados A | X5: Resolución ejecuciones B | Y5: Resolución TOTAL C | Z5: Resolución Monitorios | AA5: Pendencia A | AB5: Pendencia B | AC5: Pendencia A+B | AD5: Pendencia Monitorios | AE5: Nº TOTAL Sentencias Pendientes | AF5: Nª Sentencias menos 3 m | AG5: Nª sentencias entre 3 y 6m | AH5: Nª Sentencias más de 6m | AI5: Nº TOTAL Sentencias dictadas | AJ5: Escritos pendientes hasta 30 días | AK5: Escritos pendientes mas de 30 días | AL5: Tasa Resolución | AM5: Tiempo de respuesta | AN5: Tasa Sentencia | AO5: Tasa Congestión | AP5: % Señalamientos suspendidos | AQ5: Variación de Pendientes A | AR5: Variación de Pendientes B | AS5: Procedimeintos abreviados elevados | AT5: Suspendidos | AU5: Señalados | AV5: Asuntos Pendientes de Incoar | AW5: Asuntos Repartidos Pendientes de Aceptar | AX5: Fecha señalamiento más alejada en el tiempo | AY5: Módulo entrada 2018 | AZ5: % Módulo entrada 2018 | BF5: M. TeórIco 1 | BH5: M. TeórIco 2 | BJ5: M. TeórIco 3 | BL5: M. TeórIco Tot
BF6: Inferior | BG6: Superior | BH6: Inferior | BI6: Superior | BJ6: Inferior | BK6: Superior | BL6: Inferior | BM6: Superior
C7: =Datos!A7 -> COMPETENCIAS
C8: =Datos!A8 -> Jurisdicción Civil ( 1 ):
A9: =Datos!AO9 -> 0 | B9: C | C9: =Datos!A9 -> Jdos. 1ª Instancia | E9: =IF(ISNUMBER(Datos!AQ9),Datos!AQ9," - ") -> 0 | F9: =IF(ISNUMBER(AA9+W9-I9-K9),AA9+W9-I9-K9," - ") -> - | G9: =IF(ISNUMBER(IF(J_V="SI",Datos!I9,Datos!I9+Datos!Y9)-IF(Monitorios="SI",Datos!CA9,0)), IF(J_V="SI",Datos!I9,Datos!I9+Datos!Y9)-IF(Monitorios="SI",Datos!CA9,0), " - ") -> - | H9: =IF(ISNUMBER(Datos!DB9),Datos!DB9," - ") -> - | I9: =IF(ISNUMBER(Datos!DC9),Datos!DC9," - ") -> - | J9: =IF(ISNUMBER(Datos!DD9),Datos!DD9," - ") -> - | K9: =IF(ISNUMBER(Datos!DF9),Datos!DF9,0) -> 0 | L9: =IF(ISNUMBER(Datos!P9),Datos!P9,0) -> 0 | M9: =IF(ISNUMBER(Datos!DE9),Datos!DE9," - ") -> - | N9: =IF(ISNUMBER(H9+L9),H9+L9," - ") -> - | P9: =IF(ISNUMBER((N9)/((BL9+BM9)/2)),(N9)/((BL9+BM9)/2)," - ") -> - | Q9: =IF(ISNUMBER((N9)/((BL9+BM9)/2)),(N9)/((BL9+BM9)/2)," - ") -> - | R9: =IF(ISNUMBER(Datos!CB9),Datos!CB9," - ") -> - | S9: =IF(ISNUMBER(Datos!BY9+Datos!BZ9*0.86),Datos!BY9+Datos!BZ9*0.86," - ") -> 0 | T9: =IF(ISNUMBER((S9*factor_trimestre)/DatosB!CN9),(S9*factor_trimestre)/DatosB!CN9,"-") -> 0 | V9: =IF(ISNUMBER((U9*factor_trimestre)/DatosB!CN9),(U9*factor_trimestre)/DatosB!CN9,"-") -> 0 | W9: =IF(ISNUMBER(IF(J_V="SI",Datos!K9,Datos!K9+Datos!AA9)-IF(Monitorios="SI",Datos!CC9,0)), IF(J_V="SI",Datos!K9,Datos!K9+Datos!AA9)-IF(Monitorios="SI",Datos!CC9,0), " - ") -> - | X9: =IF(ISNUMBER(Datos!Q9),Datos!Q9," - ") -> - | Y9: =SUM(W9:X9) -> 0 | Z9: =IF(ISNUMBER(Datos!CC9),Datos!CC9," - ") -> - | AA9: =IF(ISNUMBER(IF(J_V="SI",Datos!L9,Datos!L9+Datos!AB9)-IF(Monitorios="SI",Datos!CD9,0)), IF(J_V="SI",Datos!L9,Datos!L9+Datos!AB9)-IF(Monitorios="SI",Datos!CD9,0), " - ") -> - | AB9: =IF(ISNUMBER(Datos!R9),Datos!R9," - ") -> - | AC9: =IF(ISNUMBER(AA9+AB9),AA9+AB9," - ") -> - | AD9: =IF(ISNUMBER(Datos!CD9),Datos!CD9," - ") -> - | AE9: =IF(ISNUMBER(Datos!BV9),Datos!BV9," - ") -> - | AF9: =IF(ISNUMBER(Datos!CK9),Datos!CK9," - ") -> - | AG9: =IF(ISNUMBER(Datos!CL9),Datos!CL9," - ") -> - | AH9: =IF(ISNUMBER(Datos!CM9),Datos!CM9," - ") -> - | AI9: =IF(ISNUMBER(Datos!M9),Datos!M9," - ") -> - | AJ9: =IF(ISNUMBER(Datos!BW9),Datos!BW9," - ") -> - | AK9: =IF(ISNUMBER(Datos!BX9),Datos!BX9," - ") -> - | AL9: =IF(ISNUMBER(NºAsuntos!G9/NºAsuntos!E9),NºAsuntos!G9/NºAsuntos!E9," - ") -> - | AM9: =IF(ISNUMBER(((NºAsuntos!I9/NºAsuntos!G9)*11)/factor_trimestre),((NºAsuntos!I9/NºAsuntos!G9)*11)/factor_trimestre," - ") -> - | AN9: =IF(ISNUMBER('Resol Asuntos'!D9/NºAsuntos!G9),'Resol Asuntos'!D9/NºAsuntos!G9," - ") -> - | AO9: =IF(ISNUMBER((NºAsuntos!C9+NºAsuntos!E9)/NºAsuntos!G9),(NºAsuntos!C9+NºAsuntos!E9)/NºAsuntos!G9," - ") -> - | AP9: =IF(ISNUMBER(AT9/AU9),AT9/AU9," - ") -> - | AQ9: =IF(ISNUMBER((I9-W9+K9)/(F9)),(I9-W9+K9)/(F9)," - ") -> - | AR9: =IF(ISNUMBER((Datos!P9-Datos!Q9+M9)/(Datos!R9-Datos!P9+Datos!Q9-M9)),(Datos!P9-Datos!Q9+M9)/(Datos!R9-Datos!P9+Datos!Q9-M9)," - ") -> - | AS9: =IF(ISNUMBER(Datos!CS9),Datos!CS9," - ") -> - | AT9: =IF(ISNUMBER(Datos!CI9),Datos!CI9," - ") -> - | AU9: =IF(ISNUMBER(Datos!CJ9),Datos!CJ9," - ") -> - | AV9: =IF(ISNUMBER(Datos!CW9),Datos!CW9," - ") -> - | AW9: =IF(ISNUMBER(Datos!EV9),Datos!EV9," - ") -> - | AX9: =IF(ISNUMBER(Datos!CX9)," - ",Datos!CX9) -> 0 | AY9: =IF(ISNUMBER(Datos!ET9),Datos!ET9," - ") -> - | AZ9: =(AY9/Datos!ER9)*factor_trimestre -> #VALUE! | BF9: =Datos!BN9/factor_trimestre -> 0 | BG9: =Datos!BO9/factor_trimestre -> 0 | BH9: =Datos!BP9/factor_trimestre -> 0 | BI9: =Datos!BQ9/factor_trimestre -> 0 | BJ9: =Datos!BR9/factor_trimestre -> 0 | BK9: =Datos!BS9/factor_trimestre -> 0 | BL9: =Datos!BT9/factor_trimestre -> 0 | BM9: =Datos!BU9/factor_trimestre -> 0
A10: =Datos!AO10 -> 1 | B10: C | C10: =Datos!A10 -> Jdos. Violencia contra la mujer/Secc Viol. TI. | E10: =IF(ISNUMBER(Datos!AQ10),Datos!AQ10," - ") -> 0 | F10: =IF(ISNUMBER(Datos!L10+Datos!K10-Datos!J10-K10),Datos!L10+Datos!K10-Datos!J10-K10," - ") -> 98 | G10: =IF(ISNUMBER(Datos!I10),Datos!I10," - ") -> 98 | H10: =IF(ISNUMBER(Datos!DB10),Datos!DB10," - ") -> - | I10: =IF(ISNUMBER(Datos!DC10),Datos!DC10," - ") -> - | J10: =IF(ISNUMBER(Datos!DD10),Datos!DD10," - ") -> - | K10: =IF(ISNUMBER(Datos!DF10),Datos!DF10,0) -> 0 | L10: =IF(ISNUMBER(Datos!P10),Datos!P10,0) -> 9 | M10: =IF(ISNUMBER(Datos!DE10),Datos!DE10," - ") -> - | N10: =IF(ISNUMBER(H10),H10," - ") -> - | O10: =IF(ISNUMBER(INDIRECT("N"&ROW()+salto-1)),N10+(INDIRECT("N"&ROW()+salto-1)),N10+(INDIRECT("N"&ROW()-salto+1))) -> #VALUE! | P10: =IF(ISNUMBER((N10)/((BL10+BM10)/2)),(N10)/((BL10+BM10)/2)," - ") -> - | Q10: =IF(jurisdiccion="Jurisdicción Civil y Penal",IF(ISNUMBER((O10)/((BL10+BM10)/2)),(O10)/((BL10+BM10)/2)," - "),IF(ISNUMBER((N10)/((BF10+BG10)/2)),(N10)/((BF10+BG10)/2)," - ")) -> - | R10: =IF(ISNUMBER(Datos!CB10),Datos!CB10," - ") -> - | S10: =IF(ISNUMBER(Datos!BY10),Datos!BY10," - ") -> - | T10: =IF(ISNUMBER((S10*factor_trimestre)/DatosB!CN10),(S10*factor_trimestre)/DatosB!CN10,"-") -> - | U10: =IF(ISNUMBER(INDIRECT("S"&ROW()+salto-1)),S10+(INDIRECT("S"&ROW()+salto-1)),S10+(INDIRECT("S"&ROW()-salto+1))) -> #VALUE! | V10: =IF(ISNUMBER((U10*factor_trimestre)/DatosB!CN10),(U10*factor_trimestre)/DatosB!CN10,"-") -> - | W10: =IF(ISNUMBER(Datos!K10),Datos!K10," - ") -> 12 | X10: =IF(ISNUMBER(Datos!Q10),Datos!Q10," - ") -> 1 | Y10: =SUM(W10:X10) -> 13 | Z10: =IF(ISNUMBER(Datos!CC10),Datos!CC10," - ") -> - | AA10: =IF(ISNUMBER(Datos!L10),Datos!L10,"-") -> 97 | AB10: =IF(ISNUMBER(Datos!R10),Datos!R10," - ") -> 67 | AC10: =IF(ISNUMBER(AA10+AB10),AA10+AB10," - ") -> 164 | AD10: =IF(ISNUMBER(Datos!CD10),Datos!CD10," - ") -> - | AE10: =IF(ISNUMBER(Datos!BV10),Datos!BV10," - ") -> - | AF10: =IF(ISNUMBER(Datos!CK10),Datos!CK10," - ") -> - | AG10: =IF(ISNUMBER(Datos!CL10),Datos!CL10," - ") -> - | AH10: =IF(ISNUMBER(Datos!CM10),Datos!CM10," - ") -> - | AI10: =IF(ISNUMBER(Datos!M10),Datos!M10," - ") -> 8 | AJ10: =IF(ISNUMBER(Datos!BW10),Datos!BW10," - ") -> - | AK10: =IF(ISNUMBER(Datos!BX10),Datos!BX10," - ") -> - | AL10: =IF(ISNUMBER(NºAsuntos!G10/NºAsuntos!E10),NºAsuntos!G10/NºAsuntos!E10," - ") -> 1.0909091 | AM10: =IF(ISNUMBER(((NºAsuntos!I10/NºAsuntos!G10)*11)/factor_trimestre),((NºAsuntos!I10/NºAsuntos!G10)*11)/factor_trimestre," - ") -> 24.25 | AN10: =IF(ISNUMBER('Resol Asuntos'!D10/NºAsuntos!G10),'Resol Asuntos'!D10/NºAsuntos!G10," - ") -> 0.66666667 | AO10: =IF(ISNUMBER((NºAsuntos!C10+NºAsuntos!E10)/NºAsuntos!G10),(NºAsuntos!C10+NºAsuntos!E10)/NºAsuntos!G10," - ") -> 9.0833333 | AP10: =IF(ISNUMBER(AT10/AU10),AT10/AU10," - ") -> - | AQ10: =IF(ISNUMBER((H10-W10+K10)/(F10)),(H10-W10+K10)/(F10)," - ") -> - | AR10: =IF(ISNUMBER((Datos!P10-Datos!Q10+M10)/(Datos!R10-Datos!P10+Datos!Q10-M10)),(Datos!P10-Datos!Q10+M10)/(Datos!R10-Datos!P10+Datos!Q10-M10)," - ") -> - | AS10: =IF(ISNUMBER(Datos!CS10),Datos!CS10," - ") -> - | AT10: =IF(ISNUMBER(Datos!CI10),Datos!CI10," - ") -> - | AU10: =IF(ISNUMBER(Datos!CJ10),Datos!CJ10," - ") -> - | AV10: =IF(ISNUMBER(Datos!CW10),Datos!CW10," - ") -> - | AW10: =IF(ISNUMBER(Datos!EV10),Datos!EV10," - ") -> - | AX10: =IF(ISNUMBER(Datos!CX10)," - ",Datos!CX10) -> 0 | AY10: =IF(ISNUMBER(Datos!EO10),Datos!EO10," - ") -> - | AZ10: =(AY10/Datos!ER10)*factor_trimestre -> #VALUE! | BF10: =Datos!BN10/factor_trimestre -> 0 | BG10: =Datos!BO10/factor_trimestre -> 0 | BH10: =Datos!BP10/factor_trimestre -> 0 | BI10: =Datos!BQ10/factor_trimestre -> 0 | BJ10: =Datos!BR10/factor_trimestre -> 0 | BK10: =Datos!BS10/factor_trimestre -> 0 | BL10: =Datos!BT10/factor_trimestre -> 0 | BM10: =Datos!BU10/factor_trimestre -> 0
A11: =Datos!AO11 -> 0 | B11: C | C11: =Datos!A11 -> Jdos. Familia | E11: =IF(ISNUMBER(Datos!AQ11),Datos!AQ11," - ") -> 0 | F11: =IF(ISNUMBER(AA11+W11-I11-K11),AA11+W11-I11-K11," - ") -> - | G11: =IF(ISNUMBER(IF(J_V="SI",Datos!I11,Datos!I11+Datos!Y11)-IF(Monitorios="SI",Datos!CA11,0)), IF(J_V="SI",Datos!I11,Datos!I11+Datos!Y11)-IF(Monitorios="SI",Datos!CA11,0), " - ") -> - | H11: =IF(ISNUMBER(Datos!DB11),Datos!DB11," - ") -> - | I11: =IF(ISNUMBER(Datos!DC11),Datos!DC11," - ") -> - | J11: =IF(ISNUMBER(Datos!DD11),Datos!DD11," - ") -> - | K11: =IF(ISNUMBER(Datos!DF11),Datos!DF11,0) -> 0 | L11: =IF(ISNUMBER(Datos!P11),Datos!P11,0) -> 0 | M11: =IF(ISNUMBER(Datos!DE11),Datos!DE11," - ") -> - | N11: =IF(ISNUMBER(H11+L11),H11+L11," - ") -> - | P11: =IF(ISNUMBER((N11)/((BL11+BM11)/2)),(N11)/((BL11+BM11)/2)," - ") -> - | Q11: =IF(ISNUMBER((N11)/((BL11+BM11)/2)),(N11)/((BL11+BM11)/2)," - ") -> - | R11: =IF(ISNUMBER(Datos!CB11),Datos!CB11," - ") -> - | S11: =IF(ISNUMBER(Datos!BY11+Datos!BZ11),Datos!BY11+Datos!BZ11," - ") -> 0 | T11: =IF(ISNUMBER((S11*factor_trimestre)/DatosB!CN11),(S11*factor_trimestre)/DatosB!CN11,"-") -> 0 | V11: =IF(ISNUMBER((U11*factor_trimestre)/DatosB!CN11),(U11*factor_trimestre)/DatosB!CN11,"-") -> 0 | W11: =IF(ISNUMBER(IF(J_V="SI",Datos!K11,Datos!K11+Datos!AA11)-IF(Monitorios="SI",Datos!CC11,0)), IF(J_V="SI",Datos!K11,Datos!K11+Datos!AA11)-IF(Monitorios="SI",Datos!CC11,0), " - ") -> - | X11: =IF(ISNUMBER(Datos!Q11),Datos!Q11," - ") -> - | Y11: =SUM(W11:X11) -> 0 | Z11: =IF(ISNUMBER(Datos!CC11),Datos!CC11," - ") -> - | AA11: =IF(ISNUMBER(IF(J_V="SI",Datos!L11,Datos!L11+Datos!AB11)-IF(Monitorios="SI",Datos!CD11,0)), IF(J_V="SI",Datos!L11,Datos!L11+Datos!AB11)-IF(Monitorios="SI",Datos!CD11,0), " - ") -> - | AB11: =IF(ISNUMBER(Datos!R11),Datos!R11," - ") -> - | AC11: =IF(ISNUMBER(AA11+AB11),AA11+AB11," - ") -> - | AD11: =IF(ISNUMBER(Datos!CD11),Datos!CD11," - ") -> - | AE11: =IF(ISNUMBER(Datos!BV11),Datos!BV11," - ") -> - | AF11: =IF(ISNUMBER(Datos!CK11),Datos!CK11," - ") -> - | AG11: =IF(ISNUMBER(Datos!CL11),Datos!CL11," - ") -> - | AH11: =IF(ISNUMBER(Datos!CM11),Datos!CM11," - ") -> - | AI11: =IF(ISNUMBER(Datos!M11),Datos!M11," - ") -> - | AJ11: =IF(ISNUMBER(Datos!BW11),Datos!BW11," - ") -> - | AK11: =IF(ISNUMBER(Datos!BX11),Datos!BX11," - ") -> - | AL11: =IF(ISNUMBER(NºAsuntos!G11/NºAsuntos!E11),NºAsuntos!G11/NºAsuntos!E11," - ") -> - | AM11: =IF(ISNUMBER(((NºAsuntos!I11/NºAsuntos!G11)*11)/factor_trimestre),((NºAsuntos!I11/NºAsuntos!G11)*11)/factor_trimestre," - ") -> - | AN11: =IF(ISNUMBER('Resol Asuntos'!D11/NºAsuntos!G11),'Resol Asuntos'!D11/NºAsuntos!G11," - ") -> - | AO11: =IF(ISNUMBER((NºAsuntos!C11+NºAsuntos!E11)/NºAsuntos!G11),(NºAsuntos!C11+NºAsuntos!E11)/NºAsuntos!G11," - ") -> - | AP11: =IF(ISNUMBER(AT11/AU11),AT11/AU11," - ") -> - | AQ11: =IF(ISNUMBER((I11-W11+K11)/(F11)),(I11-W11+K11)/(F11)," - ") -> - | AR11: =IF(ISNUMBER((Datos!P11-Datos!Q11+M11)/(Datos!R11-Datos!P11+Datos!Q11-M11)),(Datos!P11-Datos!Q11+M11)/(Datos!R11-Datos!P11+Datos!Q11-M11)," - ") -> - | AS11: =IF(ISNUMBER(Datos!CS11),Datos!CS11," - ") -> - | AT11: =IF(ISNUMBER(Datos!CI11),Datos!CI11," - ") -> - | AU11: =IF(ISNUMBER(Datos!CJ11),Datos!CJ11," - ") -> - | AV11: =IF(ISNUMBER(Datos!CW11),Datos!CW11," - ") -> - | AW11: =IF(ISNUMBER(Datos!EV11),Datos!EV11," - ") -> - | AX11: =IF(ISNUMBER(Datos!CX11)," - ",Datos!CX11) -> 0 | AY11: =IF(ISNUMBER(Datos!ET11),Datos!ET11," - ") -> - | AZ11: =(AY11/Datos!ER11)*factor_trimestre -> #VALUE! | BF11: =Datos!BN11/factor_trimestre -> 0 | BG11: =Datos!BO11/factor_trimestre -> 0 | BH11: =Datos!BP11/factor_trimestre -> 0 | BI11: =Datos!BQ11/factor_trimestre -> 0 | BJ11: =Datos!BR11/factor_trimestre -> 0 | BK11: =Datos!BS11/factor_trimestre -> 0 | BL11: =Datos!BT11/factor_trimestre -> 0 | BM11: =Datos!BU11/factor_trimestre -> 0
A12: =Datos!AO12 -> 6 | B12: C | C12: =Datos!A12 -> Jdos. 1ª Instª. e Instr./Secc. Civil y de Inst. TI | E12: =IF(ISNUMBER(Datos!AQ12),Datos!AQ12," - ") -> 6 | F12: =IF(ISNUMBER(AA12+W12-I12-K12),AA12+W12-I12-K12," - ") -> - | G12: =IF(ISNUMBER(IF(J_V="SI",Datos!I12,Datos!I12+Datos!Y12)-IF(Monitorios="SI",Datos!CA12,0)), IF(J_V="SI",Datos!I12,Datos!I12+Datos!Y12)-IF(Monitorios="SI",Datos!CA12,0), " - ") -> - | H12: =IF(ISNUMBER(Datos!DB12),Datos!DB12," - ") -> - | I12: =IF(ISNUMBER(Datos!DC12),Datos!DC12," - ") -> - | J12: =IF(ISNUMBER(Datos!DD12),Datos!DD12," - ") -> - | K12: =IF(ISNUMBER(Datos!DF12),Datos!DF12,0) -> 0 | L12: =IF(ISNUMBER(Datos!P12),Datos!P12,0) -> 639 | M12: =IF(ISNUMBER(Datos!DE12),Datos!DE12," - ") -> - | N12: =IF(ISNUMBER(H12+L12),H12+L12," - ") -> - | O12: =IF(ISNUMBER(INDIRECT("N"&ROW()+salto-1)),N12+(INDIRECT("N"&ROW()+salto-1))/9.15,N12/9.15+(INDIRECT("N"&ROW()-salto+1))) -> #VALUE! | P12: =IF(ISNUMBER((N12)/((BF12+BG12)/2)),(N12)/((BF12+BG12)/2)," - ") -> - | Q12: =IF(jurisdiccion="Jurisdicción Civil y Penal",IF(ISNUMBER((O12)/((BL12+BM12)/2)),(O12)/((BL12+BM12)/2)," - "),IF(ISNUMBER((N12)/((BF12+BG12)/2)),(N12)/((BF12+BG12)/2)," - ")) -> - | R12: =IF(ISNUMBER(Datos!CB12),Datos!CB12," - ") -> - | S12: =IF(ISNUMBER(Datos!BY12),Datos!BY12," - ") -> - | T12: =IF(ISNUMBER((S12*factor_trimestre)/DatosB!CN12),(S12*factor_trimestre)/DatosB!CN12,"-") -> - | U12: =IF(ISNUMBER(INDIRECT("S"&ROW()+salto-1)),S12+(INDIRECT("S"&ROW()+salto-1)),S12+(INDIRECT("S"&ROW()-salto+1))) -> #VALUE! | V12: =IF(ISNUMBER((U12*factor_trimestre)/DatosB!CN12),(U12*factor_trimestre)/DatosB!CN12,"-") -> - | W12: =IF(ISNUMBER(IF(J_V="SI",Datos!K12,Datos!K12+Datos!AA12)-IF(Monitorios="SI",Datos!CC12,0)), IF(J_V="SI",Datos!K12,Datos!K12+Datos!AA12)-IF(Monitorios="SI",Datos!CC12,0), " - ") -> - | X12: =IF(ISNUMBER(Datos!Q12),Datos!Q12," - ") -> 232 | Y12: =SUM(W12:X12) -> 232 | Z12: =IF(ISNUMBER(Datos!CC12),Datos!CC12," - ") -> - | AA12: =IF(ISNUMBER(IF(J_V="SI",Datos!L12,Datos!L12+Datos!AB12)-IF(Monitorios="SI",Datos!CD12,0)), IF(J_V="SI",Datos!L12,Datos!L12+Datos!AB12)-IF(Monitorios="SI",Datos!CD12,0), " - ") -> - | AB12: =IF(ISNUMBER(Datos!R12),Datos!R12," - ") -> 9056 | AC12: =IF(ISNUMBER(AA12+AB12),AA12+AB12," - ") -> - | AD12: =IF(ISNUMBER(Datos!CD12),Datos!CD12," - ") -> - | AE12: =IF(ISNUMBER(Datos!BV12),Datos!BV12," - ") -> - | AF12: =IF(ISNUMBER(Datos!CK12),Datos!CK12," - ") -> - | AG12: =IF(ISNUMBER(Datos!CL12),Datos!CL12," - ") -> - | AH12: =IF(ISNUMBER(Datos!CM12),Datos!CM12," - ") -> - | AI12: =IF(ISNUMBER(Datos!M12),Datos!M12," - ") -> 442 | AJ12: =IF(ISNUMBER(Datos!BW12),Datos!BW12," - ") -> - | AK12: =IF(ISNUMBER(Datos!BX12),Datos!BX12," - ") -> - | AL12: =IF(ISNUMBER(NºAsuntos!G12/NºAsuntos!E12),NºAsuntos!G12/NºAsuntos!E12," - ") -> 1.5804067 | AM12: =IF(ISNUMBER(((NºAsuntos!I12/NºAsuntos!G12)*11)/factor_trimestre),((NºAsuntos!I12/NºAsuntos!G12)*11)/factor_trimestre," - ") -> 7.1005848 | AN12: =IF(ISNUMBER('Resol Asuntos'!D12/NºAsuntos!G12),'Resol Asuntos'!D12/NºAsuntos!G12," - ") -> 0.17231969 | AO12: =IF(ISNUMBER((NºAsuntos!C12+NºAsuntos!E12)/NºAsuntos!G12),(NºAsuntos!C12+NºAsuntos!E12)/NºAsuntos!G12," - ") -> 3.3668616 | AP12: =IF(ISNUMBER(AT12/AU12),AT12/AU12," - ") -> - | AQ12: =IF(ISNUMBER((I12-W12+K12)/(F12)),(I12-W12+K12)/(F12)," - ") -> - | AR12: =IF(ISNUMBER((Datos!P12-Datos!Q12+M12)/(Datos!R12-Datos!P12+Datos!Q12-M12)),(Datos!P12-Datos!Q12+M12)/(Datos!R12-Datos!P12+Datos!Q12-M12)," - ") -> - | AS12: =IF(ISNUMBER(Datos!CS12),Datos!CS12," - ") -> - | AT12: =IF(ISNUMBER(Datos!CI12),Datos!CI12," - ") -> - | AU12: =IF(ISNUMBER(Datos!CJ12),Datos!CJ12," - ") -> - | AV12: =IF(ISNUMBER(Datos!CW12),Datos!CW12," - ") -> - | AW12: =IF(ISNUMBER(Datos!EV12),Datos!EV12," - ") -> - | AX12: =IF(ISNUMBER(Datos!CX12)," - ",Datos!CX12) -> 0 | AY12: =IF(ISNUMBER(Datos!ET12),Datos!ET12," - ") -> - | AZ12: =(AY12/Datos!ER12)*factor_trimestre -> #VALUE! | BF12: =Datos!BN12/factor_trimestre -> 0 | BG12: =Datos!BO12/factor_trimestre -> 0 | BH12: =Datos!BP12/factor_trimestre -> 0 | BI12: =Datos!BQ12/factor_trimestre -> 0 | BJ12: =Datos!BR12/factor_trimestre -> 0 | BK12: =Datos!BS12/factor_trimestre -> 0 | BL12: =Datos!BT12/factor_trimestre -> 0 | BM12: =Datos!BU12/factor_trimestre -> 0
C13: =Datos!A13 -> TOTAL | E13: =SUBTOTAL(9,E8:E12) -> 6 | F13: =SUBTOTAL(9,F8:F12) -> 98 | G13: =SUBTOTAL(9,G8:G12) -> 98 | H13: =SUBTOTAL(9,H8:H12) -> 0 | I13: =SUBTOTAL(9,I8:I12) -> 0 | J13: =SUBTOTAL(9,J8:J12) -> 0 | K13: =SUBTOTAL(9,K8:K12) -> 0 | L13: =SUBTOTAL(9,L8:L12) -> 648 | ... O13: =SUBTOTAL(9,O8:O12) -> #VALUE! | Q13: =IF(ISNUMBER((N13*factor_trimestre)/((Datos!BT13+Datos!BU13)/2)),(N13*factor_trimestre)/((Datos!BT13+Datos!BU13)/2)," - ") -> - | R13: =SUBTOTAL(9,R8:R12) -> 0 | S13: =SUBTOTAL(9,S8:S12) -> 0 | T13: =IF(ISNUMBER((S13*factor_trimestre)/DatosB!BM13),(S13*factor_trimestre)/DatosB!BM13,"-") -> - | U13: =SUBTOTAL(9,U8:U12) -> #VALUE! | V13: =IF(ISNUMBER((U13*factor_trimestre)/DatosB!CN13),(U13*factor_trimestre)/DatosB!CN13,"-") -> - | W13: =SUBTOTAL(9,W8:W12) -> 12 | X13: =SUBTOTAL(9,X8:X12) -> 233 | Y13: =SUBTOTAL(9,Y8:Y12) -> 245 | Z13: =SUBTOTAL(9,Z8:Z12) -> 0 | AA13: =SUBTOTAL(9,AA8:AA12) -> 97 | AB13: =SUBTOTAL(9,AB8:AB12) -> 9123 | AC13: =SUBTOTAL(9,AC8:AC12) -> 164 | AD13: =SUBTOTAL(9,AD8:AD12) -> 0 | ... AJ13: =SUBTOTAL(9,AJ8:AJ12) -> 0 | AK13: =SUBTOTAL(9,AK9:AK12) -> 0 | AL13: =IF(ISNUMBER(NºAsuntos!G13/NºAsuntos!E13),NºAsuntos!G13/NºAsuntos!E13," - ") -> 1.5771114 | AM13: =IF(ISNUMBER(((NºAsuntos!I13/NºAsuntos!G13)*11)/factor_trimestre),((NºAsuntos!I13/NºAsuntos!G13)*11)/factor_trimestre," - ") -> 7.1804424 | AN13: =IF(ISNUMBER('Resol Asuntos'!D13/NºAsuntos!G13),'Resol Asuntos'!D13/NºAsuntos!G13," - ") -> 0.17462165 | AO13: =IF(ISNUMBER((NºAsuntos!C13+NºAsuntos!E13)/NºAsuntos!G13),(NºAsuntos!C13+NºAsuntos!E13)/NºAsuntos!G13," - ") -> 3.3934808 | AP13: =IF(ISNUMBER(AT13/AU13),AT13/AU13," - ") -> - | AQ13: =IF(ISNUMBER((H13-W13+K13)/(F13)),(H13-W13+K13)/(F13)," - ") -> -0.12244898 | AR13: =IF(ISNUMBER((Datos!P13-Datos!Q13)/(Datos!R13-Datos!P13+Datos!Q13)),(Datos!P13-Datos!Q13)/(Datos!R13-Datos!P13+Datos!Q13)," - ") -> 0.047657327 | AS13: =SUBTOTAL(9,AS8:AS12) -> 0 | AT13: =SUBTOTAL(9,AT8:AT12) -> 0 | AU13: =SUBTOTAL(9,AU8:AU12) -> 0 | AV13: =SUBTOTAL(9,AV8:AV12) -> 0 | AW13: =SUBTOTAL(9,AW8:AW12) -> 0 | AY13: =SUBTOTAL(9,AY8:AY12) -> 0 | AZ13: =SUBTOTAL(9,AZ8:AZ12) -> #VALUE! | BF13: =SUM(BF8:BF12) -> 0 | BG13: =SUM(BG8:BG12) -> 0 | BH13: =SUM(BH8:BH12) -> 0 | BI13: =SUM(BI8:BI12) -> 0 | BJ13: =SUM(BJ8:BJ12) -> 0 | BK13: =SUM(BK8:BK12) -> 0 | BL13: =SUM(BL8:BL12) -> 0 | BM13: =SUM(BM8:BM12) -> 0
C14: =Datos!A14 -> Jurisdicción Penal ( 2 ):
A15: =Datos!AO15 -> 0 | B15: P | C15: =Datos!A15 -> Jdos. Instrucción | E15: =IF(ISNUMBER(Datos!AQ15),Datos!AQ15," - ") -> 0 | F15: =IF(ISNUMBER(AA15+W15-Datos!J15-K15),AA15+W15-Datos!J15-K15," - ") -> - | G15: =IF(ISNUMBER(IF(D_I="SI",Datos!I15,Datos!I15+Datos!AC15)),IF(D_I="SI",Datos!I15,Datos!I15+Datos!AC15)," - ") -> - | H15: =IF(ISNUMBER(Datos!DB15),Datos!DB15," - ") -> - | I15: =IF(ISNUMBER(Datos!DC15),Datos!DC15," - ") -> - | J15: =IF(ISNUMBER(Datos!DD15),Datos!DD15," - ") -> - | K15: =IF(ISNUMBER(Datos!DF15),Datos!DF15,0) -> 0 | L15: =IF(ISNUMBER(Datos!P15),Datos!P15,0) -> 0 | M15: =IF(ISNUMBER(Datos!DE15),Datos!DE15," - ") -> - | N15: =IF(ISNUMBER(H15),H15," - ") -> - | P15: =IF(ISNUMBER((N15)/((BL15+BM15)/2)),(N15)/((BL15+BM15)/2)," - ") -> - | Q15: =IF(ISNUMBER((N15)/((BL15+BM15)/2)),(N15)/((BL15+BM15)/2)," - ") -> - | R15: =IF(ISNUMBER(Datos!CB15),Datos!CB15," - ") -> - | S15: =IF(ISNUMBER(Datos!BY15+Datos!BZ15*1.16),Datos!BY15+Datos!BZ15*1.16," - ") -> 0 | T15: =IF(ISNUMBER((S15*factor_trimestre)/DatosB!CN15),(S15*factor_trimestre)/DatosB!CN15,"-") -> 0 | V15: =IF(ISNUMBER((U15*factor_trimestre)/DatosB!CN15),(U15*factor_trimestre)/DatosB!CN15,"-") -> 0 | W15: =IF(ISNUMBER(IF(D_I="SI",Datos!K15,Datos!K15+Datos!AE15)),IF(D_I="SI",Datos!K15,Datos!K15+Datos!AE15)," - ") -> - | X15: =IF(ISNUMBER(Datos!Q15),Datos!Q15," - ") -> - | Y15: =SUM(W15) -> 0 | Z15: =IF(ISNUMBER(Datos!CC15),Datos!CC15," - ") -> - | AA15: =IF(ISNUMBER(IF(D_I="SI",Datos!L15,Datos!L15+Datos!AF15)),IF(D_I="SI",Datos!L15,Datos!L15+Datos!AF15)," - ") -> - | AB15: =IF(ISNUMBER(Datos!R15),Datos!R15," - ") -> - | AC15: =IF(ISNUMBER(AA15+AB15),AA15+AB15," - ") -> - | AD15: =IF(ISNUMBER(Datos!CD15),Datos!CD15," - ") -> - | AE15: =IF(ISNUMBER(Datos!BV15),Datos!BV15," - ") -> - | AF15: =IF(ISNUMBER(Datos!CK15),Datos!CK15," - ") -> - | AG15: =IF(ISNUMBER(Datos!CL15),Datos!CL15," - ") -> - | AH15: =IF(ISNUMBER(Datos!CM15),Datos!CM15," - ") -> - | AI15: =IF(ISNUMBER(Datos!M15),Datos!M15," - ") -> - | AJ15: =IF(ISNUMBER(Datos!BW15),Datos!BW15," - ") -> - | AK15: =IF(ISNUMBER(Datos!BX15),Datos!BX15," - ") -> - | AL15: =IF(ISNUMBER(NºAsuntos!G15/NºAsuntos!E15),NºAsuntos!G15/NºAsuntos!E15," - ") -> - | AM15: =IF(ISNUMBER(((NºAsuntos!I15/NºAsuntos!G15)*11)/factor_trimestre),((NºAsuntos!I15/NºAsuntos!G15)*11)/factor_trimestre," - ") -> - | AN15: =IF(ISNUMBER('Resol Asuntos'!D15/NºAsuntos!G15),'Resol Asuntos'!D15/NºAsuntos!G15," - ") -> - | AO15: =IF(ISNUMBER((NºAsuntos!C15+NºAsuntos!E15)/NºAsuntos!G15),(NºAsuntos!C15+NºAsuntos!E15)/NºAsuntos!G15," - ") -> - | AP15: =IF(ISNUMBER(AT15/AU15),AT15/AU15," - ") -> - | AQ15: =IF(ISNUMBER((I15-W15+K15)/(F15)),(I15-W15+K15)/(F15)," - ") -> - | AR15: =IF(ISNUMBER((Datos!P15-Datos!Q15+M15)/(Datos!R15-Datos!P15+Datos!Q15-M15)),(Datos!P15-Datos!Q15+M15)/(Datos!R15-Datos!P15+Datos!Q15-M15)," - ") -> - | AS15: =IF(ISNUMBER(Datos!CS15),Datos!CS15," - ") -> - | AT15: =IF(ISNUMBER(Datos!CI15),Datos!CI15," - ") -> - | AU15: =IF(ISNUMBER(Datos!CJ15),Datos!CJ15," - ") -> - | AV15: =IF(ISNUMBER(Datos!CW15),Datos!CW15," - ") -> - | AW15: =IF(ISNUMBER(Datos!EV15),Datos!EV15," - ") -> - | AX15: =IF(ISNUMBER(Datos!CX15)," - ",Datos!CX15) -> 0 | AY15: =IF(ISNUMBER(Datos!ET15),Datos!ET15," - ") -> - | AZ15: =(AY15/Datos!ER15)*factor_trimestre -> #VALUE! | BF15: =Datos!BN15/factor_trimestre -> 0 | BG15: =Datos!BO15/factor_trimestre -> 0 | BH15: =Datos!BP15/factor_trimestre -> 0 | BI15: =Datos!BQ15/factor_trimestre -> 0 | BJ15: =Datos!BR15/factor_trimestre -> 0 | BK15: =Datos!BS15/factor_trimestre -> 0 | BL15: =Datos!BT15/factor_trimestre -> 0 | BM15: =Datos!BU15/factor_trimestre -> 0
A16: =Datos!AO16 -> 6 | B16: P | C16: =Datos!A16 -> Jdos. 1ª Instª. e Instr./Secc. Civil y de Inst. TI | E16: =IF(ISNUMBER(Datos!AQ16),Datos!AQ16," - ") -> 6 | F16: =IF(ISNUMBER(AA16+W16-Datos!J16-K16),AA16+W16-Datos!J16-K16," - ") -> 3108 | G16: =IF(ISNUMBER(IF(D_I="SI",Datos!I16,Datos!I16+Datos!AC16)),IF(D_I="SI",Datos!I16,Datos!I16+Datos!AC16)," - ") -> 3362 | H16: =IF(ISNUMBER(Datos!DB16),Datos!DB16," - ") -> - | I16: =IF(ISNUMBER(Datos!DC16),Datos!DC16," - ") -> - | J16: =IF(ISNUMBER(Datos!DD16),Datos!DD16," - ") -> - | K16: =IF(ISNUMBER(Datos!DF16),Datos!DF16,0) -> 0 | L16: =IF(ISNUMBER(Datos!P16),Datos!P16,0) -> 38 | M16: =IF(ISNUMBER(Datos!DE16),Datos!DE16," - ") -> - | N16: =IF(ISNUMBER(H16),H16," - ") -> - | O16: =IF(ISNUMBER(INDIRECT("N"&ROW()+salto-1)),N16+(INDIRECT("N"&ROW()+salto-1))/9.15,N16/9.15+(INDIRECT("N"&ROW()-salto+1))) -> #VALUE! | P16: =IF(ISNUMBER((N16)/((BF16+BG16)/2)),(N16)/((BF16+BG16)/2)," - ") -> - | Q16: =IF(jurisdiccion="Jurisdicción Civil y Penal",IF(ISNUMBER((O16)/((BL16+BM16)/2)),(O16)/((BL16+BM16)/2)," - "),IF(ISNUMBER((N16)/((BF16+BG16)/2)),(N16)/((BF16+BG16)/2)," - ")) -> - | R16: =IF(ISNUMBER(Datos!CB16),Datos!CB16," - ") -> - | S16: =IF(ISNUMBER(Datos!BY16),Datos!BY16," - ") -> - | T16: =IF(ISNUMBER((S16*factor_trimestre)/DatosB!CN16),(S16*factor_trimestre)/DatosB!CN16,"-") -> - | U16: =IF(ISNUMBER(INDIRECT("S"&ROW()+salto-1)),S16+(INDIRECT("S"&ROW()+salto-1)),S16+(INDIRECT("S"&ROW()-salto+1))) -> #VALUE! | V16: =IF(ISNUMBER((U16*factor_trimestre)/DatosB!CN16),(U16*factor_trimestre)/DatosB!CN16,"-") -> - | W16: =IF(ISNUMBER(IF(D_I="SI",Datos!K16,Datos!K16+Datos!AE16)),IF(D_I="SI",Datos!K16,Datos!K16+Datos!AE16)," - ") -> 1556 | X16: =IF(ISNUMBER(Datos!Q16),Datos!Q16," - ") -> 34 | Y16: =SUM(W16:X16) -> 1590 | Z16: =IF(ISNUMBER(Datos!CC16),Datos!CC16," - ") -> - | AA16: =IF(ISNUMBER(IF(D_I="SI",Datos!L16,Datos!L16+Datos!AF16)),IF(D_I="SI",Datos!L16,Datos!L16+Datos!AF16)," - ") -> 3347 | AB16: =IF(ISNUMBER(Datos!R16),Datos!R16," - ") -> 339 | AC16: =IF(ISNUMBER(AA16+AB16),AA16+AB16," - ") -> 3686 | AD16: =IF(ISNUMBER(Datos!CD16),Datos!CD16," - ") -> - | AE16: =IF(ISNUMBER(Datos!BV16),Datos!BV16," - ") -> - | AF16: =IF(ISNUMBER(Datos!CK16),Datos!CK16," - ") -> - | AG16: =IF(ISNUMBER(Datos!CL16),Datos!CL16," - ") -> - | AH16: =IF(ISNUMBER(Datos!CM16),Datos!CM16," - ") -> - | AI16: =IF(ISNUMBER(Datos!M16),Datos!M16," - ") -> 259 | AJ16: =IF(ISNUMBER(Datos!BW16),Datos!BW16," - ") -> - | AK16: =IF(ISNUMBER(Datos!BX16),Datos!BX16," - ") -> - | AL16: =IF(ISNUMBER(NºAsuntos!G16/NºAsuntos!E16),NºAsuntos!G16/NºAsuntos!E16," - ") -> 0.86685237 | AM16: =IF(ISNUMBER(((NºAsuntos!I16/NºAsuntos!G16)*11)/factor_trimestre),((NºAsuntos!I16/NºAsuntos!G16)*11)/factor_trimestre," - ") -> 6.4530848 | AN16: =IF(ISNUMBER('Resol Asuntos'!D16/NºAsuntos!G16),'Resol Asuntos'!D16/NºAsuntos!G16," - ") -> 0.16645244 | AO16: =IF(ISNUMBER((NºAsuntos!C16+NºAsuntos!E16)/NºAsuntos!G16),(NºAsuntos!C16+NºAsuntos!E16)/NºAsuntos!G16," - ") -> 3.3142674 | AP16: =IF(ISNUMBER(AT16/AU16),AT16/AU16," - ") -> - | AQ16: =IF(ISNUMBER((I16-W16+K16)/(F16)),(I16-W16+K16)/(F16)," - ") -> - | AR16: =IF(ISNUMBER((Datos!P16-Datos!Q16+M16)/(Datos!R16-Datos!P16+Datos!Q16-M16)),(Datos!P16-Datos!Q16+M16)/(Datos!R16-Datos!P16+Datos!Q16-M16)," - ") -> - | AS16: =IF(ISNUMBER(Datos!CS16),Datos!CS16," - ") -> - | AT16: =IF(ISNUMBER(Datos!CI16),Datos!CI16," - ") -> - | AU16: =IF(ISNUMBER(Datos!CJ16),Datos!CJ16," - ") -> - | AV16: =IF(ISNUMBER(Datos!CW16),Datos!CW16," - ") -> - | AW16: =IF(ISNUMBER(Datos!EV16),Datos!EV16," - ") -> - | AX16: =IF(ISNUMBER(Datos!CX16)," - ",Datos!CX16) -> 0 | AY16: =IF(ISNUMBER(Datos!ET16),Datos!ET16," - ") -> - | AZ16: =(AY16/Datos!ER16)*factor_trimestre -> #VALUE! | BF16: =Datos!BN16/factor_trimestre -> 0 | BG16: =Datos!BO16/factor_trimestre -> 0 | BH16: =Datos!BP16/factor_trimestre -> 0 | BI16: =Datos!BQ16/factor_trimestre -> 0 | BJ16: =Datos!BR16/factor_trimestre -> 0 | BK16: =Datos!BS16/factor_trimestre -> 0 | BL16: =Datos!BT16/factor_trimestre -> 0 | BM16: =Datos!BU16/factor_trimestre -> 0
A17: =Datos!AO17 -> 1 | B17: P | C17: =Datos!A17 -> Jdos. Violencia contra la mujer/Secc Viol. TI. | E17: =IF(ISNUMBER(Datos!AQ17),Datos!AQ17," - ") -> 0 | F17: =IF(ISNUMBER(AA17+W17-H17-K17),AA17+W17-H17-K17," - ") -> - | G17: =IF(ISNUMBER(IF(D_I="SI",Datos!I17,Datos!I17+Datos!AC17)),IF(D_I="SI",Datos!I17,Datos!I17+Datos!AC17)," - ") -> 75 | H17: =IF(ISNUMBER(Datos!DB17),Datos!DB17," - ") -> - | I17: =IF(ISNUMBER(Datos!DC17),Datos!DC17," - ") -> - | J17: =IF(ISNUMBER(Datos!DD17),Datos!DD17," - ") -> - | K17: =IF(ISNUMBER(Datos!DF17),Datos!DF17,0) -> 0 | L17: =IF(ISNUMBER(Datos!P17),Datos!P17,0) -> 0 | M17: =IF(ISNUMBER(Datos!DE17),Datos!DE17," - ") -> - | N17: =IF(ISNUMBER(H17),H17," - ") -> - | O17: =IF(ISNUMBER(INDIRECT("N"&ROW()+salto-1)),N17+(INDIRECT("N"&ROW()+salto-1)),N17+(INDIRECT("N"&ROW()-salto+1))) -> #VALUE! | P17: =IF(ISNUMBER((N17)/((BL17+BM17)/2)),(N17)/((BL17+BM17)/2)," - ") -> - | Q17: =IF(jurisdiccion="Jurisdicción Civil y Penal",IF(ISNUMBER((O17)/((BL17+BM17)/2)),(O17)/((BL17+BM17)/2)," - "),IF(ISNUMBER((N17)/((BF17+BG17)/2)),(N17)/((BF17+BG17)/2)," - ")) -> - | R17: =IF(ISNUMBER(Datos!CB17),Datos!CB17," - ") -> - | S17: =IF(ISNUMBER(Datos!BY17+Datos!BZ17),Datos!BY17+Datos!BZ17," - ") -> - | T17: =IF(ISNUMBER((S17*factor_trimestre)/DatosB!CN17),(S17*factor_trimestre)/DatosB!CN17,"-") -> - | U17: =IF(ISNUMBER(INDIRECT("S"&ROW()+salto-1)),S17+(INDIRECT("S"&ROW()+salto-1)),S17+(INDIRECT("S"&ROW()-salto+1))) -> #VALUE! | V17: =IF(ISNUMBER((U17*factor_trimestre)/DatosB!CN17),(U17*factor_trimestre)/DatosB!CN17,"-") -> - | W17: =IF(ISNUMBER(IF(D_I="SI",Datos!K17,Datos!K17+Datos!AE17)),IF(D_I="SI",Datos!K17,Datos!K17+Datos!AE17)," - ") -> 132 | X17: =IF(ISNUMBER(Datos!Q17),Datos!Q17," - ") -> 1 | Y17: =SUM(W17:X17) -> 133 | Z17: =IF(ISNUMBER(Datos!CC17),Datos!CC17," - ") -> - | AA17: =IF(ISNUMBER(Datos!L17),Datos!L17,"-") -> 49 | AB17: =IF(ISNUMBER(Datos!R17),Datos!R17," - ") -> 6 | AC17: =IF(ISNUMBER(AA17+AB17),AA17+AB17," - ") -> 55 | AD17: =IF(ISNUMBER(Datos!CD17),Datos!CD17," - ") -> - | AE17: =IF(ISNUMBER(Datos!BV17),Datos!BV17," - ") -> - | AF17: =IF(ISNUMBER(Datos!CK17),Datos!CK17," - ") -> - | AG17: =IF(ISNUMBER(Datos!CL17),Datos!CL17," - ") -> - | AH17: =IF(ISNUMBER(Datos!CM17),Datos!CM17," - ") -> - | AI17: =IF(ISNUMBER(Datos!M17),Datos!M17," - ") -> 18 | AJ17: =IF(ISNUMBER(Datos!BW17),Datos!BW17," - ") -> - | AK17: =IF(ISNUMBER(Datos!BX17),Datos!BX17," - ") -> - | AL17: =IF(ISNUMBER(NºAsuntos!G17/NºAsuntos!E17),NºAsuntos!G17/NºAsuntos!E17," - ") -> 1.245283 | AM17: =IF(ISNUMBER(((NºAsuntos!I17/NºAsuntos!G17)*11)/factor_trimestre),((NºAsuntos!I17/NºAsuntos!G17)*11)/factor_trimestre," - ") -> 1.1136364 | AN17: =IF(ISNUMBER('Resol Asuntos'!D17/NºAsuntos!G17),'Resol Asuntos'!D17/NºAsuntos!G17," - ") -> 0.13636364 | AO17: =IF(ISNUMBER((NºAsuntos!C17+NºAsuntos!E17)/NºAsuntos!G17),(NºAsuntos!C17+NºAsuntos!E17)/NºAsuntos!G17," - ") -> 1.3712121 | AP17: =IF(ISNUMBER(AT17/AU17),AT17/AU17," - ") -> - | AQ17: =IF(ISNUMBER((H17-W17+K17)/(F17)),(H17-W17+K17)/(F17)," - ") -> - | AR17: =IF(ISNUMBER((Datos!P17-Datos!Q17+M17)/(Datos!R17-Datos!P17+Datos!Q17-M17)),(Datos!P17-Datos!Q17+M17)/(Datos!R17-Datos!P17+Datos!Q17-M17)," - ") -> - | AS17: =IF(ISNUMBER(Datos!CS17),Datos!CS17," - ") -> - | AT17: =IF(ISNUMBER(Datos!CI17),Datos!CI17," - ") -> - | AU17: =IF(ISNUMBER(Datos!CJ17),Datos!CJ17," - ") -> - | AV17: =IF(ISNUMBER(Datos!CW17),Datos!CW17," - ") -> - | AW17: =IF(ISNUMBER(Datos!EV17),Datos!EV17," - ") -> - | AX17: =IF(ISNUMBER(Datos!CX17)," - ",Datos!CX17) -> 0 | AY17: =IF(ISNUMBER(Datos!EO17),Datos!EO17," - ") -> - | AZ17: =(AY17/Datos!ER17)*factor_trimestre -> #VALUE! | BF17: =Datos!BN17/factor_trimestre -> 0 | BG17: =Datos!BO17/factor_trimestre -> 0 | BH17: =Datos!BP17/factor_trimestre -> 0 | BI17: =Datos!BQ17/factor_trimestre -> 0 | BJ17: =Datos!BR17/factor_trimestre -> 0 | BK17: =Datos!BS17/factor_trimestre -> 0 | BL17: =Datos!BT17/factor_trimestre -> 0 | BM17: =Datos!BU17/factor_trimestre -> 0
C18: =Datos!A18 -> TOTAL | E18: =SUBTOTAL(9,E14:E17) -> 6 | F18: =SUBTOTAL(9,F14:F17) -> 3108 | G18: =SUBTOTAL(9,G15:G17) -> 3437 | H18: =SUBTOTAL(9,H14:H17) -> 0 | I18: =SUBTOTAL(9,I14:I17) -> 0 | J18: =SUBTOTAL(9,J14:J17) -> 0 | K18: =SUBTOTAL(9,K14:K17) -> 0 | L18: =SUBTOTAL(9,L14:L17) -> 38 | M18: =SUBTOTAL(9,M14:M17) -> 0 | N18: =SUBTOTAL(9,N14:N17) -> 0 | O18: =SUBTOTAL(9,O14:O17) -> #VALUE! | Q18: =IF(ISNUMBER((N18*factor_trimestre)/((Datos!BT18+Datos!BU18)/2)),(N18*factor_trimestre)/((Datos!BT18+Datos!BU18)/2)," - ") -> - | R18: =SUBTOTAL(9,R14:R17) -> 0 | S18: =SUBTOTAL(9,S14:S17) -> 0 | T18: =IF(ISNUMBER((S18*factor_trimestre)/DatosB!BM18),(S18*factor_trimestre)/DatosB!BM18,"-") -> 0 | U18: =SUBTOTAL(9,U14:U17) -> #VALUE! | V18: =IF(ISNUMBER((U18*factor_trimestre)/DatosB!CN18),(U18*factor_trimestre)/DatosB!CN18,"-") -> - | W18: =SUBTOTAL(9,W14:W17) -> 1688 | X18: =SUBTOTAL(9,X14:X17) -> 35 | Y18: =SUBTOTAL(9,Y14:Y17) -> 1723 | Z18: =SUBTOTAL(9,Z14:Z17) -> 0 | AA18: =SUBTOTAL(9,AA14:AA17) -> 3396 | AB18: =SUBTOTAL(9,AB14:AB17) -> 345 | AC18: =SUBTOTAL(9,AC14:AC17) -> 3741 | AD18: =SUBTOTAL(9,AD14:AD17) -> 0 | ... AK18: =SUBTOTAL(9,AK14:AK17) -> 0 | AL18: =IF(ISNUMBER(NºAsuntos!G18/NºAsuntos!E18),NºAsuntos!G18/NºAsuntos!E18," - ") -> 0.88795371 | AM18: =IF(ISNUMBER(((NºAsuntos!I18/NºAsuntos!G18)*11)/factor_trimestre),((NºAsuntos!I18/NºAsuntos!G18)*11)/factor_trimestre," - ") -> 6.035545 | AN18: =IF(ISNUMBER('Resol Asuntos'!D18/NºAsuntos!G18),'Resol Asuntos'!D18/NºAsuntos!G18," - ") -> 0.16409953 | AO18: =IF(ISNUMBER((NºAsuntos!C18+NºAsuntos!E18)/NºAsuntos!G18),(NºAsuntos!C18+NºAsuntos!E18)/NºAsuntos!G18," - ") -> 3.1623223 | AP18: =IF(ISNUMBER(AT18/AU18),AT18/AU18," - ") -> - | AQ18: =IF(ISNUMBER((H18-W18+K18)/(F18)),(H18-W18+K18)/(F18)," - ") -> -0.54311454 | AR18: =IF(ISNUMBER((Datos!P18-Datos!Q18)/(Datos!R18-Datos!P18+Datos!Q18)),(Datos!P18-Datos!Q18)/(Datos!R18-Datos!P18+Datos!Q18)," - ") -> 0.0087719298 | AS18: =SUBTOTAL(9,AS14:AS17) -> 0 | AT18: =SUBTOTAL(9,AT14:AT17) -> 0 | AU18: =SUBTOTAL(9,AU14:AU17) -> 0 | AV18: =SUBTOTAL(9,AV14:AV17) -> 0 | AW18: =SUBTOTAL(9,AW14:AW17) -> 0 | AY18: =SUBTOTAL(9,AY14:AY17) -> 0 | AZ18: =SUBTOTAL(9,AZ14:AZ17) -> #VALUE! | BF18: =SUM(BF14:BF17) -> 0 | BG18: =SUM(BG14:BG17) -> 0 | BH18: =SUM(BH14:BH17) -> 0 | BI18: =SUM(BI14:BI17) -> 0 | BJ18: =SUM(BJ14:BJ17) -> 0 | BK18: =SUM(BK14:BK17) -> 0 | BL18: =SUM(BL14:BL17) -> 0 | BM18: =SUM(BM14:BM17) -> 0
C19: =Datos!A19 -> TOTAL JURISDICCIONES | E19: =SUBTOTAL(9,E9:E18) -> 12 | F19: =SUBTOTAL(9,F9:F18) -> 3206 | G19: =SUBTOTAL(9,G9:G18) -> 3535 | H19: =SUBTOTAL(9,H9:H18) -> 0 | I19: =SUBTOTAL(9,I9:I18) -> 0 | J19: =SUBTOTAL(9,J9:J18) -> 0 | K19: =SUBTOTAL(9,K9:K18) -> 0 | L19: =SUBTOTAL(9,L9:L18) -> 686 | ... O19: =SUBTOTAL(9,O9:O18) -> #VALUE! | P19: =IF(ISNUMBER((N19*factor_trimestre)/((Datos!BT19+Datos!BU19)/2)),(N19*factor_trimestre)/((Datos!BT19+Datos!BU19)/2)," - ") -> - | Q19: =IF(ISNUMBER((N19*factor_trimestre)/((Datos!BT19+Datos!BU19)/2)),(N19*factor_trimestre)/((Datos!BT19+Datos!BU19)/2)," - ") -> - | R19: =SUBTOTAL(9,R9:R18) -> 0 | S19: =SUBTOTAL(9,S9:S18) -> 0 | T19: =IF(ISNUMBER((S19*factor_trimestre)/DatosB!CN19),(S19*factor_trimestre)/DatosB!CN19,"-") -> - | U19: =SUBTOTAL(9,U9:U18) -> #VALUE! | V19: =IF(ISNUMBER((U19*factor_trimestre)/DatosB!CN19),(U19*factor_trimestre)/DatosB!CN19,"-") -> - | W19: =SUBTOTAL(9,W9:W18) -> 1700 | X19: =SUBTOTAL(9,X9:X18) -> 268 | Y19: =SUBTOTAL(9,Y9:Y18) -> 1968 | Z19: =SUBTOTAL(9,Z9:Z18) -> 0 | AA19: =SUBTOTAL(9,AA9:AA18) -> 3493 | AB19: =SUBTOTAL(9,AB9:AB18) -> 9468 | AC19: =SUBTOTAL(9,AC9:AC18) -> 3905 | AD19: =SUBTOTAL(9,AD9:AD18) -> 0 | ... AK19: =SUBTOTAL(9,AK9:AK18) -> 0 | AL19: =IF(ISNUMBER(NºAsuntos!G19/NºAsuntos!E19),NºAsuntos!G19/NºAsuntos!E19," - ") -> 1.2065064 | AM19: =IF(ISNUMBER(((NºAsuntos!I19/NºAsuntos!G19)*11)/factor_trimestre),((NºAsuntos!I19/NºAsuntos!G19)*11)/factor_trimestre," - ") -> 6.7273154 | AN19: =IF(ISNUMBER('Resol Asuntos'!D19/NºAsuntos!G19),'Resol Asuntos'!D19/NºAsuntos!G19," - ") -> 0.17045721 | AO19: =IF(ISNUMBER((NºAsuntos!C19+NºAsuntos!E19)/NºAsuntos!G19),(NºAsuntos!C19+NºAsuntos!E19)/NºAsuntos!G19," - ") -> 3.301993 | AP19: =IF(ISNUMBER(AT19/AU19),AT19/AU19," - ") -> - | AQ19: =IF(OR(ISNUMBER(FIND("01",Criterios!A8,1)),ISNUMBER(FIND("02",Criterios!A8,1)),ISNUMBER(FIND("03",Criterios!A8,1)),ISNUMBER(FIND("04",Criterios!A8,1))),(I19-W19+K19)/(F19-K19),(H19-W19+K19)/(F19-K19)) -> -0.53025577 | AR19: =IF(ISNUMBER((Datos!P19-Datos!Q19)/(Datos!R19-Datos!P19+Datos!Q19)),(Datos!P19-Datos!Q19)/(Datos!R19-Datos!P19+Datos!Q19)," - ") -> 0.046187845 | AS19: =SUBTOTAL(9,AS9:AS18) -> 0 | AT19: =SUBTOTAL(9,AT9:AT18) -> 0 | AU19: =SUBTOTAL(9,AU9:AU18) -> 0 | AV19: =SUBTOTAL(9,AV9:AV18) -> 0 | AW19: =SUBTOTAL(9,AW9:AW18) -> 0 | AY19: =SUBTOTAL(9,AY9:AY18) -> 0 | AZ19: =SUBTOTAL(9,AZ9:AZ18) -> #VALUE! | BF19: =SUM(BF9:BF18) -> 0 | BG19: =SUM(BG9:BG18) -> 0 | BH19: =SUM(BH9:BH18) -> 0 | BI19: =SUM(BI9:BI18) -> 0 | BJ19: =SUM(BJ9:BJ18) -> 0 | BK19: =SUM(BK9:BK18) -> 0 | BL19: =SUM(BL9:BL18) -> 0 | BM19: =SUM(BM9:BM18) -> 0
C20: MEDIA | E20: =IF(ISNUMBER(SUMIF($B8:$B18,$B20,E8:E18)/INDIRECT("Datos!AP"&ROW()-1)),SUMIF($B8:$B18,$B20,E8:E18)/INDIRECT("Datos!AP"&ROW()-1),"-") -> 0 | F20: =IF(ISNUMBER(SUMIF($B8:$B18,$B20,F8:F18)/INDIRECT("Datos!AP"&ROW()-1)),SUMIF($B8:$B18,$B20,F8:F18)/INDIRECT("Datos!AP"&ROW()-1),"-") -> 0 | G20: =IF(ISNUMBER(AVERAGE(G8:G18)),AVERAGE(G8:G18),"-") -> 1414 | H20: =IF(ISNUMBER(SUMIF($B8:$B18,$B20,H8:H18)/INDIRECT("Datos!AP"&ROW()-1)),SUMIF($B8:$B18,$B20,H8:H18)/INDIRECT("Datos!AP"&ROW()-1),"-") -> 0 | I20: =IF(ISNUMBER(SUMIF($B8:$B18,$B20,I8:I18)/INDIRECT("Datos!AP"&ROW()-1)),SUMIF($B8:$B18,$B20,I8:I18)/INDIRECT("Datos!AP"&ROW()-1),"-") -> 0 | J20: =IF(ISNUMBER(SUMIF($B8:$B18,$B20,J8:J18)/INDIRECT("Datos!AP"&ROW()-1)),SUMIF($B8:$B18,$B20,J8:J18)/INDIRECT("Datos!AP"&ROW()-1),"-") -> 0 | K20: =IF(ISNUMBER(SUMIF($B8:$B18,$B20,K8:K18)/INDIRECT("Datos!AP"&ROW()-1)),SUMIF($B8:$B18,$B20,K8:K18)/INDIRECT("Datos!AP"&ROW()-1),"-") -> 0 | L20: =IF(ISNUMBER(SUMIF($B8:$B18,$B20,L8:L18)/INDIRECT("Datos!AP"&ROW()-1)),SUMIF($B8:$B18,$B20,L8:L18)/INDIRECT("Datos!AP"&ROW()-1),"-") -> 0 | M20: =IF(ISNUMBER(SUMIF($B8:$B18,$B20,M8:M18)/INDIRECT("Datos!AP"&ROW()-1)),SUMIF($B8:$B18,$B20,M8:M18)/INDIRECT("Datos!AP"&ROW()-1),"-") -> 0 | N20: =IF(ISNUMBER(SUMIF($B8:$B18,$B20,N8:N18)/INDIRECT("Datos!AP"&ROW()-1)),SUMIF($B8:$B18,$B20,N8:N18)/INDIRECT("Datos!AP"&ROW()-1),"-") -> 0 | O20: =IF(ISNUMBER(SUMIF($B8:$B18,$B20,O8:O18)/INDIRECT("Datos!AP"&ROW()-1)),SUMIF($B8:$B18,$B20,O8:O18)/INDIRECT("Datos!AP"&ROW()-1),"-") -> 0 | ... AO20: =IF(ISNUMBER(SUMIF($B8:$B18,$B20,AO8:AO18)/INDIRECT("Datos!AP"&ROW()-1)),SUMIF($B8:$B18,$B20,AO8:AO18)/INDIRECT("Datos!AP"&ROW()-1),"-") -> 0 | AP20: =IF(ISNUMBER(AT20/AU20),AT20/AU20," - ") -> - | AQ20: =IF(OR(ISNUMBER(FIND("01",Criterios!A8,1)),ISNUMBER(FIND("02",Criterios!A8,1)),ISNUMBER(FIND("03",Criterios!A8,1)),ISNUMBER(FIND("04",Criterios!A8,1))),(I20-W20+K20)/(F20-K20),(H20-W20+K20)/(F20-K20)) -> #DIV/0! | AR20: =IF(ISNUMBER(SUMIF($B8:$B18,$B20,AR8:AR18)/INDIRECT("Datos!AP"&ROW()-1)),SUMIF($B8:$B18,$B20,AR8:AR18)/INDIRECT("Datos!AP"&ROW()-1),"-") -> 0 | AS20: =IF(ISNUMBER(SUMIF($B8:$B18,$B20,AS8:AS18)/INDIRECT("Datos!AP"&ROW()-1)),SUMIF($B8:$B18,$B20,AS8:AS18)/INDIRECT("Datos!AP"&ROW()-1),"-") -> 0 | AT20: =IF(ISNUMBER(SUMIF($B8:$B18,$B20,AT8:AT18)/INDIRECT("Datos!AP"&ROW()-1)),SUMIF($B8:$B18,$B20,AT8:AT18)/INDIRECT("Datos!AP"&ROW()-1),"-") -> 0 | AU20: =IF(ISNUMBER(SUMIF($B8:$B18,$B20,AU8:AU18)/INDIRECT("Datos!AP"&ROW()-1)),SUMIF($B8:$B18,$B20,AU8:AU18)/INDIRECT("Datos!AP"&ROW()-1),"-") -> 0 | AV20: =IF(ISNUMBER(SUMIF($B8:$B18,$B20,AV8:AV18)/INDIRECT("Datos!AP"&ROW()-1)),SUMIF($B8:$B18,$B20,AV8:AV18)/INDIRECT("Datos!AP"&ROW()-1),"-") -> 0 | AW20: =IF(ISNUMBER(SUMIF($B8:$B18,$B20,AW8:AW18)/INDIRECT("Datos!AP"&ROW()-1)),SUMIF($B8:$B18,$B20,AW8:AW18)/INDIRECT("Datos!AP"&ROW()-1),"-") -> 0 | AY20: =IF(ISNUMBER(SUMIF($B8:$B18,$B20,AY8:AY18)/INDIRECT("Datos!AP"&ROW()-1)),SUMIF($B8:$B18,$B20,AY8:AY18)/INDIRECT("Datos!AP"&ROW()-1),"-") -> 0 | AZ20: =IF(ISNUMBER(SUMIF($B8:$B18,$B20,AZ8:AZ18)/INDIRECT("Datos!AP"&ROW()-1)),SUMIF($B8:$B18,$B20,AZ8:AZ18)/INDIRECT("Datos!AP"&ROW()-1),"-") -> 0
C21: DESVIACIÓN TÍPICA | E21: =IF(ISNUMBER(STDEV(E8:E18)),STDEV(E8:E18),"-") -> 3.1622777 | F21: =IF(ISNUMBER(STDEV(F8:F18)),STDEV(F8:F18),"-") -> 1737.8243 | G21: =IF(ISNUMBER(STDEV(G8:G18)),STDEV(G8:G18),"-") -> 1812.7235 | H21: =IF(ISNUMBER(STDEV(H8:H18)),STDEV(H8:H18),"-") -> 0 | I21: =IF(ISNUMBER(STDEV(I8:I18)),STDEV(I8:I18),"-") -> 0 | S21: =IF(ISNUMBER(STDEV(S8:S18)),STDEV(S8:S18),"-") -> 0 | T21: =IF(ISNUMBER(STDEV(T8:T18)),STDEV(T8:T18),"-") -> 0 | U21: =IF(ISNUMBER(STDEV(U8:U18)),STDEV(U8:U18),"-") -> - | W21: =IF(ISNUMBER(STDEV(W8:W18)),STDEV(W8:W18),"-") -> 862.58217 | AE21: =IF(ISNUMBER(STDEV(AE8:AE18)),STDEV(AE8:AE18),"-") -> 0 | AF21: =IF(ISNUMBER(STDEV(AF8:AF18)),STDEV(AF8:AF18),"-") -> 0 | AG21: =IF(ISNUMBER(STDEV(AG8:AG18)),STDEV(AG8:AG18),"-") -> 0 | AI21: =IF(ISNUMBER(STDEV(AI8:AI18)),STDEV(AI8:AI18),"-") -> 194.78672 | AJ21: =IF(ISNUMBER(STDEV(AJ8:AJ18)),STDEV(AJ8:AJ18),"-") -> 0 | AK21: =IF(ISNUMBER(STDEV(AK8:AK18)),STDEV(AK8:AK18),"-") -> 0 | AL21: =IF(ISNUMBER(STDEV(AL8:AL18)),STDEV(AL8:AL18),"-") -> 0.31901145 | AM21: =IF(ISNUMBER(STDEV(AM8:AM18)),STDEV(AM8:AM18),"-") -> 7.9544931 | AN21: =IF(ISNUMBER(STDEV(AN8:AN18)),STDEV(AN8:AN18),"-") -> 0.2061729 | AO21: =IF(ISNUMBER(STDEV(AO8:AO18)),STDEV(AO8:AO18),"-") -> 2.6334617 | AP21: =IF(ISNUMBER(STDEV(AP8:AP18)),STDEV(AP8:AP18),"-") -> - | AQ21: =IF(ISNUMBER(STDEV(AQ8:AQ18)),STDEV(AQ8:AQ18),"-") -> 0.29745547 | AS21: =IF(ISNUMBER(STDEV(AS8:AS18)),STDEV(AS8:AS18),"-") -> 0 | AT21: =IF(ISNUMBER(STDEV(AT8:AT18)),STDEV(AT8:AT18),"-") -> 0 | AU21: =IF(ISNUMBER(STDEV(AU8:AU18)),STDEV(AU8:AU18),"-") -> 0 | AV21: =IF(ISNUMBER(STDEV(AV8:AV18)),STDEV(AV8:AV18),"-") -> 0 | AW21: =IF(ISNUMBER(STDEV(AW8:AW18)),STDEV(AW8:AW18),"-") -> 0 | AX21: =IF(ISNUMBER(STDEV(AX8:AX18)),STDEV(AX8:AX18),"-") -> 0
C25: Límite Superior | E25: =E23+2*E24 -> 0 | F25: =F23+2*F24 -> 0 | G25: =G23+2*G24 -> 0 | H25: =H23+2*H24 -> 0 | I25: =I23+2*I24 -> 0 | J25: =J23+2*J24 -> 0 | K25: =K23+2*K24 -> 0 | L25: =L23+2*L24 -> 0 | ... O25: =O23+2*O24 -> 0 | Q25: =Q23+2*Q24 -> 0 | R25: =R23+2*R24 -> 0 | S25: =S23+2*S24 -> 0 | T25: =T23+2*T24 -> 0 | U25: =U23+2*U24 -> 0 | W25: =W23+2*W24 -> 0 | X25: =X23+2*X24 -> 0 | Y25: =Y23+2*Y24 -> 0 | Z25: =Z23+2*Z24 -> 0 | AA25: =AA23+2*AA24 -> 0 | AB25: =AB23+2*AB24 -> 0 | AC25: =AC23+2*AC24 -> 0 | AD25: =AD23+2*AD24 -> 0 | ... AX25: =AX23+2*AX24 -> 0
C26: Límite Inferirior | E26: =MIN(0,E23-2*E24) -> 0 | F26: =MIN(0,F23-2*F24) -> 0 | G26: =MIN(0,G23-2*G24) -> 0 | H26: =MIN(0,H23-2*H24) -> 0 | I26: =MIN(0,I23-2*I24) -> 0 | J26: =MIN(0,J23-2*J24) -> 0 | K26: =MIN(0,K23-2*K24) -> 0 | L26: =MIN(0,L23-2*L24) -> 0 | ... O26: =MIN(0,O23-2*O24) -> 0 | Q26: =MIN(0,Q23-2*Q24) -> 0 | R26: =MIN(0,R23-2*R24) -> 0 | S26: =MIN(0,S23-2*S24) -> 0 | T26: =MIN(0,T23-2*T24) -> 0 | U26: =MIN(0,U23-2*U24) -> 0 | W26: =MIN(0,W23-2*W24) -> 0 | X26: =MIN(0,X23-2*X24) -> 0 | Y26: =MIN(0,Y23-2*Y24) -> 0 | Z26: =MIN(0,Z23-2*Z24) -> 0 | AA26: =MIN(0,AA23-2*AA24) -> 0 | AB26: =MIN(0,AB23-2*AB24) -> 0 | AC26: =MIN(0,AC23-2*AC24) -> 0 | AD26: =MIN(0,AD23-2*AD24) -> 0 | ... AX26: =MIN(0,AX23-2*AX24) -> 0
C30: =Criterios!A4 -> Fecha Informe: 17 mar. 2026

Sheet Evolucion
D2: =Criterios!A9 &" "&Criterios!B9 -> Tribunales de Justicia CATALUÑA
D3: =Criterios!A10 &" "&Criterios!B10 -> Provincias BARCELONA
D4: =Criterios!A11 &" "&Criterios!B11 -> Resumenes por Partidos Judiciales VIC
C5: ="Año: " &Criterios!B5 & " Trimestre " &Criterios!D5 & " al " &Criterios!D6 -> Año: 2025 Trimestre 4 al 4 | D5: En Tramite Al Inicio Del Periodo | E5: Ingresados | F5: Resueltos | G5: En Tramite Al Final Del Periodo | H5: Sentencias | I5: Tasas Pendencia | J5: Tasas Sentencia | K5: Tasas Congestión | N5: monitorios año anterior | Q5: jurisdiccion voluntaria año anterior
M6: P inicio | N6: Ingresados año anterior | O6: Resuleltos año anterior | P6: al finalizar año anterior | Q6: P inicio | R6: Ingresados año anterior | S6: Resuleltos año anterior | T6: al finalizar año anterior
C7: =Datos!A7 -> COMPETENCIAS
C8: =Datos!A8 -> Jurisdicción Civil ( 1 ):
B9: C | C9: =Datos!A9 -> Jdos. 1ª Instancia | D9: =IF(ISNUMBER((Indicadores!G9-(Datos!S9-M9+Q9))/(Datos!S9-M9+Q9)),(Indicadores!G9-(Datos!S9-M9+Q9))/(Datos!S9-M9+Q9)," - ") -> - | E9: =IF(ISNUMBER((Indicadores!H9-(Datos!T9-N9+R9))/(Datos!T9-N9+R9)),(Indicadores!H9-(Datos!T9-N9+R9))/(Datos!T9-N9+R9)," - ") -> - | F9: =IF(ISNUMBER((Indicadores!W9-(Datos!U9-O9+S9))/(Datos!U9-O9+S9)),(Indicadores!W9-(Datos!U9-O9+S9))/(Datos!U9-O9+S9)," - ") -> - | G9: =IF(ISNUMBER((Indicadores!AA9-(Datos!V9-P9+T9))/(Datos!V9-P9+T9)),(Indicadores!AA9-(Datos!V9-P9+T9))/(Datos!V9-P9+T9)," - ") -> - | H9: =IF(ISNUMBER((Datos!M9-Datos!W9)/Datos!W9),(Datos!M9-Datos!W9)/Datos!W9," - ") -> - | I9: =IF(ISNUMBER((Tasas!C9-Datos!BE9)/Datos!BE9),(Tasas!C9-Datos!BE9)/Datos!BE9," - ") -> - | J9: =IF(ISNUMBER((Tasas!D9-Datos!BF9)/Datos!BF9),(Tasas!D9-Datos!BF9)/Datos!BF9," - ") -> - | K9: =IF(ISNUMBER((Tasas!E9-Datos!BG9)/Datos!BG9),(Tasas!E9-Datos!BG9)/Datos!BG9," - ") -> - | M9: =IF(Monitorios="SI",Datos!CE9,0) -> #REF! | N9: =IF(Monitorios="SI",Datos!CF9,0) -> #REF! | O9: =IF(Monitorios="SI",Datos!CG9,0) -> #REF! | P9: =IF(Monitorios="SI",Datos!CH9,0) -> #REF! | Q9: =IF(J_V="SI",0,Datos!AG9) -> 0 | R9: =IF(J_V="SI",0,Datos!AH9) -> 0 | S9: =IF(J_V="SI",0,Datos!AI9) -> 0 | T9: =IF(J_V="SI",0,Datos!AJ9) -> 0
B10: C | C10: =Datos!A10 -> Jdos. Violencia contra la mujer/Secc Viol. TI. | D10: =IF(ISNUMBER((Datos!I10-Datos!S10)/Datos!S10),(Datos!I10-Datos!S10)/Datos!S10," - ") -> 0.010309278 | E10: =IF(ISNUMBER((Datos!J10-Datos!T10)/Datos!T10),(Datos!J10-Datos!T10)/Datos!T10," - ") -> -0.26666667 | F10: =IF(ISNUMBER((Datos!K10-Datos!U10)/Datos!U10),(Datos!K10-Datos!U10)/Datos!U10," - ") -> -0.57142857 | G10: =IF(ISNUMBER((Datos!L10-Datos!V10)/Datos!V10),(Datos!L10-Datos!V10)/Datos!V10," - ") -> 0.1547619 | H10: =IF(ISNUMBER((Datos!M10-Datos!W10)/Datos!W10),(Datos!M10-Datos!W10)/Datos!W10," - ") -> -0.27272727 | I10: =IF(ISNUMBER((Tasas!C10-Datos!BE10)/Datos!BE10),(Tasas!C10-Datos!BE10)/Datos!BE10," - ") -> 1.6944444 | J10: =IF(ISNUMBER((Tasas!D10-Datos!BF10)/Datos!BF10),(Tasas!D10-Datos!BF10)/Datos!BF10," - ") -> 0.6969697 | K10: =IF(ISNUMBER((Tasas!E10-Datos!BG10)/Datos!BG10),(Tasas!E10-Datos!BG10)/Datos!BG10," - ") -> 1.2708333
B11: C | C11: =Datos!A11 -> Jdos. Familia | D11: =IF(ISNUMBER((Indicadores!G11-(Datos!S11-M11+Q11))/(Datos!S11-M11+Q11)),(Indicadores!G11-(Datos!S11-M11+Q11))/(Datos!S11-M11+Q11)," - ") -> - | E11: =IF(ISNUMBER((Indicadores!H11-(Datos!T11-N11+R11))/(Datos!T11-N11+R11)),(Indicadores!H11-(Datos!T11-N11+R11))/(Datos!T11-N11+R11)," - ") -> - | F11: =IF(ISNUMBER((Indicadores!W11-(Datos!U11-O11+S11))/(Datos!U11-O11+S11)),(Indicadores!W11-(Datos!U11-O11+S11))/(Datos!U11-O11+S11)," - ") -> - | G11: =IF(ISNUMBER((Indicadores!AA11-(Datos!V11-P11+T11))/(Datos!V11-P11+T11)),(Indicadores!AA11-(Datos!V11-P11+T11))/(Datos!V11-P11+T11)," - ") -> - | H11: =IF(ISNUMBER((Datos!M11-Datos!W11)/Datos!W11),(Datos!M11-Datos!W11)/Datos!W11," - ") -> - | I11: =IF(ISNUMBER((Tasas!C11-Datos!BE11)/Datos!BE11),(Tasas!C11-Datos!BE11)/Datos!BE11," - ") -> - | J11: =IF(ISNUMBER((Tasas!D11-Datos!BF11)/Datos!BF11),(Tasas!D11-Datos!BF11)/Datos!BF11," - ") -> - | K11: =IF(ISNUMBER((Tasas!E11-Datos!BG11)/Datos!BG11),(Tasas!E11-Datos!BG11)/Datos!BG11," - ") -> - | M11: =IF(Monitorios="SI",Datos!CE11,0) -> #REF! | N11: =IF(Monitorios="SI",Datos!CF11,0) -> #REF! | O11: =IF(Monitorios="SI",Datos!CG11,0) -> #REF! | P11: =IF(Monitorios="SI",Datos!CH11,0) -> #REF! | Q11: =IF(J_V="SI",0,Datos!AG11) -> 0 | R11: =IF(J_V="SI",0,Datos!AH11) -> 0 | S11: =IF(J_V="SI",0,Datos!AI11) -> 0 | T11: =IF(J_V="SI",0,Datos!AJ11) -> 0
B12: C | C12: =Datos!A12 -> Jdos. 1ª Instª. e Instr./Secc. Civil y de Inst. TI | D12: =IF(ISNUMBER((Indicadores!G12-(Datos!S12+M12+Q12))/(Datos!S12+M12+Q12)),(Indicadores!G12-(Datos!S12+M12+Q12))/(Datos!S12+M12+Q12)," - ") -> - | E12: =IF(ISNUMBER((Indicadores!H12-(Datos!T12+N12+R12))/(Datos!T12+N12+R12)),(Indicadores!H12-(Datos!T12+N12+R12))/(Datos!T12+N12+R12)," - ") -> - | F12: =IF(ISNUMBER((Indicadores!W12-(Datos!U12+O12+S12))/(Datos!U12+O12+S12)),(Indicadores!W12-(Datos!U12+O12+S12))/(Datos!U12+O12+S12)," - ") -> - | G12: =IF(ISNUMBER((Indicadores!AA12-(Datos!V12-P12+T12))/(Datos!V12-P12+T12)),(Indicadores!AA12-(Datos!V12-P12+T12))/(Datos!V12-P12+T12)," - ") -> - | H12: =IF(ISNUMBER((Datos!M12-Datos!W12)/Datos!W12),(Datos!M12-Datos!W12)/Datos!W12," - ") -> 0.11616162 | I12: =IF(ISNUMBER((Tasas!C12-Datos!BE12)/Datos!BE12),(Tasas!C12-Datos!BE12)/Datos!BE12," - ") -> -0.43704611 | J12: =IF(ISNUMBER((Tasas!D12-Datos!BF12)/Datos!BF12),(Tasas!D12-Datos!BF12)/Datos!BF12," - ") -> -0.582846 | K12: =IF(ISNUMBER((Tasas!E12-Datos!BG12)/Datos!BG12),(Tasas!E12-Datos!BG12)/Datos!BG12," - ") -> -0.3544603 | M12: =IF(Monitorios="SI",Datos!CE12,0) -> #REF! | N12: =IF(Monitorios="SI",Datos!CF12,0) -> #REF! | O12: =IF(Monitorios="SI",Datos!CG12,0) -> #REF! | P12: =IF(Monitorios="SI",Datos!CH12,0) -> #REF! | Q12: =IF(J_V="SI",0,Datos!AG12) -> 81 | R12: =IF(J_V="SI",0,Datos!AH12) -> 94 | S12: =IF(J_V="SI",0,Datos!AI12) -> 101 | T12: =IF(J_V="SI",0,Datos!AJ12) -> 74
C13: =Datos!A13 -> TOTAL | D13: =IF(ISNUMBER((Indicadores!G13-(Datos!S13-M13+Q13))/(Datos!S13-M13+Q13)),(Indicadores!G13-(Datos!S13-M13+Q13))/(Datos!S13-M13+Q13)," - ") -> - | E13: =IF(ISNUMBER((Indicadores!H13-(Datos!T13-N13+R13))/(Datos!T13-N13+R13)),(Indicadores!H13-(Datos!T13-N13+R13))/(Datos!T13-N13+R13)," - ") -> - | F13: =IF(ISNUMBER((Indicadores!W13-(Datos!U13-O13+S13))/(Datos!U13-O13+S13)),(Indicadores!W13-(Datos!U13-O13+S13))/(Datos!U13-O13+S13)," - ") -> - | G13: =IF(ISNUMBER((Indicadores!F13-(Datos!V13-P13+T13))/(Datos!V13-P13+T13)),(Indicadores!F13-(Datos!V13-P13+T13))/(Datos!V13-P13+T13)," - ") -> - | H13: =IF(ISNUMBER((Datos!M13-Datos!W13)/Datos!W13),(Datos!M13-Datos!W13)/Datos!W13," - ") -> 0.10565111 | I13: =IF(ISNUMBER((Tasas!C13-Datos!BE13)/Datos!BE13),(Tasas!C13-Datos!BE13)/Datos!BE13," - ") -> -0.42790484 | J13: =IF(ISNUMBER((Tasas!D13-Datos!BF13)/Datos!BF13),(Tasas!D13-Datos!BF13)/Datos!BF13," - ") -> -0.57691816 | K13: =IF(ISNUMBER((Tasas!E13-Datos!BG13)/Datos!BG13),(Tasas!E13-Datos!BG13)/Datos!BG13," - ") -> -0.34674595 | M13: =IF(Monitorios="SI",Datos!CE13,0) -> #REF! | N13: =IF(Monitorios="SI",Datos!CF13,0) -> #REF! | O13: =IF(Monitorios="SI",Datos!CG13,0) -> #REF! | P13: =IF(Monitorios="SI",Datos!CH13,0) -> #REF! | Q13: =IF(J_V="SI",0,Datos!AG13) -> 81 | R13: =IF(J_V="SI",0,Datos!AH13) -> 94 | S13: =IF(J_V="SI",0,Datos!AI13) -> 101 | T13: =IF(J_V="SI",0,Datos!AJ13) -> 74
C14: =Datos!A14 -> Jurisdicción Penal ( 2 ):
B15: P | C15: =Datos!A15 -> Jdos. Instrucción | D15: =IF(ISNUMBER( IF(D_I="SI",(Datos!I15-Datos!S15)/Datos!S15,(Datos!I15+Datos!AC15-(Datos!S15+Datos!AK15))/(Datos!S15+Datos!AK15)) ),IF(D_I="SI",(Datos!I15-Datos!S15)/Datos!S15,(Datos!I15+Datos!AC15-(Datos!S15+Datos!AK15))/(Datos!S15+Datos!AK15))," - ") -> - | E15: =IF(ISNUMBER( IF(D_I="SI",(Datos!J15-Datos!T15)/Datos!T15,(Datos!J15+Datos!AD15-(Datos!T15+Datos!AL15))/(Datos!T15+Datos!AL15)) ),IF(D_I="SI",(Datos!J15-Datos!T15)/Datos!T15,(Datos!J15+Datos!AD15-(Datos!T15+Datos!AL15))/(Datos!T15+Datos!AL15))," - ") -> - | F15: =IF(ISNUMBER( IF(D_I="SI",(Datos!K15-Datos!U15)/Datos!U15,(Datos!K15+Datos!AE15-(Datos!U15+Datos!AM15))/(Datos!U15+Datos!AM15)) ),IF(D_I="SI",(Datos!K15-Datos!U15)/Datos!U15,(Datos!K15+Datos!AE15-(Datos!U15+Datos!AM15))/(Datos!U15+Datos!AM15))," - ") -> - | G15: =IF(ISNUMBER( IF(D_I="SI",(Datos!L15-Datos!V15)/Datos!V15,(Datos!L15+Datos!AF15-(Datos!V15+Datos!AN15))/(Datos!V15+Datos!AN15)) ),IF(D_I="SI",(Datos!L15-Datos!V15)/Datos!V15,(Datos!L15+Datos!AF15-(Datos!V15+Datos!AN15))/(Datos!V15+Datos!AN15))," - ") -> - | H15: =IF(ISNUMBER((Datos!M15-Datos!W15)/Datos!W15),(Datos!M15-Datos!W15)/Datos!W15," - ") -> - | I15: =IF(ISNUMBER((Tasas!C15-Datos!BE15)/Datos!BE15),(Tasas!C15-Datos!BE15)/Datos!BE15," - ") -> - | J15: =IF(ISNUMBER((Tasas!D15-Datos!BF15)/Datos!BF15),(Tasas!D15-Datos!BF15)/Datos!BF15," - ") -> - | K15: =IF(ISNUMBER((Tasas!E15-Datos!BG15)/Datos!BG15),(Tasas!E15-Datos!BG15)/Datos!BG15," - ") -> -
B16: P | C16: =Datos!A16 -> Jdos. 1ª Instª. e Instr./Secc. Civil y de Inst. TI | D16: =IF(ISNUMBER( IF(D_I="SI",(Datos!I16-Datos!S16)/Datos!S16,(Datos!I16+Datos!AC16-(Datos!S16+Datos!AK16))/(Datos!S16+Datos!AK16)) ),IF(D_I="SI",(Datos!I16-Datos!S16)/Datos!S16,(Datos!I16+Datos!AC16-(Datos!S16+Datos!AK16))/(Datos!S16+Datos!AK16))," - ") -> 0.029078665 | E16: =IF(ISNUMBER( IF(D_I="SI",(Datos!J16-Datos!T16)/Datos!T16,(Datos!J16+Datos!AD16-(Datos!T16+Datos!AL16))/(Datos!T16+Datos!AL16)) ),IF(D_I="SI",(Datos!J16-Datos!T16)/Datos!T16,(Datos!J16+Datos!AD16-(Datos!T16+Datos!AL16))/(Datos!T16+Datos!AL16))," - ") -> -0.0044370494 | F16: =IF(ISNUMBER( IF(D_I="SI",(Datos!K16-Datos!U16)/Datos!U16,(Datos!K16+Datos!AE16-(Datos!U16+Datos!AM16))/(Datos!U16+Datos!AM16)) ),IF(D_I="SI",(Datos!K16-Datos!U16)/Datos!U16,(Datos!K16+Datos!AE16-(Datos!U16+Datos!AM16))/(Datos!U16+Datos!AM16))," - ") -> -0.12189616 | G16: =IF(ISNUMBER( IF(D_I="SI",(Datos!L16-Datos!V16)/Datos!V16,(Datos!L16+Datos!AF16-(Datos!V16+Datos!AN16))/(Datos!V16+Datos!AN16)) ),IF(D_I="SI",(Datos!L16-Datos!V16)/Datos!V16,(Datos!L16+Datos!AF16-(Datos!V16+Datos!AN16))/(Datos!V16+Datos!AN16))," - ") -> 0.094864246 | H16: =IF(ISNUMBER((Datos!M16-Datos!W16)/Datos!W16),(Datos!M16-Datos!W16)/Datos!W16," - ") -> -0.081560284 | I16: =IF(ISNUMBER((Tasas!C16-Datos!BE16)/Datos!BE16),(Tasas!C16-Datos!BE16)/Datos!BE16," - ") -> 0.24685054 | J16: =IF(ISNUMBER((Tasas!D16-Datos!BF16)/Datos!BF16),(Tasas!D16-Datos!BF16)/Datos!BF16," - ") -> 0.045935204 | K16: =IF(ISNUMBER((Tasas!E16-Datos!BG16)/Datos!BG16),(Tasas!E16-Datos!BG16)/Datos!BG16," - ") -> 0.15835932
B17: P | C17: =Datos!A17 -> Jdos. Violencia contra la mujer/Secc Viol. TI. | D17: =IF(ISNUMBER( IF(D_I="SI",(Datos!I17-Datos!S17)/Datos!S17,(Datos!I17+Datos!AC17-(Datos!S17+Datos!AK17))/(Datos!S17+Datos!AK17)) ),IF(D_I="SI",(Datos!I17-Datos!S17)/Datos!S17,(Datos!I17+Datos!AC17-(Datos!S17+Datos!AK17))/(Datos!S17+Datos!AK17))," - ") -> -0.35897436 | E17: =IF(ISNUMBER( IF(D_I="SI",(Datos!J17-Datos!T17)/Datos!T17,(Datos!J17+Datos!AD17-(Datos!T17+Datos!AL17))/(Datos!T17+Datos!AL17)) ),IF(D_I="SI",(Datos!J17-Datos!T17)/Datos!T17,(Datos!J17+Datos!AD17-(Datos!T17+Datos!AL17))/(Datos!T17+Datos!AL17))," - ") -> -0.38372093 | F17: =IF(ISNUMBER( IF(D_I="SI",(Datos!K17-Datos!U17)/Datos!U17,(Datos!K17+Datos!AE17-(Datos!U17+Datos!AM17))/(Datos!U17+Datos!AM17)) ),IF(D_I="SI",(Datos!K17-Datos!U17)/Datos!U17,(Datos!K17+Datos!AE17-(Datos!U17+Datos!AM17))/(Datos!U17+Datos!AM17))," - ") -> -0.30890052 | G17: =IF(ISNUMBER( IF(D_I="SI",(Datos!L17-Datos!V17)/Datos!V17,(Datos!L17+Datos!AF17-(Datos!V17+Datos!AN17))/(Datos!V17+Datos!AN17)) ),IF(D_I="SI",(Datos!L17-Datos!V17)/Datos!V17,(Datos!L17+Datos!AF17-(Datos!V17+Datos!AN17))/(Datos!V17+Datos!AN17))," - ") -> -0.50505051 | H17: =IF(ISNUMBER((Datos!M17-Datos!W17)/Datos!W17),(Datos!M17-Datos!W17)/Datos!W17," - ") -> 0.28571429 | I17: =IF(ISNUMBER((Tasas!C17-Datos!BE17)/Datos!BE17),(Tasas!C17-Datos!BE17)/Datos!BE17," - ") -> -0.28382308 | J17: =IF(ISNUMBER((Tasas!D17-Datos!BF17)/Datos!BF17),(Tasas!D17-Datos!BF17)/Datos!BF17," - ") -> 0.86038961 | K17: =IF(ISNUMBER((Tasas!E17-Datos!BG17)/Datos!BG17),(Tasas!E17-Datos!BG17)/Datos!BG17," - ") -> -0.093766384
C18: =Datos!A18 -> TOTAL | D18: =IF(ISNUMBER( IF(D_I="SI",(Datos!I18-Datos!S18)/Datos!S18,(Datos!I18+Datos!AC18-(Datos!S18+Datos!AK18))/(Datos!S18+Datos!AK18)) ),IF(D_I="SI",(Datos!I18-Datos!S18)/Datos!S18,(Datos!I18+Datos!AC18-(Datos!S18+Datos!AK18))/(Datos!S18+Datos!AK18))," - ") -> 0.015661939 | E18: =IF(ISNUMBER( IF(D_I="SI",(Datos!J18-Datos!T18)/Datos!T18,(Datos!J18+Datos!AD18-(Datos!T18+Datos!AL18))/(Datos!T18+Datos!AL18)) ),IF(D_I="SI",(Datos!J18-Datos!T18)/Datos!T18,(Datos!J18+Datos!AD18-(Datos!T18+Datos!AL18))/(Datos!T18+Datos!AL18))," - ") -> -0.037468354 | F18: =IF(ISNUMBER( IF(D_I="SI",(Datos!K18-Datos!U18)/Datos!U18,(Datos!K18+Datos!AE18-(Datos!U18+Datos!AM18))/(Datos!U18+Datos!AM18)) ),IF(D_I="SI",(Datos!K18-Datos!U18)/Datos!U18,(Datos!K18+Datos!AE18-(Datos!U18+Datos!AM18))/(Datos!U18+Datos!AM18))," - ") -> -0.1400917 | G18: =IF(ISNUMBER( IF(D_I="SI",(Datos!L18-Datos!V18)/Datos!V18,(Datos!L18+Datos!AF18-(Datos!V18+Datos!AN18))/(Datos!V18+Datos!AN18)) ),IF(D_I="SI",(Datos!L18-Datos!V18)/Datos!V18,(Datos!L18+Datos!AF18-(Datos!V18+Datos!AN18))/(Datos!V18+Datos!AN18))," - ") -> 0.076045627 | H18: =IF(ISNUMBER((Datos!M18-Datos!W18)/Datos!W18),(Datos!M18-Datos!W18)/Datos!W18," - ") -> -0.064189189 | I18: =IF(ISNUMBER((Tasas!C18-Datos!BE18)/Datos!BE18),(Tasas!C18-Datos!BE18)/Datos!BE18," - ") -> 0.25134927 | J18: =IF(ISNUMBER((Tasas!D18-Datos!BF18)/Datos!BF18),(Tasas!D18-Datos!BF18)/Datos!BF18," - ") -> 0.088268141 | K18: =IF(ISNUMBER((Tasas!E18-Datos!BG18)/Datos!BG18),(Tasas!E18-Datos!BG18)/Datos!BG18," - ") -> 0.15835765 | M18: =IF(Monitorios="SI",Datos!CE18,0) -> #REF! | N18: =IF(Monitorios="SI",Datos!CF18,0) -> #REF! | O18: =IF(Monitorios="SI",Datos!CG18,0) -> #REF! | P18: =IF(Monitorios="SI",Datos!CH18,0) -> #REF! | Q18: =IF(J_V="SI",0,Datos!AG18) -> 0 | R18: =IF(J_V="SI",0,Datos!AH18) -> 0 | S18: =IF(J_V="SI",0,Datos!AI18) -> 0 | T18: =IF(J_V="SI",0,Datos!AJ18) -> 0
C19: =Datos!A19 -> TOTAL JURISDICCIONES | D19: =IF(ISNUMBER( IF(J_V="SI",(Datos!I19-Datos!S19)/Datos!S19,(Datos!I19+Datos!Y19-(Datos!S19+Datos!AG19))/(Datos!S19+Datos!AG19)) ),IF(J_V="SI",(Datos!I19-Datos!S19)/Datos!S19,(Datos!I19+Datos!Y19-(Datos!S19+Datos!AG19))/(Datos!S19+Datos!AG19))," - ") -> 0.042498517 | E19: =IF(ISNUMBER( IF(J_V="SI",(Datos!J19-Datos!T19)/Datos!T19,(Datos!J19+Datos!Z19-(Datos!T19+Datos!AH19))/(Datos!T19+Datos!AH19)) ),IF(J_V="SI",(Datos!J19-Datos!T19)/Datos!T19,(Datos!J19+Datos!Z19-(Datos!T19+Datos!AH19))/(Datos!T19+Datos!AH19))," - ") -> -0.05075188 | F19: =IF(ISNUMBER( IF(J_V="SI",(Datos!K19-Datos!U19)/Datos!U19,(Datos!K19+Datos!AA19-(Datos!U19+Datos!AI19))/(Datos!U19+Datos!AI19)) ),IF(J_V="SI",(Datos!K19-Datos!U19)/Datos!U19,(Datos!K19+Datos!AA19-(Datos!U19+Datos!AI19))/(Datos!U19+Datos!AI19))," - ") -> 0.18604004 | G19: =IF(ISNUMBER( IF(J_V="SI",(Datos!L19-Datos!V19)/Datos!V19,(Datos!L19+Datos!AB19-(Datos!V19+Datos!AJ19))/(Datos!V19+Datos!AJ19)) ),IF(J_V="SI",(Datos!L19-Datos!V19)/Datos!V19,(Datos!L19+Datos!AB19-(Datos!V19+Datos!AJ19))/(Datos!V19+Datos!AJ19))," - ") -> -0.042450941 | H19: =IF(ISNUMBER((Datos!M19-Datos!W19)/Datos!W19),(Datos!M19-Datos!W19)/Datos!W19," - ") -> 0.034139403 | I19: =IF(ISNUMBER((Tasas!C19-Datos!BE19)/Datos!BE19),(Tasas!C19-Datos!BE19)/Datos!BE19," - ") -> -0.19265031 | J19: =IF(ISNUMBER((Tasas!D19-Datos!BF19)/Datos!BF19),(Tasas!D19-Datos!BF19)/Datos!BF19," - ") -> -0.36807822 | K19: =IF(ISNUMBER((Tasas!E19-Datos!BG19)/Datos!BG19),(Tasas!E19-Datos!BG19)/Datos!BG19," - ") -> -0.14217839
C20: MEDIA | D20: =IF(ISNUMBER(SUMIF($B8:$B18,$B20,D8:D18)/INDIRECT("Datos!AP"&ROW()-1)),SUMIF($B8:$B18,$B20,D8:D18)/INDIRECT("Datos!AP"&ROW()-1),"-") -> 0 | E20: =IF(ISNUMBER(SUMIF($B8:$B18,$B20,E8:E18)/INDIRECT("Datos!AP"&ROW()-1)),SUMIF($B8:$B18,$B20,E8:E18)/INDIRECT("Datos!AP"&ROW()-1),"-") -> 0 | F20: =IF(ISNUMBER(SUMIF($B8:$B18,$B20,F8:F18)/INDIRECT("Datos!AP"&ROW()-1)),SUMIF($B8:$B18,$B20,F8:F18)/INDIRECT("Datos!AP"&ROW()-1),"-") -> 0 | G20: =IF(ISNUMBER(SUMIF($B8:$B18,$B20,G8:G18)/INDIRECT("Datos!AP"&ROW()-1)),SUMIF($B8:$B18,$B20,G8:G18)/INDIRECT("Datos!AP"&ROW()-1),"-") -> 0 | H20: =IF(ISNUMBER(SUMIF($B8:$B18,$B20,H8:H18)/INDIRECT("Datos!AP"&ROW()-1)),SUMIF($B8:$B18,$B20,H8:H18)/INDIRECT("Datos!AP"&ROW()-1),"-") -> 0 | I20: =IF(ISNUMBER(SUMIF($B8:$B18,$B20,I8:I18)/INDIRECT("Datos!AP"&ROW()-1)),SUMIF($B8:$B18,$B20,I8:I18)/INDIRECT("Datos!AP"&ROW()-1),"-") -> 0 | J20: =IF(ISNUMBER(SUMIF($B8:$B18,$B20,J8:J18)/INDIRECT("Datos!AP"&ROW()-1)),SUMIF($B8:$B18,$B20,J8:J18)/INDIRECT("Datos!AP"&ROW()-1),"-") -> 0 | K20: =IF(ISNUMBER(SUMIF($B8:$B18,$B20,K8:K18)/INDIRECT("Datos!AP"&ROW()-1)),SUMIF($B8:$B18,$B20,K8:K18)/INDIRECT("Datos!AP"&ROW()-1),"-") -> 0
C21: DESVIACIÓN TÍPICA | D21: =IF(ISNUMBER( STDEV(D8:D18)),STDEV(D8:D18)," - ") -> 0.18882727 | E21: =IF(ISNUMBER( STDEV(E8:E18)),STDEV(E8:E18)," - ") -> 0.18253678 | F21: =IF(ISNUMBER( STDEV(F8:F18)),STDEV(F8:F18)," - ") -> 0.20833666 | G21: =IF(ISNUMBER( STDEV(G8:G18)),STDEV(G8:G18)," - ") -> 0.30863422 | H21: =IF(ISNUMBER( STDEV(H8:H18)),STDEV(H8:H18)," - ") -> 0.19499701 | I21: =IF(ISNUMBER( STDEV(I8:I18)),STDEV(I8:I18)," - ") -> 0.80849368 | J21: =IF(ISNUMBER( STDEV(J8:J18)),STDEV(J8:J18)," - ") -> 0.61013891 | K21: =IF(ISNUMBER( STDEV(K8:K18)),STDEV(K8:K18)," - ") -> 0.60251848
C25: Límite Superior | D25: =D23+2*D24 -> 0 | E25: =E23+2*E24 -> 0 | F25: =F23+2*F24 -> 0 | G25: =G23+2*G24 -> 0 | H25: =H23+2*H24 -> 0 | I25: =I23+2*I24 -> 0 | J25: =J23+2*J24 -> 0 | K25: =K23+2*K24 -> 0
C26: Límite Inferirior | D26: =MIN(0,D23-2*D24) -> 0 | E26: =MIN(0,E23-2*E24) -> 0 | F26: =MIN(0,F23-2*F24) -> 0 | G26: =MIN(0,G23-2*G24) -> 0 | H26: =MIN(0,H23-2*H24) -> 0 | I26: =MIN(0,I23-2*I24) -> 0 | J26: =MIN(0,J23-2*J24) -> 0 | K26: =MIN(0,K23-2*K24) -> 0
C30: =Criterios!A4 -> Fecha Informe: 17 mar. 2026

Sheet Juez
B3: Informe individual juez
A4: Nombre: | B4: =Criterios!B9 -> CATALUÑA | H4: Datos del órgano judicial | N4: Datos del juez
A5: Código de órgano | B5: ="Año: " &Criterios!B5 & " Trimestre " &Criterios!D5 & " al " &Criterios!D6 -> Año: 2025 Trimestre 4 al 4 | C5: En Tramite Al Inicio Del Periodo (Regularizado) | D5: En Tramite Al Inicio Del Periodo | E5: Ingresados | F5: Resueltos | H5: Número de asuntos pendientes | I5: Módulo de entrada | J5: Módulo de dedicación | K5: Variación de Pendientes | L5: Tiempo de respuesta | M5: Asuntos Pendientes de Sentenciar (más 1 mes) | Q5: Dedicación | W5: Sentencias Pendientes | AA5: Autos Pendientes
B7: =Datos!A7 -> COMPETENCIAS | N7: Carácter de actuación | O7: Número de trimestres | P7: Indicador de entrada | Q7: Indicador de dedicación | R7: Relación Módulo de entrada | S7: Relación Módulo de dedicación (sin tener en cuenta ni permisos ni licencias) | T7: Nº dias permisos o licencias en Gestión Gubernativa | U7: Nº dias permisos o licencias corregido | V7: Relación Módulo de dedicación corregido con permisos y licencias | W7: Total | X7: De menos de 3 meses (Instrucción y JVM Penal Menos de 1 mes) | Y7: De entre 3 y 6 meses (Instrucción y JVM Penal Entre 1 y 3 meses) | Z7: De más de 6 meses (Instrucción y JVM Penal Más de 3 meses) | AA7: Total | AB7: De menos de 3 meses | AC7: De entre 3 y 6 meses | AD7: De más de 6 meses | AE7: Umbral dedicación
A8: =Datos!A8 -> Jurisdicción Civil ( 1 ):
A9: =ABS(Datos!AO9) -> 0 | B9: =Datos!A9 -> Jdos. 1ª Instancia | C9: =IF(ISNUMBER(H9-E9+F9),H9-E9+F9," - ") -> - | D9: =IF(ISNUMBER(IF(J_V="SI",Datos!I9,Datos!I9+Datos!Y9)-IF(Monitorios="SI",Datos!CA9,0)), IF(J_V="SI",Datos!I9,Datos!I9+Datos!Y9)-IF(Monitorios="SI",Datos!CA9,0), " - ") -> - | E9: =IF(ISNUMBER(IF(J_V="SI",Datos!J9,Datos!J9+Datos!Z9)-IF(Monitorios="SI",Datos!CB9,0)), IF(J_V="SI",Datos!J9,Datos!J9+Datos!Z9)-IF(Monitorios="SI",Datos!CB9,0), " - ") -> - | F9: =IF(ISNUMBER(IF(J_V="SI",Datos!K9,Datos!K9+Datos!AA9)-IF(Monitorios="SI",Datos!CC9,0)), IF(J_V="SI",Datos!K9,Datos!K9+Datos!AA9)-IF(Monitorios="SI",Datos!CC9,0), " - ") -> - | G9: =IF(Datos!E9<>"",Datos!E9,Datos!D9) -> 01 | H9: =IF(ISNUMBER(IF(J_V="SI",Datos!L9,Datos!L9+Datos!AB9)-IF(Monitorios="SI",Datos!CD9,0)), IF(J_V="SI",Datos!L9,Datos!L9+Datos!AB9)-IF(Monitorios="SI",Datos!CD9,0), " - ") -> - | I9: =IF(ISNUMBER(Datos!AS9/Datos!BM9),Datos!AS9/Datos!BM9," - ") -> - | J9: =IF(ISNUMBER(Datos!BY9/Datos!CN9),Datos!BY9/Datos!CN9," - ") -> 0 | K9: =IF(ISNUMBER((E9-F9)/C9),(E9-F9)/C9," - ") -> - | L9: =IF(ISNUMBER(NºAsuntos!I9/NºAsuntos!G9),(NºAsuntos!I9/NºAsuntos!G9)*11," - ") -> - | M9: =IF(ISNUMBER(Datos!CL9),Datos!CL9," - ") -> - | N9: =Datos!CU9 -> 0 | O9: =Datos!CT9 -> 0 | P9: =IF(ISNUMBER((Datos!AS9/Datos!AQ9)),(Datos!AS9/Datos!AQ9)," - ") -> - | Q9: =IF(ISNUMBER(Datos!CQ9+Datos!CR9),Datos!CQ9+Datos!CR9*0.86," - ") -> 0 | R9: =IF(ISNUMBER((P9/Datos!CO9)*factor_trimestre),(P9/Datos!CO9)*factor_trimestre," - ") -> - | S9: =IF(ISNUMBER((Q9/Datos!CP9)*factor_trimestre),(Q9/Datos!CP9)*factor_trimestre," - ") -> 0 | T9: =Datos!ET9 -> 0 | V9: =IF(U9="",IF(ISNUMBER(IF(ISNUMBER(S9),S9,0)/((Datos!EU9-Datos!ET9)/Datos!EU9)),IF(ISNUMBER(S9),S9,0)/((Datos!EU9-Datos!ET9)/Datos!EU9)," - "),IF(ISNUMBER(IF(ISNUMBER(S9),S9,0)/((Datos!EU9-U9)/Datos!EU9)),IF(ISNUMBER(S9),S9,0)/((Datos!EU9-U9)/Datos!EU9))) -> - | W9: =IF(ISNUMBER(Datos!CV9),Datos!CV9," - ") -> - | X9: =IF(ISNUMBER(Datos!DH9),Datos!DH9," - ") -> - | Y9: =IF(ISNUMBER(Datos!DI9),Datos!DI9," - ") -> - | Z9: =IF(ISNUMBER(Datos!DJ9),Datos!DJ9," - ") -> - | AA9: =IF(ISNUMBER(Datos!DG9),Datos!DG9," - ") -> - | AB9: =IF(ISNUMBER(Datos!CY9),Datos!CY9," - ") -> - | AC9: =IF(ISNUMBER(Datos!CZ9),Datos!CZ9," - ") -> - | AD9: =IF(ISNUMBER(Datos!DA9),Datos!DA9," - ") -> - | AE9: 0 | BZ9: =Datos!EZ9 -> 0
A10: =ABS(Datos!AO10) -> 1 | B10: =Datos!A10 -> Jdos. Violencia contra la mujer/Secc Viol. TI. | C10: =IF(ISNUMBER(H10-E10+F10),H10-E10+F10," - ") -> 98 | D10: =IF(ISNUMBER(Datos!I10),Datos!I10," - ") -> 98 | E10: =IF(ISNUMBER(Datos!J10),Datos!J10," - ") -> 11 | F10: =IF(ISNUMBER(Datos!K10),Datos!K10," - ") -> 12 | G10: =IF(Datos!E10<>"",Datos!E10,Datos!D10) -> 37 | H10: =IF(ISNUMBER(Datos!L10),Datos!L10," - ") -> 97 | I10: =IF(ISNUMBER(Datos!AS10/Datos!BM10),Datos!AS10/Datos!BM10," - ") -> - | J10: =IF(ISNUMBER(Datos!BY10/Datos!CN10),Datos!BY10/Datos!CN10," - ") -> 0 | K10: =IF(ISNUMBER((E10-F10)/C10),(E10-F10)/C10," - ") -> -0.010204082 | L10: =IF(ISNUMBER(NºAsuntos!I10/NºAsuntos!G10),(NºAsuntos!I10/NºAsuntos!G10)*11," - ") -> 88.916667 | M10: =IF(ISNUMBER(Datos!CL10),Datos!CL10," - ") -> - | N10: =Datos!CU10 -> 0 | O10: =Datos!CT10 -> 0 | P10: =IF(ISNUMBER((Datos!AS10/Datos!AQ10)),(Datos!AS10/Datos!AQ10)," - ") -> - | Q10: =IF(ISNUMBER(Datos!CQ10),Datos!CQ10," - ") -> - | R10: =IF(ISNUMBER((P10/Datos!CO10)*factor_trimestre),(P10/Datos!CO10)*factor_trimestre," - ") -> - | S10: =IF(ISNUMBER((Q10/Datos!CP10)*factor_trimestre),(Q10/Datos!CP10)*factor_trimestre," - ") -> - | T10: =Datos!ET10 -> 0 | V10: =IF(U10="",IF(ISNUMBER(IF(ISNUMBER(S10),S10,0)/((Datos!EU10-Datos!ET10)/Datos!EU10)),IF(ISNUMBER(S10),S10,0)/((Datos!EU10-Datos!ET10)/Datos!EU10)," - "),IF(ISNUMBER(IF(ISNUMBER(S10),S10,0)/((Datos!EU10-U10)/Datos!EU10)),IF(ISNUMBER(S10),S10,0)/((Datos!EU10-U10)/Datos!EU10))) -> - | W10: =IF(ISNUMBER(Datos!CV10),Datos!CV10," - ") -> - | X10: =IF(ISNUMBER(Datos!DH10),Datos!DH10," - ") -> - | Y10: =IF(ISNUMBER(Datos!DI10),Datos!DI10," - ") -> - | Z10: =IF(ISNUMBER(Datos!DJ10),Datos!DJ10," - ") -> - | AA10: =IF(ISNUMBER(Datos!DG10),Datos!DG10," - ") -> - | AB10: =IF(ISNUMBER(Datos!CY10),Datos!CY10," - ") -> - | AC10: =IF(ISNUMBER(Datos!CZ10),Datos!CZ10," - ") -> - | AD10: =IF(ISNUMBER(Datos!DA10),Datos!DA10," - ") -> - | AE10: 0 | BZ10: =Datos!EZ10 -> 0
A11: =ABS(Datos!AO11) -> 0 | B11: =Datos!A11 -> Jdos. Familia | C11: =IF(ISNUMBER(H11-E11+F11),H11-E11+F11," - ") -> - | D11: =IF(ISNUMBER(IF(J_V="SI",Datos!I11,Datos!I11+Datos!Y11)-IF(Monitorios="SI",Datos!CA11,0)), IF(J_V="SI",Datos!I11,Datos!I11+Datos!Y11)-IF(Monitorios="SI",Datos!CA11,0), " - ") -> - | E11: =IF(ISNUMBER(IF(J_V="SI",Datos!J11,Datos!J11+Datos!Z11)-IF(Monitorios="SI",Datos!CB11,0)), IF(J_V="SI",Datos!J11,Datos!J11+Datos!Z11)-IF(Monitorios="SI",Datos!CB11,0), " - ") -> - | F11: =IF(ISNUMBER(IF(J_V="SI",Datos!K11,Datos!K11+Datos!AA11)-IF(Monitorios="SI",Datos!CC11,0)), IF(J_V="SI",Datos!K11,Datos!K11+Datos!AA11)-IF(Monitorios="SI",Datos!CC11,0), " - ") -> - | G11: =IF(Datos!E11<>"",Datos!E11,Datos!D11) -> 02 | H11: =IF(ISNUMBER(IF(J_V="SI",Datos!L11,Datos!L11+Datos!AB11)-IF(Monitorios="SI",Datos!CD11,0)), IF(J_V="SI",Datos!L11,Datos!L11+Datos!AB11)-IF(Monitorios="SI",Datos!CD11,0), " - ") -> - | I11: =IF(ISNUMBER(Datos!AS11/Datos!BM11),Datos!AS11/Datos!BM11," - ") -> - | J11: =IF(ISNUMBER(Datos!BY11/Datos!CN11),Datos!BY11/Datos!CN11," - ") -> 0 | K11: =IF(ISNUMBER((E11-F11)/C11),(E11-F11)/C11," - ") -> - | L11: =IF(ISNUMBER(NºAsuntos!I11/NºAsuntos!G11),(NºAsuntos!I11/NºAsuntos!G11)*11," - ") -> - | M11: =IF(ISNUMBER(Datos!CL11),Datos!CL11," - ") -> - | N11: =Datos!CU11 -> 0 | O11: =Datos!CT11 -> 0 | P11: =IF(ISNUMBER((Datos!AS11/Datos!AQ11)),(Datos!AS11/Datos!AQ11)," - ") -> - | Q11: =IF(ISNUMBER(Datos!CQ11+Datos!CR11),Datos!CQ11+Datos!CR11," - ") -> 0 | R11: =IF(ISNUMBER((P11/Datos!CO11)*factor_trimestre),(P11/Datos!CO11)*factor_trimestre," - ") -> - | S11: =IF(ISNUMBER((Q11/Datos!CP11)*factor_trimestre),(Q11/Datos!CP11)*factor_trimestre," - ") -> 0 | T11: =Datos!ET11 -> 0 | V11: =IF(U11="",IF(ISNUMBER(IF(ISNUMBER(S11),S11,0)/((Datos!EU11-Datos!ET11)/Datos!EU11)),IF(ISNUMBER(S11),S11,0)/((Datos!EU11-Datos!ET11)/Datos!EU11)," - "),IF(ISNUMBER(IF(ISNUMBER(S11),S11,0)/((Datos!EU11-U11)/Datos!EU11)),IF(ISNUMBER(S11),S11,0)/((Datos!EU11-U11)/Datos!EU11))) -> - | W11: =IF(ISNUMBER(Datos!CV11),Datos!CV11," - ") -> - | X11: =IF(ISNUMBER(Datos!DH11),Datos!DH11," - ") -> - | Y11: =IF(ISNUMBER(Datos!DI11),Datos!DI11," - ") -> - | Z11: =IF(ISNUMBER(Datos!DJ11),Datos!DJ11," - ") -> - | AA11: =IF(ISNUMBER(Datos!DG11),Datos!DG11," - ") -> - | AB11: =IF(ISNUMBER(Datos!CY11),Datos!CY11," - ") -> - | AC11: =IF(ISNUMBER(Datos!CZ11),Datos!CZ11," - ") -> - | AD11: =IF(ISNUMBER(Datos!DA11),Datos!DA11," - ") -> - | AE11: 0 | BZ11: =Datos!EZ11 -> 0
A12: =ABS(Datos!AO12) -> 6 | B12: =Datos!A12 -> Jdos. 1ª Instª. e Instr./Secc. Civil y de Inst. TI | C12: =IF(ISNUMBER(H12-E12+F12),H12-E12+F12," - ") -> - | D12: =IF(ISNUMBER(IF(J_V="SI",Datos!I12,Datos!I12+Datos!Y12)-IF(Monitorios="SI",Datos!CA12,0)), IF(J_V="SI",Datos!I12,Datos!I12+Datos!Y12)-IF(Monitorios="SI",Datos!CA12,0), " - ") -> - | E12: =IF(ISNUMBER(IF(J_V="SI",Datos!J12,Datos!J12+Datos!Z12)-IF(Monitorios="SI",Datos!CB12,0)), IF(J_V="SI",Datos!J12,Datos!J12+Datos!Z12)-IF(Monitorios="SI",Datos!CB12,0), " - ") -> - | F12: =IF(ISNUMBER(IF(J_V="SI",Datos!K12,Datos!K12+Datos!AA12)-IF(Monitorios="SI",Datos!CC12,0)), IF(J_V="SI",Datos!K12,Datos!K12+Datos!AA12)-IF(Monitorios="SI",Datos!CC12,0), " - ") -> - | G12: =IF(Datos!E12<>"",Datos!E12,Datos!D12) -> 04 | H12: =IF(ISNUMBER(IF(J_V="SI",Datos!L12,Datos!L12+Datos!AB12)-IF(Monitorios="SI",Datos!CD12,0)), IF(J_V="SI",Datos!L12,Datos!L12+Datos!AB12)-IF(Monitorios="SI",Datos!CD12,0), " - ") -> - | I12: =IF(ISNUMBER(Datos!AS12/Datos!BM12),Datos!AS12/Datos!BM12," - ") -> - | J12: =IF(ISNUMBER(Datos!BY12/Datos!CN12),Datos!BY12/Datos!CN12," - ") -> 0 | K12: =IF(ISNUMBER((E12-F12)/C12),(E12-F12)/C12," - ") -> - | L12: =IF(ISNUMBER(NºAsuntos!I12/NºAsuntos!G12),(NºAsuntos!I12/NºAsuntos!G12)*11," - ") -> 26.035478 | M12: =IF(ISNUMBER(Datos!CL12),Datos!CL12," - ") -> - | N12: =Datos!CU12 -> 0 | O12: =Datos!CT12 -> 0 | P12: =IF(ISNUMBER((Datos!AS12/Datos!AQ12)),(Datos!AS12/Datos!AQ12)," - ") -> - | Q12: =IF(ISNUMBER(Datos!CQ12),Datos!CQ12," - ") -> - | R12: =IF(ISNUMBER((P12/Datos!CO12)*factor_trimestre),(P12/Datos!CO12)*factor_trimestre," - ") -> - | S12: =IF(ISNUMBER((Q12/Datos!CP12)*factor_trimestre),(Q12/Datos!CP12)*factor_trimestre," - ") -> - | T12: =Datos!ET12 -> 0 | V12: =IF(U12="",IF(ISNUMBER(IF(ISNUMBER(S12),S12,0)/((Datos!EU12-Datos!ET12)/Datos!EU12)),IF(ISNUMBER(S12),S12,0)/((Datos!EU12-Datos!ET12)/Datos!EU12)," - "),IF(ISNUMBER(IF(ISNUMBER(S12),S12,0)/((Datos!EU12-U12)/Datos!EU12)),IF(ISNUMBER(S12),S12,0)/((Datos!EU12-U12)/Datos!EU12))) -> - | W12: =IF(ISNUMBER(Datos!CV12),Datos!CV12," - ") -> - | X12: =IF(ISNUMBER(Datos!DH12),Datos!DH12," - ") -> - | Y12: =IF(ISNUMBER(Datos!DI12),Datos!DI12," - ") -> - | Z12: =IF(ISNUMBER(Datos!DJ12),Datos!DJ12," - ") -> - | AA12: =IF(ISNUMBER(Datos!DG12),Datos!DG12," - ") -> - | AB12: =IF(ISNUMBER(Datos!CY12),Datos!CY12," - ") -> - | AC12: =IF(ISNUMBER(Datos!CZ12),Datos!CZ12," - ") -> - | AD12: =IF(ISNUMBER(Datos!DA12),Datos!DA12," - ") -> - | AE12: 0 | BZ12: =Datos!EZ12 -> 0
B13: =Datos!A13 -> TOTAL | C13: =SUBTOTAL(9,C9:C12) -> 98 | D13: =SUBTOTAL(9,D9:D12) -> 98 | E13: =SUBTOTAL(9,E9:E12) -> 11 | F13: =SUBTOTAL(9,F9:F12) -> 12 | G13: =INDIRECT(CONCATENATE("G",ROW()-1)) -> 04 | H13: =SUMIF(G$8:G12,G13,H$8:H12) -> 0 | M13: =SUMIF(G$8:G12,G13,M$8:M12) -> 0 | P13: =SUMIF(G$8:G12,G13,P$8:P12) -> 0 | Q13: =SUMIF(G$8:G12,G13,Q$8:Q12) -> 0 | R13: =SUMIF(G$8:G12,G13,R$8:R12) -> 0 | S13: =SUMIF(G$8:G12,G13,S$8:S12) -> 0 | V13: =SUMIF(G$8:G12,G13,V$8:V12) -> 0 | W13: =SUMIF($G$8:$G12,$G13,W$8:W12) -> 0 | X13: =SUMIF($G$8:$G12,$G13,X$8:X12) -> 0 | Y13: =SUMIF($G$8:$G12,$G13,Y$8:Y12) -> 0 | Z13: =SUMIF($G$8:$G12,$G13,Z$8:Z12) -> 0 | AA13: =SUMIF($G$8:$G12,$G13,AA$8:AA12) -> 0 | AB13: =SUMIF($G$8:$G12,$G13,AB$8:AB12) -> 0 | AC13: =SUMIF($G$8:$G12,$G13,AC$8:AC12) -> 0 | AD13: =SUMIF($G$8:$G12,$G13,AD$8:AD12) -> 0
A14: =Datos!A14 -> Jurisdicción Penal ( 2 ):
A15: =ABS(Datos!AO15) -> 0 | B15: =Datos!A15 -> Jdos. Instrucción | C15: =IF(ISNUMBER(H15-E15+F15),H15-E15+F15," - ") -> - | D15: =IF(ISNUMBER(IF(D_I="SI",Datos!I15,Datos!I15+Datos!AC15)),IF(D_I="SI",Datos!I15,Datos!I15+Datos!AC15)," - ") -> - | E15: =IF(ISNUMBER(IF(D_I="SI",Datos!J15,Datos!J15+Datos!AD15)),IF(D_I="SI",Datos!J15,Datos!J15+Datos!AD15)," - ") -> - | F15: =IF(ISNUMBER(IF(D_I="SI",Datos!K15,Datos!K15+Datos!AE15)),IF(D_I="SI",Datos!K15,Datos!K15+Datos!AE15)," - ") -> - | G15: =IF(Datos!E15<>"",Datos!E15,Datos!D15) -> 03 | H15: =IF(ISNUMBER(IF(D_I="SI",Datos!L15,Datos!L15+Datos!AF15)),IF(D_I="SI",Datos!L15,Datos!L15+Datos!AF15)," - ") -> - | I15: =IF(ISNUMBER(Datos!AS15/Datos!BM15),Datos!AS15/Datos!BM15," - ") -> - | J15: =IF(ISNUMBER(Datos!BY15/Datos!CN15),Datos!BY15/Datos!CN15," - ") -> 0 | K15: =IF(ISNUMBER((E15-F15)/C15),(E15-F15)/C15," - ") -> - | L15: =IF(ISNUMBER(NºAsuntos!I15/NºAsuntos!G15),(NºAsuntos!I15/NºAsuntos!G15)*11," - ") -> - | M15: =IF(ISNUMBER(Datos!CL15),Datos!CL15," - ") -> - | N15: =Datos!CU15 -> 0 | O15: =Datos!CT15 -> 0 | P15: =IF(ISNUMBER((Datos!AS15/Datos!AQ15)),(Datos!AS15/Datos!AQ15)," - ") -> - | Q15: =IF(ISNUMBER(Datos!CQ15+Datos!CR15),Datos!CQ15+Datos!CR15*1.16," - ") -> 0 | R15: =IF(ISNUMBER((P15/Datos!CO15)*factor_trimestre),(P15/Datos!CO15)*factor_trimestre," - ") -> - | S15: =IF(ISNUMBER((Q15/Datos!CP15)*factor_trimestre),(Q15/Datos!CP15)*factor_trimestre," - ") -> 0 | T15: =Datos!ET15 -> 0 | V15: =IF(U15="",IF(ISNUMBER(IF(ISNUMBER(S15),S15,0)/((Datos!EU15-Datos!ET15)/Datos!EU15)),IF(ISNUMBER(S15),S15,0)/((Datos!EU15-Datos!ET15)/Datos!EU15)," - "),IF(ISNUMBER(IF(ISNUMBER(S15),S15,0)/((Datos!EU15-U15)/Datos!EU15)),IF(ISNUMBER(S15),S15,0)/((Datos!EU15-U15)/Datos!EU15))) -> - | W15: =IF(ISNUMBER(Datos!CV15),Datos!CV15," - ") -> - | X15: =IF(ISNUMBER(Datos!DH15),Datos!DH15," - ") -> - | Y15: =IF(ISNUMBER(Datos!DI15),Datos!DI15," - ") -> - | Z15: =IF(ISNUMBER(Datos!DJ15),Datos!DJ15," - ") -> - | AA15: =IF(ISNUMBER(Datos!DG15),Datos!DG15," - ") -> - | AB15: =IF(ISNUMBER(Datos!CY15),Datos!CY15," - ") -> - | AC15: =IF(ISNUMBER(Datos!CZ15),Datos!CZ15," - ") -> - | AD15: =IF(ISNUMBER(Datos!DA15),Datos!DA15," - ") -> - | AE15: 0 | BZ15: =Datos!EZ15 -> 0
A16: =ABS(Datos!AO16) -> 6 | B16: =Datos!A16 -> Jdos. 1ª Instª. e Instr./Secc. Civil y de Inst. TI | C16: =IF(ISNUMBER(H16-E16+F16),H16-E16+F16," - ") -> 3108 | D16: =IF(ISNUMBER(IF(D_I="SI",Datos!I16,Datos!I16+Datos!AC16)),IF(D_I="SI",Datos!I16,Datos!I16+Datos!AC16)," - ") -> 3362 | E16: =IF(ISNUMBER(IF(D_I="SI",Datos!J16,Datos!J16+Datos!AD16)),IF(D_I="SI",Datos!J16,Datos!J16+Datos!AD16)," - ") -> 1795 | F16: =IF(ISNUMBER(IF(D_I="SI",Datos!K16,Datos!K16+Datos!AE16)),IF(D_I="SI",Datos!K16,Datos!K16+Datos!AE16)," - ") -> 1556 | G16: =IF(Datos!E16<>"",Datos!E16,Datos!D16) -> 04 | H16: =IF(ISNUMBER(IF(D_I="SI",Datos!L16,Datos!L16+Datos!AF16)),IF(D_I="SI",Datos!L16,Datos!L16+Datos!AF16)," - ") -> 3347 | I16: =IF(ISNUMBER(Datos!AS16/Datos!BM16),Datos!AS16/Datos!BM16," - ") -> - | J16: =IF(ISNUMBER(Datos!BY16/Datos!CN16),Datos!BY16/Datos!CN16," - ") -> 0 | K16: =IF(ISNUMBER((E16-F16)/C16),(E16-F16)/C16," - ") -> 0.076898327 | L16: =IF(ISNUMBER(NºAsuntos!I16/NºAsuntos!G16),(NºAsuntos!I16/NºAsuntos!G16)*11," - ") -> 23.661311 | M16: =IF(ISNUMBER(Datos!CL16),Datos!CL16," - ") -> - | N16: =Datos!CU16 -> 0 | O16: =Datos!CT16 -> 0 | P16: =IF(ISNUMBER((Datos!AS16/Datos!AQ16)),(Datos!AS16/Datos!AQ16)," - ") -> - | Q16: =IF(ISNUMBER(Datos!CQ16),Datos!CQ16," - ") -> - | R16: =IF(ISNUMBER((P16/Datos!CO16)*factor_trimestre),(P16/Datos!CO16)*factor_trimestre," - ") -> - | S16: =IF(ISNUMBER((Q16/Datos!CP16)*factor_trimestre),(Q16/Datos!CP16)*factor_trimestre," - ") -> - | T16: =Datos!ET16 -> 0 | V16: =IF(U16="",IF(ISNUMBER(IF(ISNUMBER(S16),S16,0)/((Datos!EU16-Datos!ET16)/Datos!EU16)),IF(ISNUMBER(S16),S16,0)/((Datos!EU16-Datos!ET16)/Datos!EU16)," - "),IF(ISNUMBER(IF(ISNUMBER(S16),S16,0)/((Datos!EU16-U16)/Datos!EU16)),IF(ISNUMBER(S16),S16,0)/((Datos!EU16-U16)/Datos!EU16))) -> - | W16: =IF(ISNUMBER(Datos!CV16),Datos!CV16," - ") -> - | X16: =IF(ISNUMBER(Datos!DH16),Datos!DH16," - ") -> - | Y16: =IF(ISNUMBER(Datos!DI16),Datos!DI16," - ") -> - | Z16: =IF(ISNUMBER(Datos!DJ16),Datos!DJ16," - ") -> - | AA16: =IF(ISNUMBER(Datos!DG16),Datos!DG16," - ") -> - | AB16: =IF(ISNUMBER(Datos!CY16),Datos!CY16," - ") -> - | AC16: =IF(ISNUMBER(Datos!CZ16),Datos!CZ16," - ") -> - | AD16: =IF(ISNUMBER(Datos!DA16),Datos!DA16," - ") -> - | AE16: 0 | BZ16: =Datos!EZ16 -> 0
A17: =ABS(Datos!AO17) -> 1 | B17: =Datos!A17 -> Jdos. Violencia contra la mujer/Secc Viol. TI. | C17: =IF(ISNUMBER(H17-E17+F17),H17-E17+F17," - ") -> 75 | D17: =IF(ISNUMBER(IF(D_I="SI",Datos!I17,Datos!I17+Datos!AC17)),IF(D_I="SI",Datos!I17,Datos!I17+Datos!AC17)," - ") -> 75 | E17: =IF(ISNUMBER(IF(D_I="SI",Datos!J17,Datos!J17+Datos!AD17)),IF(D_I="SI",Datos!J17,Datos!J17+Datos!AD17)," - ") -> 106 | F17: =IF(ISNUMBER(IF(D_I="SI",Datos!K17,Datos!K17+Datos!AE17)),IF(D_I="SI",Datos!K17,Datos!K17+Datos!AE17)," - ") -> 132 | G17: =IF(Datos!E17<>"",Datos!E17,Datos!D17) -> 37 | H17: =IF(ISNUMBER(IF(D_I="SI",Datos!L17,Datos!L17+Datos!AF17)),IF(D_I="SI",Datos!L17,Datos!L17+Datos!AF17)," - ") -> 49 | I17: =IF(ISNUMBER(Datos!AS17/Datos!BM17),Datos!AS17/Datos!BM17," - ") -> - | J17: =IF(ISNUMBER((Datos!BY17+Datos!BZ17)/Datos!CN17),(Datos!BY17+Datos!BZ17)/Datos!CN17," - ") -> - | K17: =IF(ISNUMBER((E17-F17)/C17),(E17-F17)/C17," - ") -> -0.34666667 | L17: =IF(ISNUMBER(NºAsuntos!I17/NºAsuntos!G17),(NºAsuntos!I17/NºAsuntos!G17)*11," - ") -> 4.0833333 | M17: =IF(ISNUMBER(Datos!CL17),Datos!CL17," - ") -> - | N17: =Datos!CU17 -> 0 | O17: =Datos!CT17 -> 0 | P17: =IF(ISNUMBER((Datos!AS17/Datos!AQ17)),(Datos!AS17/Datos!AQ17)," - ") -> - | Q17: =IF(ISNUMBER(Datos!CQ17),Datos!CQ17," - ") -> - | R17: =IF(ISNUMBER((P17/Datos!CO17)*factor_trimestre),(P17/Datos!CO17)*factor_trimestre," - ") -> - | S17: =IF(ISNUMBER((Q17/Datos!CP17)*factor_trimestre),(Q17/Datos!CP17)*factor_trimestre," - ") -> - | T17: =Datos!ET17 -> 0 | V17: =IF(U17="",IF(ISNUMBER(IF(ISNUMBER(S17),S17,0)/((Datos!EU17-Datos!ET17)/Datos!EU17)),IF(ISNUMBER(S17),S17,0)/((Datos!EU17-Datos!ET17)/Datos!EU17)," - "),IF(ISNUMBER(IF(ISNUMBER(S17),S17,0)/((Datos!EU17-U17)/Datos!EU17)),IF(ISNUMBER(S17),S17,0)/((Datos!EU17-U17)/Datos!EU17))) -> - | W17: =IF(ISNUMBER(Datos!CV17),Datos!CV17," - ") -> - | X17: =IF(ISNUMBER(Datos!DH17),Datos!DH17," - ") -> - | Y17: =IF(ISNUMBER(Datos!DI17),Datos!DI17," - ") -> - | Z17: =IF(ISNUMBER(Datos!DJ17),Datos!DJ17," - ") -> - | AA17: =IF(ISNUMBER(Datos!DG17),Datos!DG17," - ") -> - | AB17: =IF(ISNUMBER(Datos!CY17),Datos!CY17," - ") -> - | AC17: =IF(ISNUMBER(Datos!CZ17),Datos!CZ17," - ") -> - | AD17: =IF(ISNUMBER(Datos!DA17),Datos!DA17," - ") -> - | AE17: 0 | BZ17: =Datos!EZ17 -> 0
B18: =Datos!A18 -> TOTAL | C18: =SUBTOTAL(9,C15:C17) -> 3183 | D18: =SUBTOTAL(9,D15:D17) -> 3437 | E18: =SUBTOTAL(9,E15:E17) -> 1901 | F18: =SUBTOTAL(9,F15:F17) -> 1688 | G18: =INDIRECT(CONCATENATE("G",ROW()-1)) -> 37 | H18: =SUMIF(G$14:G17,G18,H$14:H17) -> 49 | M18: =SUMIF(G$14:G17,G18,M$14:M17) -> 0 | P18: =SUMIF(G$14:G17,G18,P$14:P17) -> 0 | Q18: =SUMIF(G$14:G17,G18,Q$14:Q17) -> 0 | R18: =SUMIF(G$14:G17,G18,R$14:R17) -> 0 | S18: =SUMIF(G$14:G17,G18,S$14:S17) -> 0 | V18: =SUMIF(G$14:G17,G18,V$14:V17) -> 0 | W18: =SUMIF($G$14:$G17,$G18,W$14:W17) -> 0 | X18: =SUMIF($G$14:$G17,$G18,X$14:X17) -> 0 | Y18: =SUMIF($G$14:$G17,$G18,Y$14:Y17) -> 0 | Z18: =SUMIF($G$14:$G17,$G18,Z$14:Z17) -> 0 | AA18: =SUMIF($G$14:$G17,$G18,AA$14:AA17) -> 0 | AB18: =SUMIF($G$14:$G17,$G18,AB$14:AB17) -> 0 | AC18: =SUMIF($G$14:$G17,$G18,AC$14:AC17) -> 0 | AD18: =SUMIF($G$14:$G17,$G18,AD$14:AD17) -> 0
B19: =Datos!A19 -> TOTAL JURISDICCIONES | C19: =SUBTOTAL(9,C9:C18) -> 3281 | D19: =SUBTOTAL(9,D9:D18) -> 3535 | E19: =SUBTOTAL(9,E9:E18) -> 1912 | F19: =SUBTOTAL(9,F9:F18) -> 1700 | H19: =SUMIF(B9:B18,"TOTAL",H9:H18) -> 49 | M19: =SUMIF(B9:B18,"TOTAL",M9:M18) -> 0 | R19: =SUMIF(B9:B18,"TOTAL",R9:R18) -> 0 | S19: =SUMIF(B9:B18,"TOTAL",S9:S18) -> 0 | V19: =SUMIF(B9:B18,"TOTAL",V9:V18) -> 0 | W19: =SUMIF($B9:$B18,"TOTAL",W9:W18) -> 0 | X19: =SUMIF($B9:$B18,"TOTAL",X9:X18) -> 0 | Y19: =SUMIF($B9:$B18,"TOTAL",Y9:Y18) -> 0 | Z19: =SUMIF($B9:$B18,"TOTAL",Z9:Z18) -> 0 | AA19: =SUMIF($B9:$B18,"TOTAL",AA9:AA18) -> 0 | AB19: =SUMIF($B9:$B18,"TOTAL",AB9:AB18) -> 0 | AC19: =SUMIF($B9:$B18,"TOTAL",AC9:AC18) -> 0 | AD19: =SUMIF($B9:$B18,"TOTAL",AD9:AD18) -> 0
B22: =Criterios!A4 -> Fecha Informe: 17 mar. 2026
N25: Órganos Unipersonales | Y25: Órganos Colegiados
N27: TI | O27: Magistrado/Juez titular del órgano. Actuación ordinaria | Y27: TI | Z27: Magistrado titular del órgano. Actuación ordinaria
N28: T2 | O28: Magistrado/Juez titular del órgano. Actuando como auto refuerzo | Y28: T2 | Z28: Magistrado titular del órgano. Actuando como auto refuerzo
N29: SU | O29: Titulares de otros órganos. En funciones de sustitución del titular | Y29: SP | Z29: Magistrado suplente. En funciones de sustitución del titular/Alumnos en prácticas de la Escuela Judicial.
N30: S2 | O30: Titulares de otros órganos. En funciones de refuerzo | Y30: P2 | Z30: Magistrado suplente. En funciones de refuerzo/Alumnos en prácticas de la Escuela Judicial.
N31: S3 | O31: En comisión de servicio sin relevación de funciones o cualquier otra sustitución retribuida | Y31: SU | Z31: Titulares de otros órganos. En funciones de sustitución del titular
N32: AD | O32: Jueces de adscripción territorial. En funciones de sustitución del titular | Y32: S2 | Z32: Titulares de otros órganos. En funciones de refuerzo
N33: A2 | O33: Jueces de adscripción territorial. En funciones de refuerzo | Y33: S3 | Z33: En comisión de servicio sin relevación de funciones o cualquier otra sustitución retribuida (No refuerzo)
N34: SP | O34: Jueces sustitutos. En funciones de sustitución del titular/Alumnos en prácticas de la Escuela Judicial. | Y34: OT | Z34: Otros magistrados. Por nulidad de sentencia
N35: P2 | O35: Jueces sustitutos. En funciones de refuerzo/Alumnos en prácticas de la Escuela Judicial. | Y35: O3 | Z35: Otros magistrados. Comisión de servicio con relevación de funciones
N36: OT | O36: Otros magistrados o jueces. Por nulidad de sentencia | Y36: O4 | Z36: Otros magistrados. Por otras circunstancias
N37: O2 | O37: Otros magistrados o jueces. Prórroga de jurisdicción | Y37: AD | Z37: Jueces de adscripción territorial. En funciones de sustitución del titular
N38: O3 | O38: Otros magistrados o jueces. Comisión de servicio con relevación de funciones | Y38: A2 | Z38: Jueces de adscripción territorial. En funciones de refuerzo
N39: O4 | O39: Otros magistrados o jueces. Por otras circunstancias

Sheet Definiciones
B8: DEFINICIONES USADAS EN LOS INFORMES ESTADÍSTICOS
B11: Tasa de sentencia: Cociente entre el número de sentencias y el de asuntos resueltos, expresado en tanto por ciento. Indica el porcentaje de asuntos que se resuelven por sentencia.
B13: Tasa de pendencia: Cociente entre los asuntos pendientes al final del periodo y los resueltos en ese periodo. Cuando el periodo sea distinto del año se ponderará el numero de asuntos resueltos para expresarlo en términos anuales. Si se multiplica por 12 indica el número de meses que se necesitaría, con el mismo ritmo resolutivo y sin ningún ingreso, para acabar con la pendencia. Su principal finalidad es permitir la comparación de la pendencia de órganos, territorios, o jurisdicciones, o de estos a lo largo del tiempo. Un órgano, territorio o jurisdicción está en mejor situación cuanto menor sea su tasa de pendencia.
B15: Tasa de resolución: Cociente entre los asuntos resueltos y los ingresados en un determinado periodo. Pone en relación el volumen de ingreso con la capacidad resolutiva. Un órgano, territorio o jurisdicción está en mejor situación cuanto mayor sea su tasa de resolución. Si es mayor que uno indica que se esta resolviendo mas de lo que ingresa.
B17: Tasa de congestión: Cociente donde el numerador esta formado por la suma de los asuntos pendientes al inicio del periodo y los registrados en ese periodo y donde el denominador son los asuntos resueltos en dicho periodo. Un órgano, territorio o jurisdicción está en mejor situación cuanto menor sea su tasa de congestión.

Sheet Datos
H1: Columna | I1: 9 | J1: 10 | K1: 11 | L1: 12 | M1: 13 | N1: 14 | O1: 15 | P1: 16 | Q1: 17 | R1: 18 | S1: 19 | T1: 20 | U1: 21 | V1: 22 | W1: 23 | X1: 24 | Y1: 25 | Z1: 26 | AA1: 27 | AB1: 28 | AC1: 29 | AD1: 30 | AE1: 31 | AF1: 32 | AG1: 33 | AH1: 34 | AI1: 35 | AJ1: 36 | AK1: 37 | AL1: 38 | AM1: 39 | AN1: 40 | AO1: 41 | AP1: 42 | AQ1: 43 | AR1: 44 | AS1: 45 | AT1: 46 | AU1: 47 | AV1: 48 | AW1: 49 | AX1: 50 | AY1: 51 | AZ1: 52 | BA1: 53 | BB1: 54 | BC1: 55 | BD1: 56 | BE1: 57 | BF1: 58 | BG1: 59 | BH1: 60 | BI1: 61 | BJ1: 62 | BK1: 63 | BL1: 64 | BM1: 65 | BV1: 74 | BW1: 75 | BX1: 76 | BY1: 77 | BZ1: 78 | CA1: 79 | CB1: 80 | CC1: 81 | CD1: 82 | CE1: 83 | CF1: 84 | CG1: 85 | CH1: 86 | CI1: 87 | CJ1: 88 | CK1: 89 | CL1: 90 | CM1: 91 | CN1: 92 | CO1: 93 | CP1: 94 | CQ1: 95 | CR1: 96 | CS1: 97 | CT1: 98 | CU1: 99 | CV1: 100 | CW1: 101 | CX1: 102 | CY1: 103 | CZ1: 104 | DA1: 105 | DB1: 106 | DC1: 107 | DD1: 108 | DE1: 109 | DF1: 110 | DG1: 111
A2: =Criterios!C8 -> 0 | B2: =Criterios!B8 -> 0
A3: =Criterios!A9 -> Tribunales de Justicia | B3: =Criterios!B9 -> CATALUÑA
A4: =Criterios!A10 -> Provincias | B4: =Criterios!B10 -> BARCELONA | CE4: Año anterior
A5: ="Año: " &Criterios!B5 & " Trimestre " &Criterios!D5 & " al " &Criterios!D6 -> Año: 2025 Trimestre 4 al 4 | B5: AMBITO TERRITORIAL | C5: Delimitadores | D5: Clasificación | I5: Campos Asociados a: | AO5: Nº de Órganos que emiten un tipo concreto | AP5: Nº de Órganos B | AQ5: Magistrados | AR5: Magistrados B | AS5: MODULO DE ENTRADA 1 | AT5: MODULO DE ENTRADA 2 | AU5: MODULO DE RESOLUCION 1 | AV5: MODULO DE RESOLUCION 2 | AW5: MODULO DE PENDENCIA 1 | AX5: MODULO DE PENDENCIA 2 | AY5: Datos Año Anterior | BD5: Tasa Año Anterior | BH5: Nº de Órganos que emiten un tipo concreto TRIMESTRE ANTERIOR | BI5: Nº de Órganos B TRIMESTRE ANTERIOR | BJ5: MODULO AÑO ANTERIOR | BK5: MAGISTRADOS AÑO ANTERIOR | BL5: MAGISTRADOS AÑO ANTERIOR B | BM5: MODULO TEORICO ENTRADA ÓRGANO | BV5: Sentencias Pendientes | BW5: Escritos pendientes de proveeer hasta 30 días | BX5: Escritos Pendientes de proveer más de 30 días | BY5: Puntos Dedicación | BZ5: Puntos Dedicación 2 | CA5: Monitorios Pendientes Inicio | CB5: Monitorios Ingresados | CC5: Monitorios Resuletos | CD5: Monitorios Pendientes fin | CE5: Monitorios Pendientes inicio | CF5: Monitorios Ingresados | CG5: Monitorios Resuletos | CH5: Monitorios Pendientes fin | CI5: Suspendidos | CJ5: Señalados | CK5: Sentencias Pendientes (menos 3 meses) juez | CL5: Sentencias Pendientes (entre 3 y 6 meses) juez | CM5: Sentencias Pendientes (más 6 mes) juez | CN5: Modulo teorico de dedicic. organo | CO5: Modulo teorico de entrada magistrado | CP5: Modulo teorico de dedicic. magistrado | CQ5: Puntos dedic. magistrado | CR5: Puntos dedic. magistrado | CS5: Procedimeintos abreviados elevados | CT5: Registros | CU5: Carácter de actuación | CV5: Sentencias pendientes juez | CW5: Asuntos Pendientes de Incoar | CX5: Fecha más adelantada señalamiento | CY5: Autos Pendientes (menos de 3 meses) juez | CZ5: Autos Pendientes (entre 3 y 6 meses) juez | DA5: Autos Pendientes (más de 6 meses) juez | DB5: MODULO DE ENTRADA 1 INSPECCIÓN | DC5: MODULO DE ENTRADA 2 INSPECCIÓN | DD5: MODULO DE ENTRADA 3 INSPECCIÓN | DE5: Ejecuciones Reiniciadas | DF5: Asuntos reabiertos | DG5: Autos Pendientes (total) juez | DH5: Sentencias Pendientes (menos 3 meses) juez | DI5: Sentencias Pendientes (entre 3 y 6 meses) juez | DJ5: Sentencias Pendientes (más 6 mes) juez | DK5: Admisiones Sec. 1ª | DL5: Inadmisiones | DM5: Asuntos Acumulados | DN5: Pendencia Ordinarios | DO5: Pendencia Abreviados | DP5: Pendencia Recursos Apelación | DQ5: Proc. Abreviados ptes. Exclusivamente de Vista | DR5: Proc. Ordinarios ptes. Declarar Conclusos | DS5: Asuntos Pendientes Exclusivamente de Señalar Votación y Fallo | DT5: Asuntos Cuyo Plazo para Dictar Sentencia se Haya Diferido art. 67.2L RJCA | DU5: Medidas de Refuerzo | DV5: Nº TOTAL autos Pendientes | DW5: Nª autos menos 3 m | DX5: Nª autos entre 3 y 6m | DY5: Nª autos más de 6m | DZ5: Nº TOTAL Sentencias dictadasen P. Abreviados | EA5: Nº TOTAL Sentencias dictadas en p. Ordinarios | EB5: Número diligencias previas ingresadas | EC5: Número dtos leves ingresados | ED5: Ingreso computable Proc. Abrev. | EE5: Modulo Ingreso Computable D. Previas 2003 | EF5: Modulo Ingreso Computable Dtos leves 2003 | EG5: Modulo ingreso computable 2013 Pas | EH5: Modulo ingreso computable 2013 Ejecutorias | EI5: Asuntos Pendientes de instrucción compleja | EJ5: Ejecutorias pendientes de Incoar | EK5: Asuntos resueltos sujetos a seguimiento y control | EL5: Concursos | EO5: MODULO DE ENTRADA 2018 | EP5: MODULO DE RESOLUCION 2018 | EQ5: MODULO DE PENDENCIA 2018 | ER5: MODULO TEÓRICO ENTRADA 2018 | ES5: Pendencia Concursos año anterior | ET5: Número días PyL | EU5: Número días Periodo | EV5: Asuntos Repartidos Pendientes de Aceptar | EW5: Expedientes Repartidos Pendientes de Aceptar | EX5: Asuntos Devueltos al instructor | EY5: Pendientes remitir por Fiscalía | EZ5: CODUNIDAD (Se muestra en lsa coluna BZ de juez, Nº asuntos, resol asuntos, las de indicadores)
I6: Nº Asuntos | P6: Ejecutorias | S6: Año Anterior | Y6: Jurisdicción voluntaria | AC6: Diligencias indeterminadas | AG6: Jurisdicción voluntaria ANUAL | AK6: Diligencias indeterminadas ANUAL
A7: COMPETENCIAS | D7: Boletin | E7: Sub-modelo / nota:Residual en | F7: ccodtorg | G7: Csasenmu | H7: Especialidad | I7: Pendencias Incio | J7: Ingresados | K7: Resueltos | L7: Pendencias Final | M7: Sentencias | N7: Autos | O7: Decretos | P7: Registradas | Q7: Resueltas | R7: Pendientes | S7: Pendencias Incio | T7: Ingresados | U7: Resueltos | V7: Pendientes fin | W7: Sentencias | X7: Autos | Y7: Pendencias Incio | Z7: Ingresados | AA7: Resueltos | AB7: Pendencias Final | AC7: Pendencias Incio | AD7: Ingresados | AE7: Resueltos | AF7: Pendencias Final | AG7: Pendencias Incio | AH7: Ingresados | AI7: Resueltos | AJ7: Pendencias Final | AK7: Pendencias Incio | AL7: Ingresados | AM7: Resueltos | AN7: Pendencias Final | AY7: Pendencias Incio | AZ7: Ingresados | BA7: Resueltos | BB7: Pendientes fin | BC7: Sentencias | BD7: Resueltos | BE7: Pendientes | BF7: Sentencia | BG7: Congestión | EL7: Presentados | EM7: Resolución | EN7: Pendencia
A8: Jurisdicción Civil ( 1 ): | B8: PJ | C8: CB | DG8: 111 | DH8: 112 | DI8: 113 | DJ8: 114 | DK8: 115 | DL8: 116 | DM8: 117 | DN8: 118 | DO8: 119 | DP8: 120 | DQ8: 121 | DR8: 122 | DS8: 123 | DT8: 124 | DU8: 125 | DV8: 126 | DW8: 127 | DX8: 128 | DY8: 129 | DZ8: 130 | EA8: 131 | EB8: 132 | EC8: 133 | ED8: 134 | EE8: 135 | EF8: 136 | EG8: 137 | EH8: 138 | EI8: 139 | EJ8: 140 | EK8: 141 | EL8: 142 | EM8: 143 | EN8: 144 | EO8: 145 | EP8: 146 | EQ8: 147 | ER8: 148 | ES8: 149 | ET8: 150 | EU8: 151 | EV8: 152 | EW8: 153 | EX8: 154 | EY8: 155 | EZ8: 156
A9: Jdos. 1ª Instancia | B9: PJ | C9: DT | D9: 04 | E9: 01 | F9: 32 | H9: (ccodespe like 'F%') (ccodespe like 'F%' or ccodespe like 'IN' or ccodespe like 'EC') | I9: TCON1111+MOVCO111+INCID111+MECAU111+TCON2111+TDERE118+PROMO118+PROES118+MEDTO118+INCTO118+AUTME115+SOLRE115 | J9: TCONT211+TCON2211+MOVCO211+INCID211+MECAU211+TDERE218+TDERE318+PROMO218+PROES218+MEDTO218+INCTO218+AUTME215+SOLRE215 | K9: TCON1311+TCON2311+MOVCO511+MOVCO611+MOVCO711+INCID311+MECAU311+TDERE418+TDERE518+PROMO318+PROMB318-PROMB218+PROES318+MEDTO318+INCTO318+SOLRE315+AUTME315 | L9: TCON1411+TCON2411+TDERE618+PROMO418+PROES418+MOVCO811+INCID411+MECAU411+MEDTO418+INCTO418+SOLRE415+AUTME415 | M9: SENPT313+SENFT313+SENCOV13+SENCON13 | N9: AUTOST13+AUTFCT13 | O9: DECRET13 | P9: TCIVI215 | Q9: TCIVI515 | R9: TCIVI615 | Y9: TVOLU115+INTEV115 | Z9: TVOLU215+INTEV215 | AA9: TVOLU315+INTEV315 | AB9: TVOLU415+INTEV415 | AO9: 0 | AP9: 0 | AQ9: 0 | AR9: 0 | AS9: TCONT211+TCON2211+MOVCO211+INCID211+MECAU211+TDERE218+MEDTO218+ INCTO218+EJEHI211+EJEHI311+OTRNJ211+OTRNJ311+(-DIVOC218)+(-SEPAM218)+(-MECON218)+(-GUCON218)+PROMO218+PROES218+SOLRE215 | AY9: =IF(ISNUMBER(IF(J_V="SI",S9,S9+AG9)),IF(J_V="SI",S9,S9+AG9)," - ") -> 0 | AZ9: =IF(ISNUMBER(IF(J_V="SI",T9,T9+AH9)),IF(J_V="SI",T9,T9+AH9)," - ") -> 0 | BA9: =IF(ISNUMBER(IF(J_V="SI",U9,U9+AI9)),IF(J_V="SI",U9,U9+AI9)," - ") -> 0 | BB9: =IF(ISNUMBER(IF(J_V="SI",V9,V9+AJ9)),IF(J_V="SI",V9,V9+AJ9)," - ") -> 0 | BC9: =IF(ISNUMBER(X9),X9," - ") -> - | BD9: =IF(ISNUMBER(BA9/AZ9),BA9/AZ9," - ") -> - | BE9: =IF(ISNUMBER(BB9/BA9),BB9/BA9, " - ") -> - | BF9: =IF(ISNUMBER(BC9/BA9),BC9/BA9, " - ") -> - | BG9: =IF(ISNUMBER((AY9+AZ9)/BA9),(AY9+AZ9)/BA9," - ") -> - | BH9: 0 | BM9: 720 | CN9: 1088 | CO9: 720 | CP9: 1088 | EO9: TCON2211+MOVCO211*1.5+INCID211+MECAU211+TVOLU215+(TDERE218+MEDTO218+INCTO218)*0.8+INTEV215+AUTME215+PROMO218+PROES218+REPIN318+SOLRE215+TCIVI215+(NVL(CONCU219,0) +NVL(ICTOT219,0)+NVL(PCTOT219,0)+NVL(DILTO219,0)+NVL(MEDCA219,0)+NVL(EXPAR219,0)+NVL(MONIT219,0)+NVL(JURIS219,0))*1.5+NVL(EJTOT219,0)+(NVL(TPROC224,0)+NVL(PIESE224,0)+NVL(ASUEX224,0)+NVL(MICTO219,0))*0.36 | ER9: 1200
A10: Jdos. Violencia contra la mujer/Secc Viol. TI. | B10: PJ | C10: DT | D10: 37 | E10: 37 | F10: 53 | I10: 98 | J10: 11 | K10: 12 | L10: 97 | M10: 8 | N10: 4 | O10: 1 | P10: 9 | Q10: 1 | R10: 67 | S10: 97 | T10: 15 | U10: 28 | V10: 84 | W10: 11 | X10: 13 | Y10: 0 | Z10: 0 | AA10: 0 | AB10: 0 | AC10: 0 | AD10: 0 | AE10: 0 | AF10: 0 | AG10: 0 | AH10: 0 | AI10: 0 | AJ10: 0 | AK10: 0 | AL10: 0 | AM10: 0 | AN10: 0 | AO10: 1 | AP10: 0 | AQ10: 0 | AR10: 0 | AS10: PCTOT247+MEDTO247+INCTO247 | AY10: =IF(ISNUMBER(S10),S10," - ") -> 97 | AZ10: =IF(ISNUMBER(T10),T10," - ") -> 15 | BA10: =IF(ISNUMBER(U10),U10," - ") -> 28 | BB10: =IF(ISNUMBER(V10),V10," - ") -> 84 | BC10: =IF(ISNUMBER(W10),W10," - ") -> 11 | BD10: =IF(ISNUMBER(BA10/AZ10),BA10/AZ10," - ") -> 1.8666667 | BE10: =IF(ISNUMBER(BB10/BA10),BB10/BA10, " - ") -> 3 | BF10: =IF(ISNUMBER(BC10/BA10),BC10/BA10, " - ") -> 0.39285714 | BG10: =IF(ISNUMBER((AY10+AZ10)/BA10),(AY10+AZ10)/BA10," - ") -> 4 | BH10: 1 | BM10: 0 | CN10: 1175 | CO10: 0 | CP10: 1175 | EO10: PCTOT247 | ER10: 1600
A11: Jdos. Familia | B11: PJ | C11: DT | D11: 04 | E11: 02 | F11: 32 | H11: ccodespe like 'F%' | I11: TCON1111+MOVCO111+INCID111+MECAU111+TCON2111+TDERE118+PROMO118+PROES118+MEDTO118+INCTO118+AUTME115+SOLRE115 | J11: TCONT211+TCON2211+MOVCO211+INCID211+MECAU211+TDERE218+TDERE318+PROMO218+PROES218+MEDTO218+INCTO218+AUTME215+SOLRE215 | K11: TCON1311+TCON2311+MOVCO511+MOVCO611+MOVCO711+INCID311+MECAU311+TDERE418+TDERE518+PROMO318+PROMB318-PROMB218+PROES318+MEDTO318+INCTO318+SOLRE315+AUTME315 | L11: TCON1411+TCON2411+TDERE618+PROMO418+PROES418+MOVCO811+INCID411+MECAU411+MEDTO418+INCTO418+SOLRE415+AUTME415 | M11: SENPT313+SENFT313+SENCOV13+SENCON13 | N11: AUTOST13+AUTFCT13 | O11: DECRET13 | P11: TCIVI215 | Q11: TCIVI515 | R11: TCIVI615 | Y11: TVOLU115+INTEV115 | Z11: TVOLU215+INTEV215 | AA11: TVOLU315+INTEV315 | AB11: TVOLU415+INTEV415 | AO11: 0 | AP11: 0 | AQ11: 0 | AR11: 0 | AS11: TDERE218+MEDTO218+INCTO218+PROMO218+PROES218+SOLRE215 | AY11: =IF(ISNUMBER(IF(J_V="SI",S11,S11+AG11)),IF(J_V="SI",S11,S11+AG11)," - ") -> 0 | AZ11: =IF(ISNUMBER(IF(J_V="SI",T11,T11+AH11)),IF(J_V="SI",T11,T11+AH11)," - ") -> 0 | BA11: =IF(ISNUMBER(IF(J_V="SI",U11,U11+AI11)),IF(J_V="SI",U11,U11+AI11)," - ") -> 0 | BB11: =IF(ISNUMBER(IF(J_V="SI",V11,V11+AJ11)),IF(J_V="SI",V11,V11+AJ11)," - ") -> 0 | BC11: =IF(ISNUMBER(X11),X11," - ") -> - | BD11: =IF(ISNUMBER(BA11/AZ11),BA11/AZ11," - ") -> - | BE11: =IF(ISNUMBER(BB11/BA11),BB11/BA11, " - ") -> - | BF11: =IF(ISNUMBER(BC11/BA11),BC11/BA11, " - ") -> - | BG11: =IF(ISNUMBER((AY11+AZ11)/BA11),(AY11+AZ11)/BA11," - ") -> - | BH11: 0 | BM11: 1000 | CN11: 1088 | CO11: 1000 | CP11: 1088 | EO11: TDERE218+MEDTO218+INCTO218+TVOLU215*0.6+INTEV215*0.32+AUTME215+(PROMO218-PROCO218-PRONO218+PROES218+PROCO218)*1.6+PRONO218*0.6+REPIN318+SOLRE215+TCIVI215+TCON2211*1.25+MOVCO211*1.875+INCID211*1.25+MECAU211*1.25+(NVL(CONCU219,0)+NVL(ICTOT219,0)+NVL(PCTOT219,0)+NVL(DILTO219,0)+NVL(MEDCA219,0)+NVL(EXPAR219,0)+NVL(MONIT219,0)+NVL(JURIS219,0)+NVL(MICTO219,0))*1.875+NVL(EJTOT219,0) | ER11: 1323
A12: Jdos. 1ª Instª. e Instr./Secc. Civil y de Inst. TI | B12: PJ | C12: DT | D12: 04 | E12: 04 | F12: 31 | I12: 6886 | J12: 1440 | K12: 2387 | L12: 5939 | M12: 442 | N12: 1295 | O12: 744 | P12: 639 | Q12: 232 | R12: 9056 | S12: 6556 | T12: 1640 | U12: 1504 | V12: 6674 | W12: 396 | X12: 663 | Y12: 127 | Z12: 183 | AA12: 178 | AB12: 132 | AC12: 0 | AD12: 0 | AE12: 0 | AF12: 0 | AG12: 81 | AH12: 94 | AI12: 101 | AJ12: 74 | AK12: 0 | AL12: 0 | AM12: 0 | AN12: 0 | AO12: 6 | AP12: 6 | AQ12: 6 | AR12: 6 | AS12: TCONT211+TCON2211+MOVCO211+INCID211+MECAU211+TDERE218+MEDTO218+INCTO218+EJEHI211+EJEHI311+OTRNJ211+OTRNJ311+(-DIVOC218)+(-SEPAM218)+(-MECON218)+(-GUCON218)+PROMO218+PROES218+SOLRE215 | AY12: =IF(ISNUMBER(IF(J_V="SI",S12,S12+AG12)),IF(J_V="SI",S12,S12+AG12)," - ") -> 6637 | AZ12: =IF(ISNUMBER(IF(J_V="SI",T12,T12+AH12)),IF(J_V="SI",T12,T12+AH12)," - ") -> 1734 | BA12: =IF(ISNUMBER(IF(J_V="SI",U12,U12+AI12)),IF(J_V="SI",U12,U12+AI12)," - ") -> 1605 | BB12: =IF(ISNUMBER(IF(J_V="SI",V12,V12+AJ12)),IF(J_V="SI",V12,V12+AJ12)," - ") -> 6748 | BC12: =IF(ISNUMBER(X12),X12," - ") -> 663 | BD12: =IF(ISNUMBER(BA12/AZ12),BA12/AZ12," - ") -> 0.92560554 | BE12: =IF(ISNUMBER(BB12/BA12),BB12/BA12, " - ") -> 4.2043614 | BF12: =IF(ISNUMBER(BC12/BA12),BC12/BA12, " - ") -> 0.41308411 | BG12: =IF(ISNUMBER((AY12+AZ12)/BA12),(AY12+AZ12)/BA12," - ") -> 5.2155763 | BH12: 6 | BM12: 380 | CN12: 1088 | CO12: 2880 | CP12: 1088 | EO12: TCON2211+MOVCO211*1.5+INCID211+MECAU211+TVOLU215+(TDERE218+MEDTO218+INCTO218)+INTEV215+AUTME215+PROMO218+PROES218+REPIN318+SOLRE215+TCIVI215+(NVL(CONCU219,0)+NVL(ICTOT219,0)+NVL(PCTOT219,0)+NVL(DILTO219,0)+NVL(MEDCA219,0)+NVL(EXPAR219,0)+NVL(SOLEX219,0)+NVL(MONIT219,0)+NVL(JURIS219,0)+NVL(MICTO219,0))*1.5+NVL(EJTOT219,0)+NVL(PCTOT247,0)+NVL(MEDTO247,0)+NVL(INCTO247,0) | ER12: 680
A13: TOTAL | B13: PJ | C13: TC | I13: =SUBTOTAL(9,I8:I12) -> 6984 | J13: =SUBTOTAL(9,J8:J12) -> 1451 | K13: =SUBTOTAL(9,K8:K12) -> 2399 | L13: =SUBTOTAL(9,L8:L12) -> 6036 | M13: =SUBTOTAL(9,M8:M12) -> 450 | N13: =SUBTOTAL(9,N8:N12) -> 1299 | O13: =SUBTOTAL(9,O8:O12) -> 745 | P13: =SUBTOTAL(9,P8:P12) -> 648 | ... AE13: =SUBTOTAL(9,AE8:AE12) -> 0 | AF13: =SUBTOTAL(9,AF9:AF12) -> 0 | AG13: =SUBTOTAL(9,AG8:AG12) -> 81 | AH13: =SUBTOTAL(9,AH8:AH12) -> 94 | AI13: =SUBTOTAL(9,AI8:AI12) -> 101 | AJ13: =SUBTOTAL(9,AJ8:AJ12) -> 74 | AK13: =SUBTOTAL(9,AK8:AK12) -> 0 | AL13: =SUBTOTAL(9,AL8:AL12) -> 0 | AM13: =SUBTOTAL(9,AM8:AM12) -> 0 | AN13: =SUBTOTAL(9,AN8:AN12) -> 0 | ... AT13: =SUBTOTAL(9,AT8:AT12) -> 0 | AY13: =SUBTOTAL(9,AY8:AY12) -> 6734 | AZ13: =SUBTOTAL(9,AZ8:AZ12) -> 1749 | BA13: =SUBTOTAL(9,BA8:BA12) -> 1633 | BB13: =SUBTOTAL(9,BB8:BB12) -> 6832 | BC13: =SUBTOTAL(9,BC8:BC12) -> 674 | BD13: =IF(ISNUMBER(BA13/AZ13),BA13/AZ13," - ") -> 0.93367639 | BE13: =IF(ISNUMBER(BB13/BA13),BB13/BA13, " - ") -> 4.183711 | BF13: =IF(ISNUMBER(BC13/BA13),BC13/BA13, " - ") -> 0.41273729 | BG13: =IF(ISNUMBER((AY13+AZ13)/BA13),(AY13+AZ13)/BA13," - ") -> 5.1947336 | BH13: =SUBTOTAL(9,BH8:BH12) -> 7 | BI13: =SUBTOTAL(9,BI8:BI12) -> 0 | BJ13: =SUBTOTAL(9,BJ8:BJ12) -> 0 | BK13: =SUBTOTAL(9,BK8:BK12) -> 0 | BL13: =SUBTOTAL(9,BL8:BL12) -> 0 | BM13: =AVERAGE(BM8:BM12) -> 525 | CA13: =SUBTOTAL(9,CA8:CA12) -> 0 | CB13: =SUBTOTAL(9,CB8:CB12) -> 0 | CC13: =SUBTOTAL(9,CC8:CC12) -> 0 | CD13: =SUBTOTAL(9,CD8:CD12) -> 0 | CE13: =SUBTOTAL(9,CE8:CE12) -> 0 | CF13: =SUBTOTAL(9,CF8:CF12) -> 0 | CG13: =SUBTOTAL(9,CG8:CG12) -> 0 | CH13: =SUBTOTAL(9,CH8:CH12) -> 0 | ... CL13: =SUBTOTAL(9,CL8:CL12) -> 0 | CN13: =AVERAGE(CN8:CN12) -> 1109.75 | CO13: =AVERAGE(CO8:CO12) -> 1150 | CP13: =AVERAGE(CP8:CP12) -> 1109.75 | CS13: =SUBTOTAL(9,CS8:CS12) -> 0 | CT13: =SUBTOTAL(9,CT8:CT12) -> 0 | CU13: =SUBTOTAL(9,CU8:CU12) -> 0 | CV13: =SUBTOTAL(9,CV8:CV12) -> 0 | EL13: =SUBTOTAL(9,EL8:EL12) -> 0 | EM13: =SUBTOTAL(9,EM8:EM12) -> 0 | EN13: =SUBTOTAL(9,EN8:EN12) -> 0 | EP13: =SUBTOTAL(9,EP8:EP12) -> 0 | EQ13: =SUBTOTAL(9,EQ8:EQ12) -> 0 | ER13: =AVERAGE(ER8:ER12) -> 990.2 | ES13: =SUBTOTAL(9,ES8:ES12) -> 0 | EV13: =SUBTOTAL(9,EV8:EV12) -> 0 | EX13: =SUBTOTAL(9,EX8:EX12) -> 0 | EY13: =SUBTOTAL(9,EY8:EY12) -> 0
A14: Jurisdicción Penal ( 2 ): | B14: PJ | C14: CB
A15: Jdos. Instrucción | B15: PJ | C15: DT | D15: 04 | E15: 03 | F15: 33 | I15: TPROC124+PIESE124 | J15: TPROC224+PIESE224 | K15: TPROC424+PIESE324 | L15: TPROC524+PIESE424 | M15: SENTET25+DELLE525+SENDET25+SENDVD25+SENPDE25+SENPDR25+SENDEC25 | N15: AUTART25+AUTOT125+AUTOT225 | O15: DECRED25+DECREE25 | P15: JFALT224+EJLEV224 | Q15: JFALT424+EJLEV424 | R15: JFALT524+EJLEV524 | AC15: DILII124 | AD15: DILII224 | AE15: DILII424 | AF15: DILII524 | AO15: 0 | AP15: 0 | AQ15: 0 | AR15: 0 | AS15: DILIP224+DILIP324+PIESE224 | AT15: JUICI224+JUICI324 | AY15: =IF(ISNUMBER(IF(D_I="SI",S15,S15+AK15)),IF(D_I="SI",S15,S15+AK15)," - ") -> - | AZ15: =IF(ISNUMBER(IF(D_I="SI",T15,T15+AL15)),IF(D_I="SI",T15,T15+AL15)," - ") -> - | BA15: =IF(ISNUMBER(IF(D_I="SI",U15,U15+AM15)),IF(D_I="SI",U15,U15+AM15)," - ") -> - | BB15: =IF(ISNUMBER(IF(D_I="SI",V15,V15+AN15)),IF(D_I="SI",V15,V15+AN15)," - ") -> - | BC15: =IF(ISNUMBER(W15),W15," - ") -> - | BD15: =IF(ISNUMBER(BA15/AZ15),BA15/AZ15," - ") -> - | BE15: =IF(ISNUMBER(BB15/BA15),BB15/BA15, " - ") -> - | BF15: =IF(ISNUMBER(BC15/BA15),BC15/BA15, " - ") -> - | BG15: =IF(ISNUMBER((AY15+AZ15)/BA15),(AY15+AZ15)/BA15," - ") -> - | BH15: 0 | BM15: 6650 | CN15: 1262 | CO15: 6600 | CP15: 1262 | EO15: TPROC224+PIESE224+ASUEX224+(NVL(TPROC222,0)+NVL(TPROC322,0)+NVL(TPROC422,0)+NVL(TORDP222,0)+NVL(PCTOT247,0)+NVL(MEDTO247,0)+NVL(INCTO247,0))+(NVL(TCON2211,0)+NVL(MOVCO211,0)*1.5+NVL(INCID211,0)+NVL(MECAU211,0)+NVL(TVOLU215,0)+(NVL(TDERE218,0)+NVL(MEDTO218,0)+NVL(INCTO218,0))+NVL(INTEV215,0)+NVL(AUTME215,0)+NVL(PROMO218,0)+NVL(PROES218,0)+NVL(SOLRE215,0)+NVL(TCIVI215,0))*2.75 | ER15: 3300
A16: Jdos. 1ª Instª. e Instr./Secc. Civil y de Inst. TI | B16: PJ | C16: DT | D16: 04 | E16: 04 | F16: 31 | I16: 3362 | J16: 1795 | K16: 1556 | L16: 3347 | M16: 259 | N16: 803 | O16: 6 | P16: 38 | Q16: 34 | R16: 339 | S16: 3267 | T16: 1803 | U16: 1772 | V16: 3057 | W16: 282 | X16: 1140 | Y16: 0 | Z16: 0 | AA16: 0 | AB16: 0 | AC16: 1 | AD16: 5 | AE16: 5 | AF16: 1 | AG16: 0 | AH16: 0 | AI16: 0 | AJ16: 0 | AK16: 2 | AL16: 4 | AM16: 3 | AN16: 3 | AO16: 6 | AP16: 6 | AQ16: 6 | AR16: 6 | AS16: TPROC224+TPROC324+PIESE224 | AY16: =IF(ISNUMBER(IF(D_I="SI",S16,S16+AK16)),IF(D_I="SI",S16,S16+AK16)," - ") -> 3267 | AZ16: =IF(ISNUMBER(IF(D_I="SI",T16,T16+AL16)),IF(D_I="SI",T16,T16+AL16)," - ") -> 1803 | BA16: =IF(ISNUMBER(IF(D_I="SI",U16,U16+AM16)),IF(D_I="SI",U16,U16+AM16)," - ") -> 1772 | BB16: =IF(ISNUMBER(IF(D_I="SI",V16,V16+AN16)),IF(D_I="SI",V16,V16+AN16)," - ") -> 3057 | BC16: =IF(ISNUMBER(W16),W16," - ") -> 282 | BD16: =IF(ISNUMBER(BA16/AZ16),BA16/AZ16," - ") -> 0.98280643 | BE16: =IF(ISNUMBER(BB16/BA16),BB16/BA16, " - ") -> 1.7251693 | BF16: =IF(ISNUMBER(BC16/BA16),BC16/BA16, " - ") -> 0.15914221 | BG16: =IF(ISNUMBER((AY16+AZ16)/BA16),(AY16+AZ16)/BA16," - ") -> 2.8611738 | BH16: 6 | BM16: 2500 | CN16: 1088 | CO16: 2880 | CP16: 1088 | EO16: TPROC224+PIESE224+ASUEX224+NVL(TPROC222,0)+NVL(TPROC322,0)+NVL(TPROC422,0)+NVL(TORDP222,0) | ER16: 1000
A17: Jdos. Violencia contra la mujer/Secc Viol. TI. | B17: PJ | C17: DT | D17: 37 | E17: 37 | F17: 53 | I17: 75 | J17: 106 | K17: 132 | L17: 49 | M17: 18 | N17: 72 | O17: 0 | P17: 0 | Q17: 1 | R17: 6 | S17: 117 | T17: 172 | U17: 191 | V17: 99 | W17: 14 | X17: 116 | Y17: 0 | Z17: 0 | AA17: 0 | AB17: 0 | AC17: 0 | AD17: 0 | AE17: 0 | AF17: 0 | AG17: 0 | AH17: 0 | AI17: 0 | AJ17: 0 | AK17: 0 | AL17: 0 | AM17: 0 | AN17: 0 | AO17: 1 | AP17: 0 | AQ17: 0 | AR17: 0 | AS17: TPROC222+TPROC322+TPROC422 TPROC222+TPROC322+TPROC422 TPROC222+TPROC322+TPROC422 | AY17: =IF(ISNUMBER(S17),S17," - ") -> 117 | AZ17: =IF(ISNUMBER(T17),T17," - ") -> 172 | BA17: =IF(ISNUMBER(U17),U17," - ") -> 191 | BB17: =IF(ISNUMBER(V17),V17," - ") -> 99 | BC17: =IF(ISNUMBER(W17),W17," - ") -> 14 | BD17: =IF(ISNUMBER(BA17/AZ17),BA17/AZ17," - ") -> 1.1104651 | BE17: =IF(ISNUMBER(BB17/BA17),BB17/BA17, " - ") -> 0.51832461 | BF17: =IF(ISNUMBER(BC17/BA17),BC17/BA17, " - ") -> 0.073298429 | BG17: =IF(ISNUMBER((AY17+AZ17)/BA17),(AY17+AZ17)/BA17," - ") -> 1.513089 | BH17: 1 | BM17: 1800 | BY17: 12*(SUMAR522)+18*(JURAD522)+3*1.05*(TPRAB222+TPRAB422)+1.75*1.05*(SENTE381+SENLE381)+2*(ACEDEC81)+(2-(1.75*1.05))*(JFALT422+JDLEV422)+2*(TORDP322+TORDP422+TORDP522)+SENDET81*2 | BZ17: GREATEST(DILUR522-(TORDP322+TORDP422+TORDP522)*2.5,0) | CN17: 1175 | CO17: 1800 | CP17: 1175 | EO17: TPROC222+TPROC322+TPROC422 | ER17: 1600
A18: TOTAL | B18: PJ | C18: TC | I18: =SUBTOTAL(9,I14:I17) -> 3437 | J18: =SUBTOTAL(9,J14:J17) -> 1901 | K18: =SUBTOTAL(9,K14:K17) -> 1688 | L18: =SUBTOTAL(9,L14:L17) -> 3396 | M18: =SUBTOTAL(9,M14:M17) -> 277 | N18: =SUBTOTAL(9,N14:N17) -> 875 | O18: =SUBTOTAL(9,O14:O17) -> 6 | P18: =SUBTOTAL(9,P14:P17) -> 38 | ... AT18: =SUBTOTAL(9,AT14:AT17) -> 0 | AY18: =SUBTOTAL(9,AY14:AY17) -> 3384 | AZ18: =SUBTOTAL(9,AZ14:AZ17) -> 1975 | BA18: =SUBTOTAL(9,BA14:BA17) -> 1963 | BB18: =SUBTOTAL(9,BB14:BB17) -> 3156 | BC18: =SUBTOTAL(9,BC14:BC17) -> 296 | BD18: =IF(ISNUMBER(BA18/AZ18),BA18/AZ18," - ") -> 0.99392405 | BE18: =IF(ISNUMBER(BB18/BA18),BB18/BA18, " - ") -> 1.6077433 | BF18: =IF(ISNUMBER(BC18/BA18),BC18/BA18, " - ") -> 0.15078961 | BG18: =IF(ISNUMBER((AY18+AZ18)/BA18),(AY18+AZ18)/BA18," - ") -> 2.7300051 | BH18: =SUBTOTAL(9,BH14:BH17) -> 7 | BI18: =SUBTOTAL(9,BI14:BI17) -> 0 | BJ18: =SUBTOTAL(9,BJ14:BJ17) -> 0 | BK18: =SUBTOTAL(9,BK14:BK17) -> 0 | BL18: =SUBTOTAL(9,BL14:BL17) -> 0 | BM18: =AVERAGE(BM15:BM17) -> 3650 | CA18: =SUBTOTAL(9,CA14:CA17) -> 0 | CB18: =SUBTOTAL(9,CB14:CB17) -> 0 | CC18: =SUBTOTAL(9,CC14:CC17) -> 0 | CD18: =SUBTOTAL(9,CD14:CD17) -> 0 | CE18: =SUBTOTAL(9,CE14:CE17) -> 0 | CF18: =SUBTOTAL(9,CF14:CF17) -> 0 | CG18: =SUBTOTAL(9,CG14:CG17) -> 0 | CH18: =SUBTOTAL(9,CH14:CH17) -> 0 | ... CL18: =SUBTOTAL(9,CL14:CL17) -> 0 | CV18: =SUBTOTAL(9,CV15:CV17) -> 0 | CW18: =SUBTOTAL(9,CW15:CW17) -> 0 | CY18: =SUBTOTAL(9,CY15:CY17) -> 0 | CZ18: =SUBTOTAL(9,CZ15:CZ17) -> 0 | DA18: =SUBTOTAL(9,DA15:DA17) -> 0 | DB18: =SUBTOTAL(9,DB15:DB17) -> 0 | DC18: =SUBTOTAL(9,DC15:DC17) -> 0 | DD18: =SUBTOTAL(9,DD15:DD17) -> 0 | DE18: =SUBTOTAL(9,DE15:DE17) -> 0 | DF18: =SUBTOTAL(9,DF15:DF17) -> 0 | ... EN18: =SUBTOTAL(9,EN15:EN17) -> 0 | EP18: =SUBTOTAL(9,EP15:EP17) -> 0 | EQ18: =SUBTOTAL(9,EQ15:EQ17) -> 0 | ER18: =AVERAGE(ER15:ER17) -> 1966.6667 | EV18: =SUBTOTAL(9,EV15:EV17) -> 0 | EW18: =SUBTOTAL(9,EW15:EW17) -> 0 | EX18: =SUBTOTAL(9,EX15:EX17) -> 0 | EY18: =SUBTOTAL(9,EY15:EY17) -> 0
A19: TOTAL JURISDICCIONES | C19: TTC | I19: =SUBTOTAL(9,I9:I18) -> 10421 | J19: =SUBTOTAL(9,J9:J18) -> 3352 | K19: =SUBTOTAL(9,K9:K18) -> 4087 | L19: =SUBTOTAL(9,L9:L18) -> 9432 | M19: =SUBTOTAL(9,M9:M18) -> 727 | N19: =SUBTOTAL(9,N9:N18) -> 2174 | O19: =SUBTOTAL(9,O9:O18) -> 751 | P19: =SUBTOTAL(9,P9:P18) -> 686 | ... AN19: =SUBTOTAL(9,AN9:AN18) -> 3 | AO19: 7 | AP19: 6 | AQ19: 6 | AR19: 6 | AS19: =SUBTOTAL(9,AS9:AS18) -> 0 | AT19: =SUBTOTAL(9,AT9:AT18) -> 0 | AY19: =SUBTOTAL(9,AY9:AY18) -> 10118 | AZ19: =SUBTOTAL(9,AZ9:AZ18) -> 3724 | BA19: =SUBTOTAL(9,BA9:BA18) -> 3596 | BB19: =SUBTOTAL(9,BB9:BB18) -> 9988 | BC19: =SUBTOTAL(9,BC9:BC18) -> 970 | BD19: =IF(ISNUMBER(BA19/AZ19),BA19/AZ19," - ") -> 0.96562836 | BE19: =IF(ISNUMBER(BB19/BA19),BB19/BA19, " - ") -> 2.7775306 | BF19: =IF(ISNUMBER(BC19/BA19),BC19/BA19, " - ") -> 0.26974416 | BG19: =IF(ISNUMBER((AY19+AZ19)/BA19),(AY19+AZ19)/BA19," - ") -> 3.849277 | BH19: =SUBTOTAL(9,BH9:BH18) -> 14 | BI19: 0 | BK19: =SUBTOTAL(9,BK9:BK18) -> 0 | BM19: =AVERAGE(BM9:BM18) -> 1913.8889 | CI19: =SUM(CI9:CI18) -> 0 | CJ19: =SUM(CJ9:CJ18) -> 0 | CK19: =SUM(CK9:CK18) -> 0 | CL19: =SUM(CL9:CL18) -> 0 | CN19: =SUBTOTAL(9,CN9:CN18) -> 9073.75 | CO19: =SUBTOTAL(9,CO9:CO18) -> 17030 | CP19: =SUBTOTAL(9,CP9:CP18) -> 9073.75 | DB19: =SUBTOTAL(9,DB9:DB18) -> 0 | DC19: =SUBTOTAL(9,DC9:DC18) -> 0 | DD19: =SUBTOTAL(9,DD9:DD18) -> 0 | DE19: =SUBTOTAL(9,DE9:DE18) -> 0 | DF19: =SUBTOTAL(9,DF9:DF18) -> 0 | DM19: =SUBTOTAL(9,DM9:DM18) -> 0 | DN19: =SUBTOTAL(9,DN9:DN18) -> 0 | DO19: =SUBTOTAL(9,DO9:DO18) -> 0 | DP19: =SUBTOTAL(9,DP9:DP18) -> 0 | DQ19: =SUBTOTAL(9,DQ9:DQ18) -> 0 | DR19: =SUBTOTAL(9,DR9:DR18) -> 0 | DS19: =SUBTOTAL(9,DS9:DS18) -> 0 | DT19: =SUBTOTAL(9,DT9:DT18) -> 0 | ... EN19: =SUBTOTAL(9,EN9:EN18) -> 0 | EP19: =SUBTOTAL(9,EP9:EP18) -> 0 | EQ19: =SUBTOTAL(9,EQ9:EQ18) -> 0 | ER19: =AVERAGE(ER9:ER18) -> 1517.763 | ES19: =AVERAGE(ES9:ES18) -> 0 | EV19: =AVERAGE(EV9:EV18) -> 0 | EW19: =AVERAGE(EW9:EW18) -> 0
E21: Leyenda Delimitadores
D22: CB = Cabecera | AO22: los comentarios introducidos las columnas nº de Organo y Nº de boletines se usan para evitar que formen pate de la suma total de esas columnas
D23: DT = Dato
D24: TC = Total Calculado
D25: TTC = Total Totales Calculados

Sheet DatosB
A1: 4 | DF1: 109
A2: =Criterios!C8 -> 0 | B2: =Criterios!B8 -> 0
A3: =Criterios!A9 -> Tribunales de Justicia | B3: =Criterios!B9 -> CATALUÑA
A4: =Criterios!A10 -> Provincias | B4: =Criterios!B10 -> BARCELONA | CE4: Año anterior
A5: ="Año: " &Criterios!B5 & " Trimestre " &Criterios!D5 & " al " &Criterios!D6 -> Año: 2025 Trimestre 4 al 4 | B5: AMBITO TERRITORIAL | C5: Delimitadores | D5: Clasificación | I5: Campos Asociados a: | AO5: Nº de Órganos que emiten un tipo concreto | AP5: Nº de Órganos B | AQ5: Magistrados | AR5: Magistrados B | AS5: MODULO DE ENTRADA 1 | AT5: MODULO DE ENTRADA 2 | AU5: MODULO DE RESOLUCION 1 | AV5: MODULO DE RESOLUCION 2 | AW5: MODULO DE PENDENCIA 1 | AX5: MODULO DE PENDENCIA 2 | AY5: Datos Año Anterior | BD5: Tasa Año Anterior | BH5: Nº de Órganos que emiten un tipo concreto TRIMESTRE ANTERIOR | BI5: Nº de Órganos B TRIMESTRE ANTERIOR | BJ5: MODULO AÑO ANTERIOR | BK5: MAGISTRADOS AÑO ANTERIOR | BL5: MAGISTRADOS AÑO ANTERIOR B | BM5: MODULO TEORICO DE ENTRADA DEL ÓRGANO | BV5: Sentencias Pendientes | BW5: Escritos pendientes de proveeer hasta 30 días | BX5: Escritos Pendientes de proveer más de 30 días | BY5: Puntos Dedicación | BZ5: Puntos Dedicación 2 | CA5: Monitorios Pendientes Inicio | CB5: Monitorios Ingresados | CC5: Monitorios Resuletos | CD5: Monitorios Pendientes fin | CE5: Monitorios Pendientes inicio | CF5: Monitorios Ingresados | CG5: Monitorios Resuletos | CH5: Monitorios Pendientes fin | CI5: Suspendidos | CJ5: Señalados | CK5: Sentencias Pendientes (menos 3 meses) | CL5: Sentencias Pendientes (entre 3 y 6 meses) | CM5: Sentencias Pendientes (más 6 mes) | CN5: Modulo teorico de dedicic. organo | CO5: Modulo teorico de entrada magistrado | CP5: Modulo teorico de dedicic. magistrado | CQ5: Puntos dedic. magistrado | CR5: Puntos dedic. Magistrado residual | CS5: Procedimeintos abreviados elevados | CT5: Registros | CU5: Carácter de actuación | CV5: Sentencias pendientes juez | CW5: Asuntos Pendientes de Incoar | CX5: Fecha más adelantada señalamiento | CY5: Autos Pendientes (menos de 3 meses) juez | CZ5: Autos Pendientes (entre 3 y 6 meses) juez | DA5: Autos Pendientes (más de 6 meses) juez | DB5: MODULO DE ENTRADA 1 INSPECCIÓN | DC5: MODULO DE ENTRADA 2 INSPECCIÓN | DD5: MODULO DE ENTRADA 3 INSPECCIÓN | DE5: Ejecuciones Reiniciadas | DF5: Asuntos reabiertos | DG5: Autos Pendientes (total) juez | DH5: Sentencias Pendientes (menos 3 meses) juez | DI5: Sentencias Pendientes (entre 3 y 6 meses) juez | DJ5: Sentencias Pendientes (más 6 mes) juez | DK5: Admisiones Sec. 1ª | DL5: Inadmisiones | DM5: Asuntos Acumulados | DN5: Pendencia Ordinarios | DO5: Pendencia Abreviados | DP5: Pendencia Recursos Apelación | DQ5: Proc. Abreviados ptes. Exclusivamente de Vista | DR5: Proc. Ordinarios ptes. Declarar Conclusos | DS5: Asuntos Pendientes Exclusivamente de Señalar Votación y Fallo | DT5: Asuntos Cuyo Plazo para Dictar Sentencia se Haya Diferido art. 67.2L RJCA | DU5: Medidas de Refuerzo | DV5: Nº TOTAL autos Pendientes | DW5: Nª autos menos 3 m | DX5: Nª autos entre 3 y 6m | DY5: Nª autos más de 6m | DZ5: Nº TOTAL Sentencias dictadasen P. Abreviados | EA5: Nº TOTAL Sentencias dictadas en p. Ordinarios | EB5: Número diligencias previas ingresadas | EC5: Número dtos leves ingresados Número dtos urgentes ingresados | ED5: Ingreso computable Proc. Abrev. | EE5: Modulo Ingreso Computable D. Previas 2003 | EF5: Modulo Ingreso Computable Dtos leves 2003 -Modulo Ingreso Computable D. Urgentes 2003 | EG5: Modulo ingreso computable 2013 Pas | EH5: Modulo ingreso computable 2013 Ejecutorias | EI5: Asuntos Pendientes de instrucción compleja | EJ5: Ejecutorias pendientes de Incoar | EK5: Asuntos resueltos sujetos a seguimiento y control | EL5: Concursos | EO5: MODULO DE ENTRADA 2018 | EP5: MODULO DE RESOLUCION 2018 | EQ5: MODULO DE PENDENCIA 2018 | ER5: MODULO TEÓRICO ENTRADA 2018 | ES5: Pendencia Concursos año anterior | ET5: Número días PyL | EU5: Número días Periodo | EV5: Asuntos Repartidos Pendientes de Aceptar | EW5: Ejecutorias Repartidass pendientes de Aceptar | EX5: Asuntos Devueltos al instructor | EY5: Pendientes remitir por Fiscalía | EZ5: CODUNIDAD
I6: Nº Asuntos | P6: Ejecutorias | S6: Año Anterior | Y6: Jurisdicción voluntaria | AC6: Diligencias indeterminadas | AG6: Jurisdicción voluntaria ANUAL | AK6: Diligencias indeterminadas ANUAL
A7: COMPETENCIAS | D7: Boletin | E7: Sub-modelo / nota:Residual en | F7: ccodtorg | G7: Csasenmu | H7: Especialidad | I7: Pendencias Inicio | J7: Ingresados | K7: Resueltos | L7: Pendencias Final | M7: Sentencias | N7: Autos | O7: Decretos | P7: Registradas | Q7: Resueltas | R7: Pendientes | S7: Pendencias Incio | T7: Ingresados | U7: Resueltos | V7: Pendientes fin | W7: Sentencias | X7: Autos | Y7: Pendencias Incio | Z7: Ingresados | AA7: Resueltos | AB7: Pendencias Final | AC7: Pendencias Incio | AD7: Ingresados | AE7: Resueltos | AF7: Pendencias Final | AG7: Pendencias Incio | AH7: Ingresados | AI7: Resueltos | AJ7: Pendencias Final | AK7: Pendencias Incio | AL7: Ingresados | AM7: Resueltos | AN7: Pendencias Final | AY7: Pendencias Incio | AZ7: Ingresados | BA7: Resueltos | BB7: Pendientes fin | BC7: Sentencias | BD7: Resueltos | BE7: Pendientes | BF7: Sentencia | BG7: Congestión | EL7: Presentados | EM7: Resolución | EN7: Pendencia
A8: Jurisdicción Civil ( 1 ): | B8: PJ | C8: CB | I8: 9 | J8: 10 | K8: 11 | L8: 12 | M8: 13 | N8: 14 | O8: 15 | P8: 16 | Q8: 17 | R8: 18 | S8: 19 | T8: 20 | U8: 21 | V8: 22 | W8: 23 | X8: 24 | Y8: 25 | Z8: 26 | AA8: 27 | AB8: 28 | AC8: 29 | AD8: 30 | AE8: 31 | AF8: 32 | AG8: 33 | AH8: 34 | AI8: 35 | AJ8: 36 | AK8: 37 | AL8: 38 | AM8: 39 | AN8: 40 | AO8: 41 | AP8: 42 | AQ8: 43 | AR8: 44 | AS8: 45 | AT8: 46 | AU8: 47 | AV8: 48 | AW8: 49 | AX8: 50 | AY8: 51 | AZ8: 52 | BA8: 53 | BB8: 54 | BC8: 55 | BD8: 56 | BE8: 57 | BF8: 58 | BG8: 59 | BH8: 60 | BI8: 61 | BJ8: 62 | BK8: 63 | BL8: 64 | BV8: 74 | BW8: 75 | BX8: 76 | BY8: 77 | BZ8: 78 | CA8: 79 | CB8: 80 | CC8: 81 | CD8: 82 | CE8: 83 | CF8: 84 | CG8: 85 | CH8: 86 | CI8: 87 | CJ8: 88 | CK8: 89 | CL8: 90 | CM8: 91 | CQ8: 95 | CR8: 96 | CS8: 97 | CT8: 98 | CU8: 99 | CV8: 100 | CW8: 101 | CX8: 102 | CY8: 103 | CZ8: 104 | DA8: 105 | DB8: 106 | DC8: 107 | DD8: 108 | DE8: 109 | DF8: 110 | DG8: 111 | DH8: 112 | DI8: 113 | DJ8: 114 | DK8: 115 | DL8: 116 | DM8: 117 | DN8: 118 | DO8: 119 | DP8: 120 | DQ8: 121 | DR8: 122 | DS8: 123 | DT8: 124 | DU8: 125 | DV8: 126 | DW8: 127 | DX8: 128 | DY8: 129 | DZ8: 130 | EA8: 131 | EB8: 132 | EC8: 133 | ED8: 134 | EE8: 135 | EF8: 136 | EG8: 137 | EH8: 138 | EI8: 139 | EJ8: 140 | EK8: 141 | EL8: 142 | EM8: 143 | EN8: 144 | EO8: 145 | EP8: 146 | EQ8: 147 | ER8: 148 | ES8: 149 | ET8: 150 | EU8: 151 | EV8: 152 | EW8: 153 | EX8: 154 | EY8: 155 | EZ8: 156
A9: Jdos. 1ª Instancia | B9: PJ | C9: DT | D9: 04 | E9: 01 | F9: 32 | H9: (ccodespe like 'F%') (ccodespe like 'F%' or ccodespe like 'IN' or ccodespe like 'EC') | I9: TCON1111+MOVCO111+INCID111+MECAU111+TCON2111+TDERE118+NVL(CONCU119,0)+NVL(ICTOT119,0)+NVL(EXPAR119,0)+NVL(PCTOT119,0)+NVL(MONIT119,0)+NVL(JURIS119,0)+NVL(DILTO119,0)+NVL(MEDCA119,0)+NVL(ASTOT119,0)+INTEV115+PROCO118+PROES118+MEDTO118+INCTO118+AUTME115+SOLRE115+NVL(MICTO119,0) | J9: TCONT211+TCON2211+MOVCO211+INCID211+MECAU211+TDERE218+TDERE318+NVL(CONCU219,0)+NVL(ICTOT219,0)+NVL(EXPAR219,0)+NVL(PCTOT219,0)+NVL(MONIT219,0)+NVL(JURIS219,0)+NVL(DILTO219,0)+NVL(MEDCA219,0)+NVL(ASTOT219,0)+INTEV215+NVL(TPROC224,0)+NVL(TPROC324,0)+PROCO218+PROCO318+PROES218+MEDTO218+INCTO218+NVL(PIESE224,0)+NVL(SOLEX119,0)+AUTME215+SOLRE215+NVL(MICTO219,0) | K9: TCON1311+TCON2311+MOVCO511+MOVCO611+MOVCO711+INCID311+MECAU311+TDERE418+TDERE518+NVL(CONCU519,0)+NVL(CONCU619,0)+NVL(CONCU719,0)+NVL(ICTOT319,0)+NVL(EXPAR319,0)+NVL(PCTOT419,0)+NVL(MONIT319,0)+NVL(JURIS419,0)+NVL(DILTO319,0)+NVL(MEDCA319,0)+NVL(ASTOT319,0)+INTEV315+NVL(TPROC424,0)+PROCO518+PROES318+MEDTO318+INCTO318+NVL(PIESE324,0)+AUTME315+SOLRE315+NVL(MICTO519,0) | L9: TCON1411+TCON2411+TDERE618+NVL(CONCU819,0)+NVL(ICTOT419,0)+NVL(EXPAR419,0)+NVL(PCTOT519,0)+NVL(MONIT419,0)+NVL(JURIS519,0)+NVL(DILTO419,0)+NVL(MEDCA419,0)+NVL(ASTOT419,0)+INTEV415+NVL(TPROC524,0)+PROCO618+PROES418+MOVCO811+INCID411+MECAU411+MEDTO418+INCTO418+NVL(PIESE424,0)+AUTME415+SOLRE415+NVL(MICTO619,0) | M9: SENPT313+SENFT313+SENCOV13+SENCON13+NVL(PCNTO792,0)+NVL(PCINCO92,0)+NVL(PCSINV92,0)+NVL(PCIJO792,0)+NVL(PCIJV792,0)+NVL(PESCA792,0)+NVL(ORDSO792,0)+NVL(MDYMC792,0) | N9: AUTOST13+NVL(AUACTT92,0)+NVL(AUACMT92,0)+NVL(AUAVTT92,0)+NVL(AUASTT92,0)+NVL(AUJVOL92,0)+NVL(AUDPRE92,0)+NVL(AUCAUT92,0)+NVL(AUEJEC92,0)+NVL(AUINNO92,0)+NVL(AUOTCO92,0)+NVL(AUMDMT92,0)+NVL(AULOPJ92,0) | O9: DECRET13+NVL(DECRE392,0) | P9: TCIVI215+NVL(EJTOT219,0) | Q9: TCIVI515+NVL(EJTOT519,0) | R9: TCIVI615+NVL(EJTOT619,0) | Y9: TVOLU115+PRONO118 | Z9: TVOLU215+PRONO218 | AA9: TVOLU315+PRONO418+PRONO518 | AB9: TVOLU415+PRONO618 | AS9: TCONT211+TCON2211+MOVCO211+INCID211+MECAU211+TDERE218-RUPTC218+MEDTO218+INCTO218+EJEHI211+OTRNJ211+(-DIVOC218)+(-SEPAM218)+(-MECON218)+(-GUCON218)+NVL(CONCU219,0)*2+NVL(ICTOT219,0)*2+INTEV215*0.2+AUTMC215*0.2+AUTMP215+NVL(PCTOT219,0)*2+NVL(DILTO219,0)*2+NVL(MEDCA219,0)*2+NVL(EXPAR219,0)*2+PROMO218+PROES218+SOLRE215+NVL(MICTO219,0)*2 | AU9: TCON1311+TCON2311+MOVCO511+MOVCO611+MOVCO711+INCID311+MECAU311+TDERE518-RUPTC518+MEDTO318+INCTO318+EJEHI511+EJEHI411+OTRNJ511+OTRNJ411+(-DIVOC518)+(-SEPAM518)+(-MECON518)+(-GUCON518)+INTEV315*0.2+AUTMC315*0.2+AUTMP315+NVL(CONCU519,0)*2+NVL(CONCU619,0)*2+NVL(CONCU719,0)*2+NVL(ICTOT319,0)*2+NVL(EXPAR319,0)*2+NVL(PCTOT419,0)*2+NVL(DILTO319,0)*2+NVL(MEDCA319,0)*2+PROMO318+PROES318+SOLRE315 | AW9: TCON1411+TCON2411+MOVCO811+INCID411+MECAU411+TDERE618-RUPTC618+MEDTO418+INCTO418+EJEHI611+OTRNJ611+(-DIVOC618)+(-SEPAM618)+(-MECON618)+(-GUCON618)+NVL(CONCU819,0)*2+INTEV415*0.2+AUTMC415*0.2+AUTMP415+NVL(ICTOT419,0)*2+NVL(EXPAR419,0)*2+NVL(PCTOT519,0)*2+NVL(DILTO419,0)*2+NVL(MEDCA419,0)*2+PROMO418+PROES418+SOLRE415 | AY9: =IF(ISNUMBER(IF(Criterios!B13="SI",S9,S9+AG9)),IF(Criterios!B13="SI",S9,S9+AG9)," - ") -> 0 | BA9: =IF(ISNUMBER(IF(Criterios!B13="SI",U9,U9+AI9)),IF(Criterios!B13="SI",U9,U9+AI9)," - ") -> 0 | BB9: =IF(ISNUMBER(IF(Criterios!B13="SI",V9,V9+AJ9)),IF(Criterios!B13="SI",V9,V9+AJ9)," - ") -> 0 | BC9: =IF(ISNUMBER(X9),X9," - ") -> - | BD9: =IF(ISNUMBER(BA9/AZ9),BA9/AZ9," - ") -> - | BE9: =IF(ISNUMBER(BB9/BA9),BB9/BA9, " - ") -> - | BF9: =IF(ISNUMBER(BC9/BA9),BC9/BA9, " - ") -> - | BG9: =IF(ISNUMBER((AY9+AZ9)/BA9),(AY9+AZ9)/BA9," - ") -> - | BM9: 720 | BV9: SENPEN13+NVL(SENPNO92,0)+NVL(SENPNC92,0)+NVL(SENPNS92,0)+NVL(SENPEN25,0)+SENCOT13 | BW9: ESCHAT15+NVL(EPTOT319,0)+NVL(ESCHAT24,0) | BX9: ESCMAT15+NVL(EPTOT419,0)+NVL(ESCMAT24,0) | BY9: 2.84*TCON1311+12*(QUIEB311)+12*(SUSPE311)+(EJEHI411+EJEHI511)+4.5*(ORDIN311)+4.25*(DIPAT311+MOVCO711)+ESCAS311+2.5*(VERAR311+VERPO311+DEMAS311+VEROC311+TRAFA311+ARTLE311)+2*MECAU311+0.15*(MONIT311+MONIE311)+0.75*CAMBI311+1.5*(INCID311+INCTO318)+PROMO318-PROCO518-PRONO518+PROCO518*2.5+REPIN418+PROES318+OTRAP518+OTROC311+6*(NULID518)+0.5*(DIVOC518+SEPAM518)+3.25*(DIVON518+SEPAC518)+EFICA518+MEDTO318+0.5*(GUCON518)+3.25*(GUNOC518)+0.5*(MECON518)+3.25*(MENOC518)+0.5*(RUPTC518)+AUTMP315+3.25*(RUPTN518)+4.5*(JUORD518)+4.25*(LIREG518)+2.5*(JUVER518)+2.5*(SUSTR518)+2.5*(OPRES518)+SOLRE315+NVL(6*PCCONV92,0)+NVL(8*PCCALI92,0)+NVL(4.5*PCINCO92,0)+NVL(4.5*PCSINV92,0)+NVL(4.5*PCIJO792,0)+NVL(2.5*PCIJV792,0)+NVL(2.5*PESCA792,0)+NVL(3.5*ORDSET92,0)+NVL(AUSINM92,0)*6+NVL(AUREL192,0)*6+NVL(AUREL292,0)*6+NVL(AUREL392,0)*6+NVL(6*AURESO92,0)+NVL(6*AUCOFA92,0)+NVL(6*AUNOAC92,0)+NVL(6*AUDECU92,0)+NVL(6*AUAPPI92,0)+NVL(2*AUREAU92,0)+NVL(2.5*AUAVT192,0)+NVL(4.5*AUAVT292,0)+NVL(0.15*AUAVT392,0)+NVL(2.5*AUAVT492,0)+NVL(0.5*AUASAP92,0)+NVL(6*AUASRE92,0)+NVL(3.5*AUASDI92,0)+NVL(2*AUDPRE92,0)+NVL(2*AUCAUT92,0)+NVL(1.5*AUINNO92,0)+NVL(1*AUOTCO92,0)+NVL(AUACT192*4.5,0)+NVL(ORDIN192*3.5,0)+NVL(ORDIN292*3,0)+2.5*(GREATEST(NVL(ICLAB319,0)-NVL(ORDIN192,0)-NVL(ORDIN292,0)-NVL(ORDSET92,0),0)) | BZ9: 12*(NVL(SUMAR424,0))+18*(NVL(PELEVT24,0))+3*1.05*(NVL(TPRAB224,0)+NVL(TPRAB424,0))+1.75*1.05*(NVL(SENTET25,0)+NVL(DELLE525,0)-NVL(MOJRA424,0)-NVL(MOLEV424,0))+(NVL(HABEA424,0))+2*(NVL(SENDET25,0)+NVL(SENDVD25,0))+2*(NVL(MOJRA424,0))+2*(NVL(MOLEV424,0))+2*(NVL(TORDP424,0)+NVL(TORDP324,0))+2*(NVL(VMOPRT24,0))+25*(CASE when (NVL(PCCONV92,-1)>=0) THEN 1 ELSE 0 END) | CA9: MONIE111+MONIT111+NVL(MONIT119,0) | CB9: MONIE211+MONIT211+NVL(MONIT219,0) | CC9: MONIE311+MONIT311+NVL(MONIT319,0) | CD9: MONIE411+MONIT411+NVL(MONIT419,0) | CI9: SUSPJ215+NVL(SENIJ219,0)+SUSPI215+NVL(SENIJ419,0) | CJ9: SENIJ115+NVL(SENIJ319,0) | CK9: SENPE113+NVL(SENPE185,0)+NVL(SENPN192,0)+NVL(SENPC192,0)+NVL(SENPS192,0)+NVL(SENPM192,0)+SENCO113 | CL9: SENPE213+NVL(SENPE285,0)+NVL(SENPN292,0)+NVL(SENPC292,0)+NVL(SENPS292,0)+NVL(SENPM292,0)+SENCO213 | CM9: SENPE313+NVL(SENPE385,0)+NVL(SENPN392,0)+NVL(SENPC392,0)+NVL(SENPS392,0)+NVL(SENPM392,0)+SENCO313 | CN9: 1088 | CO9: 720 | CP9: 1088 | CQ9: (CASE WHEN SENPT313+SENCOV13+SENCON13+SENFT313>0 THEN (SENPT314+SENICV14+SENINS14+SENFT314)/(SENPT313+SENCOV13+SENCON13+SENFT313) ELSE 0 END)*(2.84*TCON1311+EJEHI411+EJEHI511+12*QUIEB311+12*SUSPE311+4.5*(ORDIN311)+4.25*(DIPAT311+MOVCO711)+2.5*(VERAR311+VERPO311+DEMAS311+VEROC311+TRAFA311+ARTLE311)+2*MECAU311+ESCAS311+0.75*CAMBI311+1.5*(INCID311)+OTROC311+PROMO318-PROCO518-PRONO518+PROCO518*2.5+REPIN418+PROES318+6*(NULID518)+0.5*(DIVOC518+SEPAM518)+3.25*(DIVON518+SEPAC518)+EFICA518+MEDTO318+0.5*(GUCON518)+3.25*(GUNOC518)+0.5*(MECON518)+2.5*(OPRES518)+3.25*(MENOC518)+4.5*(JUORD518)+4.25*(LIREG518)+2.5*(JUVER518)+1.5*(INCTO318)+OTRAP518+2.5*SUSTR518+0.5*RUPTC518+3.25*RUPTN518+AUTMP315+SOLRE315) | CR9: ((CASE WHEN (SENTET25+DELLE525+SENDET25+SENDVD25)>0 THEN (SENTET26+DELLE526+SENDET26+SENDVD26)/(SENTET25+DELLE525+SENDET25+SENDVD25) ELSE 0 END)*(12*(SUMAR424)+18*(PELEVT24)+3*1.05*(TPRAB224+TPRAB424)+1.75*1.05*(SENTET25+DELLE525-MOJRA424-MOLEV424)+(HABEA424)+25+2*(SENDET25+SENDVD25)+2*(MOJRA424+MOLEV424)+2*(TORDP424+TORDP324)+2*(VMOPRT24))) | CV9: SENPEN14+SENCOT14 | CW9: DEMPEN11+NVL(DEMPEN19,0) | CX9: ULTSEN15 | CY9: AUTPE114 | CZ9: AUTPE214 | DA9: AUTPE314 | DB9: TCONT211+TCON2211+INCID211+MECAU211+MOVCO211+TVOLU215+INTEV215*0.16+TDERE218*0.8+MEDTO218*0.8+INCTO218*0.8+NVL(CONCU219,0)*2.2+NVL(ICTOT219,0)*2.2+NVL(EXPAR219,0)*2.2+NVL(PCTOT219,0)*2.2+NVL(DILTO219,0)*2.2+NVL(MEDCA219,0)*2.2+NVL(ASTOT219,0)*2.2+NVL(JURIS219,0)+NVL(MONIT219,0)+NVL(TPROC224,0)*0.36+PROMO218+PROES218+AUTME215+SOLRE215+NVL(MICTO219,0)*2.2 | DC9: TCONT211+TCON2211+TVOLU215+INCID211+MECAU211+MOVCO211+INTEV215+TDERE218+TDERE318+MEDTO218+NVL(CONCU219,0)+NVL(ICTOT219,0)+NVL(EXPAR219,0)+NVL(PCTOT219,0)+NVL(DILTO219,0)+NVL(MEDCA219,0)+NVL(ASTOT219,0)+ NVL(JURIS119,0)+NVL(MONIT219,0)+NVL(TPROC224,0)+PROMO218+PROES218+SOLRE215+INCTO218+AUTME215+NVL(MICTO219,0) | DE9: TCIVI315+NVL(EJTOT319,0) | DG9: AUTPE414 | DH9: SENPE114+SENCO114 | DI9: SENPE214+SENCO214 | DJ9: SENPE314+SENCO314 | DU9: PKTMAG14 | DV9: AUTPE413 | DW9: AUTPE113 | DX9: AUTPE213 | DY9: AUTPE313 | EL9: MOVCO211 | EM9: MOVCO711 | EN9: MOVCO811 | EO9: TCON2211+MOVCO211*1.5+INCID211+MECAU211+TVOLU215+(TDERE218+MEDTO218+INCTO218)*0.8+INTEV215+AUTME215+PROMO218+PROES218+REPIN318+SOLRE215+TCIVI215+(NVL(CONCU219,0) +NVL(ICTOT219,0)+NVL(PCTOT219,0)+NVL(DILTO219,0)+NVL(MEDCA219,0)+NVL(EXPAR219,0)+NVL(MONIT219,0)+NVL(JURIS219,0))*1.5+NVL(EJTOT219,0)+(NVL(TPROC224,0)+NVL(PIESE224,0)+NVL(ASUEX224,0)+NVL(MICTO219,0))*0.36 | EP9: TCON2311+MOVCO711*1.5+INCID311+REPIN418+MECAU311+TVOLU315+(TDERE418+TDERE518+MEDTO318+INCTO318)*0.8+INTEV315+AUTME315+PROMO318+PROES318+SOLRE315+TCIVI515+(NVL(CONCU719,0)+NVL(ICTOT319,0)+NVL(PCTOT419,0)+NVL(DILTO319,0)+NVL(MEDCA319,0)+NVL(EXPAR319,0)+NVL(MONIT319,0)+NVL(JURIS419,0))*1.5+NVL(EJTOT519,0)+(NVL(TPROC424,0)+NVL(PIESE324,0)+NVL(ASUEX324,0)+NVL(MICTO519,0))*0.36 | EQ9: TCON2411+MOVCO811*1.5+INCID411+REPIN518+MECAU411+TVOLU415+(TDERE618+MEDTO418+INCTO418)*0.8+INTEV415+AUTME415+PROMO418+PROES418+SOLRE415+TCIVI615+(NVL(CONCU819,0)+NVL(ICTOT419,0)+NVL(PCTOT519,0)+NVL(DILTO419,0)+NVL(MEDCA419,0)+NVL(EXPAR419,0)+NVL(MONIT419,0)+NVL(JURIS519,0))*1.5+NVL(EJTOT619,0)+(NVL(TPROC524,0)+NVL(PIESE424,0)+NVL(ASUEX424,0)+NVL(MICTO619,0))*0.36 | ER9: 1200 | EV9: DEMREP11+NVL(DEMREP19,0)
A10: Jdos. Violencia contra la mujer/Secc Viol. TI. | B10: PJ | C10: DT | D10: 37 | E10: 37 | F10: 53 | I10: PCTOT147+MEDTO147+INCTO147+EXPOT147 | J10: PCTOT247+PCTOT347+MEDTO247+INCTO247+EXPOT247 | K10: PCTOT447+PCTOT547+MEDTO347+INCTO347+EXPOT347 | L10: PCTOT647+MEDTO447+INCTO447+EXPOT447 | M10: SENPRT85 | N10: AUTOST85 | O10: DECRE585 | P10: EJECU247 | Q10: EJECU547 | R10: EJECU647 | AS10: PCTOT247+(-PCCON247)+(-PCSAC247)+(-PCMOD247)+(-PCGUA247)+PCRUC247 | AU10: PCTOT547+(-PCCON547)+(-PCSAC547)+(-PCMOD547)+(-PCGUA547)+PCRUC547 | AW10: PCTOT647+(-PCCON647)+(-PCSAC647)+(-PCMOD647)+(-PCGUA647)+PCRUC647 | AY10: =IF(ISNUMBER(S10),S10," - ") -> - | AZ10: =IF(ISNUMBER(T10),T10," - ") -> - | BA10: =IF(ISNUMBER(U10),U10," - ") -> - | BB10: =IF(ISNUMBER(V10),V10," - ") -> - | BC10: =IF(ISNUMBER(W10),W10," - ") -> - | BD10: =IF(ISNUMBER(BA10/AZ10),BA10/AZ10," - ") -> - | BE10: =IF(ISNUMBER(BB10/BA10),BB10/BA10, " - ") -> - | BF10: =IF(ISNUMBER(BC10/BA10),BC10/BA10, " - ") -> - | BG10: =IF(ISNUMBER((AY10+AZ10)/BA10),(AY10+AZ10)/BA10," - ") -> - | BM10: 0 | BV10: SENPEN85 | BW10: ESCHAT47 | BX10: ESCMAT47 | BY10: (PCNUL547)*6+(PCCON547+PCSAC547)* 0.5+(PCNCO547+PCSCO547)* 3.25+(PCEFI547)+(MEDTO347)+(PCGUA547)* 0.5+(PCGNC547)*3.25+(PCMOD547)* 0.5+(PCMOC547)* 3.25+(PCLIQ547)*4.25+(PCJVE547)*2.5+(INCTO347)*1.5+(PCOTR547)+ 2.5*(PCSUS547)+0.5*(PCRUC547)+3.25*(PCRUN547)+EXPOT347 | CI10: SUSPJ247+SUSPJ147 | CJ10: SENIJ147 | CK10: SENPE185 | CL10: SENPE285 | CM10: SENPE385 | CN10: 1175 | CO10: 0 | CP10: 1175,1088,1088 1175,1088,1001 1175,1088,935 1175,1088,870 | CQ10: (CASE WHEN SENPRT85>0 THEN SENPRT82/SENPRT85 ELSE 0 END)*(PCNUL547*6+(PCCON547+PCSAC547)*0.5+(PCNCO547+PCSCO547)*3.25+PCEFI547*1+(MEDTO347)*1+PCGUA547*0.5+PCGNC547*3.25+PCMOD547*0.5+PCMOC547*3.25+PCLIQ547*4.25+PCJVE547*2.5+(INCTO347)*1.5+PCOTR547*1+2.5*(PCSUS547)+0.5*(PCRUC547)+3.25*(PCRUN547)+EXPOT347) | CV10: SENPEN82 | CW10: DEMPEN47 | CX10: ULTSEN47 | CY10: AUTPE182 | CZ10: AUTPE282 | DA10: AUTPE382 | DB10: PCTOT247+PCTOT347+MEDTO247+INCTO247+EXPOT247 | DE10: EJECU347 | DG10: AUTPEN82 | DH10: SENPE182 | DI10: SENPE282 | DJ10: SENPE382 | DU10: PKTMAG86 | DV10: AUTPEN85 | DW10: AUTPE185 | DX10: AUTPE285 | DY10: AUTPE385 | EO10: PCTOT247 | EP10: PCTOT447+PCTOT547 | EQ10: PCTOT647 | ER10: 1600 | EV10: DEMREP47
A11: Jdos. Familia | B11: PJ | C11: DT | D11: 04 | E11: 02 | F11: 32 | H11: ccodespe like 'F%' | I11: TCON1111+MOVCO111+INCID111+MECAU111+TCON2111+TDERE118+INTEV115+PROCO118+PROES118+MEDTO118+INCTO118+AUTME115+SOLRE115 | J11: TCONT211+TCON2211+MOVCO211+INCID211+MECAU211+TDERE218+TDERE318+INTEV215+PROCO218+PROCO318+PROES218+MEDTO218+INCTO218+SOLRE215+AUTME215 | K11: TCON1311+TCON2311+MOVCO511+MOVCO611+MOVCO711+INCID311+MECAU311+TDERE418+TDERE518+INTEV315+PROCO518+PROES318+MEDTO318+INCTO318+AUTME315+SOLRE315 | L11: TCON1411+TCON2411+TDERE618+INTEV415+PROCO618+PROES418+MOVCO811+INCID411+MECAU411+MEDTO418+INCTO418+AUTME415+SOLRE415 | M11: SENPT313+SENFT313+SENCOV13+SENCON13 | N11: AUTOST13 | O11: DECRET13 | P11: TCIVI215 | Q11: TCIVI515 | R11: TCIVI615 | Y11: TVOLU115+PRONO118 | Z11: TVOLU215+PRONO218 | AA11: TVOLU315+PRONO418+PRONO518 | AB11: TVOLU415+PRONO618 | AS11: TDERE218+MEDTO218+INCTO218+PROMO218+PROES218+SOLRE215+INTEV215*0.2+AUTMC215*0.2+AUTMP215+TCON2211+INCID211+MECAU211 | AU11: TDERE518+MEDTO318+INCTO318+PROMO318+PROES318+SOLRE315+INTEV315+AUTMC315+AUTMP315+TCON2311+INCID311+MECAU311 | AW11: TDERE618+PROMO418+PROES418+MEDTO418+INCTO418+INTEV415+AUTMC415+AUTMP415+SOLRE415+TCON2411+INCID411+MECAU411 | AY11: =IF(ISNUMBER(IF(Criterios!B13="SI",S11,S11+AG11)),IF(Criterios!B13="SI",S11,S11+AG11)," - ") -> 0 | AZ11: =IF(ISNUMBER(IF(Criterios!B13="SI",T11,T11+AH11)),IF(Criterios!B13="SI",T11,T11+AH11)," - ") -> 0 | BA11: =IF(ISNUMBER(IF(Criterios!B13="SI",U11,U11+AI11)),IF(Criterios!B13="SI",U11,U11+AI11)," - ") -> 0 | BB11: =IF(ISNUMBER(IF(Criterios!B13="SI",V11,V11+AJ11)),IF(Criterios!B13="SI",V11,V11+AJ11)," - ") -> 0 | BC11: =IF(ISNUMBER(X11),X11," - ") -> - | BD11: =IF(ISNUMBER(BA11/AZ11),BA11/AZ11," - ") -> - | BE11: =IF(ISNUMBER(BB11/BA11),BB11/BA11, " - ") -> - | BF11: =IF(ISNUMBER(BC11/BA11),BC11/BA11, " - ") -> - | BG11: =IF(ISNUMBER((AY11+AZ11)/BA11),(AY11+AZ11)/BA11," - ") -> - | BM11: 1000 | BV11: SENPEN13+SENCOT13 | BW11: ESCHAT15 | BX11: ESCMAT15 | BY11: 6*(NULID518)+0.5*(DIVOC518+SEPAM518)+3.25*(DIVON518+SEPAC518)+0.5*(GUCON518)+3.25*(GUNOC518)+0.5*(MECON518)+3.25*(MENOC518)+4.5*(JUORD518)+4.25*(LIREG518)+2.5*(JUVER518+PROMO318-PROCO518-PRONO518+PROCO518)+REPIN418+PROES318+1.5*(INCTO318)+OTRAP518+OTROC311+EFICA518+2.5*(SUSTR518)+0.5*(RUPTC518)+3.25*(RUPTN518)+AUTMP315+SOLRE315+2.5*OPRES518 | BZ11: 2.84*TCON1311+4.5*(ORDIN311)+4.25*(DIPAT311+MOVCO711)+2.5*(VERAR311+VERPO311+DEMAS311+VEROC311+TRAFA311+ARTLE311)+2*MECAU311+0.15*(MONIT311+MONIE311)+0.75*CAMBI311+1.5*(INCID311) | CA11: MONIE111+MONIT111 | CB11: MONIE211+MONIT211 | CC11: MONIE311+MONIT311 | CD11: MONIE411+MONIT411 | CI11: SUSPJ215+SUSPI215 | CJ11: SENIJ115 | CK11: SENPE113+SENCO113 | CL11: SENPE213+SENCO213 | CM11: SENPE313+SENCO313 | CN11: 1088 | CO11: 1000 | CP11: 1088 | CQ11: (CASE WHEN SENFT313>0 THEN SENFT314/SENFT313 ELSE 0 END)*(6*(NULID518)+0.5*(DIVOC518+SEPAM518)+3.25*(DIVON518+SEPAC518)+EFICA518+0.5*(GUCON518)+3.25*(GUNOC518)+0.5*(MECON518)+3.25*(MENOC518)+4.5*(JUORD518)+4.25*(LIREG518)+2.5*(JUVER518+PROMO318-PROCO518-PRONO518+PROES318)+OTRAP518+2.5*SUSTR518+0.5*RUPTC518+3.25*RUPTN518+AUTMP315+SOLRE315+OTROC311+1.5*(INCTO318)+PROCO518*2.5+REPIN418+2.5*OPRES518) | CR11: (CASE WHEN SENPT313+SENCOV13+SENCON13+SENFT313>0 THEN (SENPT314+SENICV14+SENINS14+SENFT314)/(SENPT313+SENCOV13+SENCON13+SENFT313) ELSE 0 END)*(2.84*TCON1311+4.5*(ORDIN311)+4.25*DIPAT311+2.5*(VERAR311+VERPO311+DEMAS311+VEROC311+TRAFA311+ARTLE311)+2*MECAU311+0.75*CAMBI311+1.5*(INCID311)+OTROC311) | CV11: SENPEN14+SENCOT14 | CW11: DEMPEN11 | CX11: ULTSEN15 | CY11: AUTPE114 | CZ11: AUTPE214 | DA11: AUTPE314 | DB11: TDERE218+TVOLU215+INCID211+MECAU211+MOVCO211+INTEV215*0.2+MEDTO218+INCTO218+NVL(CONCU219,0)*2.2+NVL(ICTOT219,0)*2.2+NVL(EXPAR219,0)*2.2+NVL(PCTOT219,0)*2.2+NVL(DILTO219,0)*2.2+NVL(MEDCA219,0)*2.2+NVL(ASTOT219,0)*2.2+TCONT211*1.25+TCON2211*1.25+PROMO218+PROES218+AUTME215+SOLRE215+NVL(MICTO219,0)*2.2 | DC11: TDERE218+TDERE318+TVOLU215+INTEV215+INCID211+MECAU211+MOVCO211+MEDTO218+INCTO218+NVL(CONCU219,0)+NVL(ICTOT219,0)+NVL(EXPAR219,0)+NVL(PCTOT219,0)+NVL(DILTO219,0)+NVL(MEDCA219,0)+NVL(ASTOT219,0)+TCONT211+TCON2211+PROMO218+PROES218+SOLRE215+AUTME215+NVL(MICTO219,0) | DE11: TCIVI315 | DG11: AUTPE414 | DH11: SENPE114+SENCO114 | DI11: SENPE214+SENCO214 | DJ11: SENPE314+SENCO314 | DU11: PKTMAG14 | DV11: AUTPE413 | DW11: AUTPE113 | DX11: AUTPE213 | DY11: AUTPE313 | EO11: TDERE218+MEDTO218+INCTO218+TVOLU215*0.6+INTEV215*0.32+AUTME215+(PROMO218-PROCO218-PRONO218+PROES218+PROCO218)*1.6+PRONO218*0.6+REPIN318+SOLRE215+TCIVI215+TCON2211*1.25+MOVCO211*1.875+INCID211*1.25+MECAU211*1.25+(NVL(CONCU219,0)+NVL(ICTOT219,0)+NVL(PCTOT219,0)+NVL(DILTO219,0)+NVL(MEDCA219,0)+NVL(EXPAR219,0)+NVL(MONIT219,0)+NVL(JURIS219,0)+NVL(MICTO219,0))*1.875+NVL(EJTOT219,0) | EP11: TDERE418+TDERE518+REPIN418+MEDTO318+INCTO318*0.6+TVOLU315*0.32+INTEV315+AUTME315+(PROMO318+PROES318)*1.6+SOLRE315+TCIVI515+TCON2311*1.25+MOVCO711*1.875+INCID311*1.25+MECAU311*1.25+(NVL(CONCU719,0)+NVL(ICTOT319,0)+NVL(PCTOT419,0)+NVL(DILTO319,0)+NVL(MEDCA319,0)+NVL(EXPAR319,0)+NVL(MONIT319,0)+NVL(JURIS419,0))*1.875+NVL(EJTOT319,0) | EQ11: TDERE618+MEDTO418+REPIN518+INCTO418+TVOLU415*0.6+INTEV415*0.32+AUTME415+(PROMO418+PROES418)*1.6+SOLRE415+TCIVI615+TCON2411*1.25+MOVCO811*1.875+INCID411*1.25+MECAU411*1.25+(NVL(CONCU819,0)+NVL(ICTOT419,0)+NVL(PCTOT519,0)+NVL(DILTO419,0)+NVL(MEDCA419,0)+NVL(EXPAR419,0)+NVL(MONIT419,0)+NVL(JURIS519,0))*1.875+NVL(EJTOT419,0) | ER11: 1323 | EV11: DEMREP11
A12: Jdos. 1ª Instª. e Instr./Secc. Civil y de Inst. TI | B12: PJ | C12: DT | D12: 04 | E12: 04 | F12: 31 | I12: TCON1111+MOVCO111+INCID111+MECAU111+TCON2111+TDERE118+NVL(PCTOT147,0)+NVL(CONCU119,0)+NVL(ICTOT119,0)+NVL(EXPAR119,0)+NVL(PCTOT119,0)+NVL(MONIT119,0)+NVL(JURIS119,0)+NVL(DILTO119,0)+NVL(MEDCA119,0)+NVL(ASTOT119,0)+INTEV115+PROCO118+PROES118+MEDTO118+INCTO118+AUTME115+SOLRE115+NVL(MICTO119,0)+NVL(EXPOT147,0) | J12: TCONT211+TCON2211+MOVCO211+INCID211+MECAU211+TDERE218+TDERE318+NVL(PCTOT247,0)+NVL(CONCU219,0)+NVL(ICTOT219,0)+NVL(EXPAR219,0)+NVL(PCTOT219,0)+NVL(MONIT219,0)+NVL(JURIS219,0)+NVL(DILTO219,0)+NVL(MEDCA219,0)+NVL(ASTOT219,0)+INTEV215+PROCO218+PROES218+MEDTO218+INCTO218+NVL(SOLEX119,0)+NVL(MEDTO247,0)+NVL(INCTO247,0)+AUTME215+SOLRE215+NVL(MICTO219,0)+NVL(EXPOT247,0) | K12: TCON1311+TCON2311+MOVCO511+MOVCO611+MOVCO711+INCID311+MECAU311+TDERE418+TDERE518+NVL(PCTOT447,0)+NVL(PCTOT547,0)+NVL(CONCU519,0)+NVL(CONCU619,0)+NVL(CONCU719,0)+NVL(ICTOT319,0)+NVL(EXPAR319,0)+NVL(PCTOT419,0)+NVL(MONIT319,0)+NVL(JURIS419,0)+NVL(DILTO319,0)+NVL(MEDCA319,0)+NVL(ASTOT319,0)+INTEV315+PROCO518+PROES318+MEDTO318+INCTO318+NVL(MEDTO347,0)+NVL(INCTO347,0)+AUTME315+SOLRE315+NVL(MICTO519,0)+NVL(EXPOT347,0) | L12: TCON1411+TCON2411+TDERE618+NVL(PCTOT647,0)+NVL(CONCU819,0)+NVL(ICTOT419,0)+NVL(EXPAR419,0)+NVL(PCTOT519,0)+NVL(MONIT419,0)+NVL(JURIS519,0)+NVL(DILTO419,0)+NVL(MEDCA419,0)+NVL(ASTOT419,0)+INTEV415+PROCO618+PROES418+MOVCO811+INCID411+MECAU411+MEDTO418+INCTO418+NVL(MEDTO447,0)+NVL(INCTO447,0)+AUTME415+SOLRE415+NVL(MICTO619,0)++NVL(EXPOT447,0) | M12: SENPT313+SENFT313+SENCOV13+SENCON13+NVL(SENPRT85,0)+NVL(PCNTO792,0)+NVL(PCINCO92,0)+NVL(PCSINV92,0)+NVL(PCIJO792,0)+NVL(PCIJV792,0)+NVL(PESCA792,0)+NVL(ORDSO792,0)+NVL(MDYMC792,0) | N12: AUTOST13 | O12: DECRET13 | P12: TCIVI215+NVL(EJECU247,0)+NVL(EJTOT219,0) | Q12: TCIVI515+NVL(EJECU547,0)+NVL(EJTOT519,0) | R12: TCIVI615+NVL(EJECU647,0)+NVL(EJTOT619,0) | Y12: TVOLU115+PRONO118 | Z12: TVOLU215+PRONO218 | AA12: TVOLU315+PRONO418+PRONO518 | AB12: TVOLU415+PRONO618 | AS12: TCONT211+TCON2211+MOVCO211+INCID211+MECAU211+TDERE218-RUPTC218+MEDTO218+INCTO218+EJEHI211+OTRNJ211+(-DIVOC218)+(-SEPAM218)+(-MECON218)+(-GUCON218)+INTEV215*0.2+AUTMC215*0.2+AUTMP215+NVL(PCTOT247,0)+(-NVL(PCCON247,0))+(-NVL(PCSAC247,0))+(-NVL(PCMOD247,0))+(-NVL(PCGUA247,0))+NVL(MEDTO247,0)+NVL(INCTO247,0)+NVL(-PCRUC247,0)+NVL( CONCU219,0)+NVL(ICTOT219,0)+NVL(PCTOT219,0)+NVL(DILTO219,0)+NVL(MEDCA219,0)+NVL(EXPAR219,0)+PROMO218+PROES218+SOLRE215+NVL(MICTO219,0)+NVL(EXPOT247,0) | AU12: TCON1311+TCON2311+MOVCO511+MOVCO611+MOVCO711+INCID311+MECAU311+TDERE518-RUPTC518+MEDTO318+INCTO318+EJEHI511+EJEHI411+OTRNJ511+OTRNJ411+(-DIVOC518)+(-SEPAM518)+(-MECON518)+(-GUCON518)+INTEV315*0.2+AUTMC315*0.2+AUTMP315+NVL(PCTOT547,0)+(-NVL(PCCON547,0))+(-NVL(PCSAC547,0))+(-NVL(PCMOD547,0))+(-NVL(PCGUA547,0))+NVL(PCRUC547,0)+NVL(MEDTO347,0)+NVL(INCTO347,0)+NVL(CONCU519,0)+NVL(CONCU619,0)+NVL(CONCU719,0)+NVL(ICTOT319,0)+NVL(EXPAR319,0)+NVL(PCTOT419,0)+NVL(DILTO319,0)+NVL(MEDCA319,0)+PROMO318+PROES318+SOLRE315+NVL(EXPOT347,0) | AW12: TCON1411+TCON2411+TDERE618-RUPTC618+EJEHI611+OTRNJ611+(-DIVOC618)+(-SEPAM618)+(-MECON618)+(-GUCON618)+INTEV415*0.2+AUTMC415*0.2+AUTMP415+NVL(PCTOT647,0)+(-NVL(PCCON647,0))+(-NVL(PCSAC647,0))+(-NVL(PCMOD647,0))+(-NVL(PCGUA647,0))+NVL(PCRUC647,0)+NVL(MEDTO447,0)+NVL(INCTO447,0)+NVL(CONCU819,0)+NVL(ICTOT419,0)+NVL(EXPAR419,0)+NVL(PCTOT519,0)+NVL(DILTO419,0)+NVL(MEDCA419,0)+PROMO418+PROES418+MOVCO811+INCID411+MECAU411+MEDTO418+INCTO418+SOLRE415 | AY12: =IF(ISNUMBER(IF(Criterios!B13="SI",S12,S12+AG12)),IF(Criterios!B13="SI",S12,S12+AG12)," - ") -> 0 | AZ12: =IF(ISNUMBER(IF(Criterios!B13="SI",T12,T12+AH12)),IF(Criterios!B13="SI",T12,T12+AH12)," - ") -> 0 | BA12: =IF(ISNUMBER(IF(Criterios!B13="SI",U12,U12+AI12)),IF(Criterios!B13="SI",U12,U12+AI12)," - ") -> 0 | BB12: =IF(ISNUMBER(IF(Criterios!B13="SI",V12,V12+AJ12)),IF(Criterios!B13="SI",V12,V12+AJ12)," - ") -> 0 | BC12: =IF(ISNUMBER(X12),X12," - ") -> - | BD12: =IF(ISNUMBER(BA12/AZ12),BA12/AZ12," - ") -> - | BE12: =IF(ISNUMBER(BB12/BA12),BB12/BA12, " - ") -> - | BF12: =IF(ISNUMBER(BC12/BA12),BC12/BA12, " - ") -> - | BG12: =IF(ISNUMBER((AY12+AZ12)/BA12),(AY12+AZ12)/BA12," - ") -> - | BM12: 380 | BV12: SENPEN13+NVL(SENPEN85,0)+NVL(SENPNO92,0)+NVL(SENPNC92,0)+NVL(SENPNS92,0)+NVL(SENPNM92,0)+SENCOT13 | BW12: ESCHAT15+NVL(ESCHAT47,0)+NVL(EPTOT319,0) | BX12: ESCMAT15+NVL(ESCMAT47,0)+NVL(EPTOT419,0) | BY12: 2.84*TCON1311+12*(QUIEB311)+12*(SUSPE311)+(EJEHI411+EJEHI511)+4.5*(ORDIN311+JUORD518)+4.25*(DIPAT311+LIREG518+MOVCO711)+2.5*(VERAR311+VERPO311+DEMAS311+JUVER518+VEROC311+TRAFA311+ARTLE311)+2*(MECAU311)+0.15*(MONIT311+MONIE311)+0.75*(CAMBI311)+1.5*(INCID311+INCTO318)+6*(NULID518)+0.5*(SEPAM518+DIVOC518)+3.25*(SEPAC518+DIVON518)+(EFICA518)+2.5*(OPRES518)+(MEDTO318)+0.5*(GUCON518)+3.25*(GUNOC518)+0.5*(MECON518)+2.5*(SUSTR518)+0.5*(RUPTC518)+3.25*(RUPTN518)+AUTMP315+3.25*(MENOC518)+(OTRAP518+OTROC311+PROMO318-PROCO518-PRONO518+PROES318+PROCO518*2.5+REPIN418)+ESCAS311+SOLRE315+(NVL(PCNUL547,0))*6+(NVL(PCCON547,0)+NVL(PCSAC547,0))*0.5+ 2.5*(NVL(PCSUS547,0))+0.5*(NVL(PCRUC547,0))+3.25*(NVL(PCRUN547,0))+(NVL(PCNCO547,0)+NVL(PCSCO547,0))*3.25+(NVL(PCEFI547,0))+(NVL(MEDTO347,0)+NVL(EXPOT347,0))+(NVL(PCGUA547,0))* 0.5+(NVL(PCGNC547,0))*3.25+(NVL(PCMOD547,0))* 0.5+(NVL(PCMOC547,0))* 3.25+(NVL(PCLIQ547,0))*4.25+(NVL(PCJVE547,0))*2.5+(NVL(INCDE347,0)+(NVL(INCEJ347,0)+NVL(ILOPJ347,0))*1.5+(NVL(PCOTR547,0))+ NVL(6*PCCONV92,0)+NVL(8*PCCALI92,0)+NVL(4.5*PCINCO92,0)+NVL(4.5*PCSINV92,0)+NVL(4.5*PCIJO792,0)+NVL(2.5*PCIJV792,0)+NVL(2.5*PESCA792,0)+NVL(3.5*ORDSET92,0)+NVL(6*AURESO92,0)+NVL(6*AUCOFA92,0)+NVL(6*AUNOAC92,0)+NVL(6*AUDECU92,0)+NVL(AUSINM92,0)*6+NVL(AUREL192,0)*6+NVL(AUREL292,0)*6+NVL(AUREL392,0)*6+NVL(6*AUAPPI92,0)+NVL(2*AUREAU92,0)+NVL(2.5*AUAVT192,0)+NVL(4.5*AUAVT292,0)+NVL(0.15*AUAVT392,0)+NVL(2.5*AUAVT492,0)+NVL(0.5*AUASAP92,0)+NVL(6*AUASRE92,0)+NVL(3.5*AUASDI92,0)+NVL(2*AUDPRE92,0)+NVL(2*AUCAUT92,0)+NVL(1.5*AUINNO92,0)+NVL(1*AUOTCO92,0)+NVL(AUACT192*4.5,0)+NVL(ORDIN192*3.5,0)+NVL(ORDIN292*3,0)+2.5*(GREATEST(NVL(ICLAB319,0)-NVL(ORDIN192,0)-NVL(ORDIN292,0)-NVL(ORDSET92,0),0))) | CA12: MONIE111+MONIT111 | CB12: MONIE211+MONIT211 | CC12: MONIE311+MONIT311 | CD12: MONIE411+MONIT411 | CI12: SUSPJ215+SUSPI215 | CJ12: SENIJ115 | CK12: SENPE113+NVL(SENPE185,0)+NVL(SENPN192,0)+NVL(SENPC192,0)+NVL(SENPS192,0)+NVL(SENPM192,0)+SENCO113 | CL12: SENPE213+NVL(SENPE285,0)+NVL(SENPN292,0)+NVL(SENPC292,0)+NVL(SENPS292,0)+NVL(SENPM292,0)+SENCO213 | CM12: SENPE313+NVL(SENPE385,0)+NVL(SENPN392,0)+NVL(SENPC392,0)+NVL(SENPS392,0)+NVL(SENPM392,0)+SENCO313 | CN12: 1088 1001 935 870 | CO12: 2880 | CP12: 1088,1088 1001,1088 935,1088 870,1088 | CQ12: (CASE WHEN SENPT313+SENCOV13+SENCON13+SENFT313>0 THEN (SENPT314+SENICV14+SENINS14+SENFT314)/(SENPT313+SENCOV13+SENCON13+SENFT313) ELSE 0 END)*(2.84*TCON1311+(EJEHI411+EJEHI511)+12*(QUIEB311)+12*(SUSPE311)+4.5*(ORDIN311+JUORD518)+4.25*(DIPAT311+LIREG518+MOVCO711)+2.5*(OPRES518)+2.5*(VERAR311+VERPO311+DEMAS311+ESCAS311+JUVER518+VEROC311+TRAFA311+ARTLE311)+2*(MECAU311)+0.75*(CAMBI311)+1.5*(INCID311++INCTO318)+6*(NULID518)+0.5*(SEPAM518+DIVOC518)+3.25*(SEPAC518+DIVON518)+(EFICA518)+MEDTO318+0.5*(GUCON518)+3.25*(GUNOC518)+0.5*(MECON518)+3.25*(MENOC518)+(OTRAP518+OTROC311+PROMO318-PROCO518-PRONO518+PROES318+PROCO518*2.5+REPIN418+ESCAS311)+2.5*SUSTR518+0.5*RUPTC518+3.25*RUPTN518+AUTMP315+SOLRE315) | CV12: SENPEN14+SENCOT14 | CW12: DEMPEN11 | CX12: ULTSEN15 | CY12: AUTPE114 | CZ12: AUTPE214 | DA12: AUTPE314 | DB12: TCONT211+TCON2211+INCID211+MECAU211+MOVCO211+TVOLU215+INTEV215+TDERE218+MEDTO218+INCTO218+NVL(CONCU219,0)*2.2+NVL(ICTOT219,0)*2.2+NVL(EXPAR219,0)*2.2+NVL(PCTOT219,0)*2.2+NVL(DILTO219,0)*2.2+NVL(MEDCA219,0)*2.2+NVL(ASTOT219,0)*2.2+NVL(JURIS219,0)+NVL(MONIT219,0)+PROMO218+PROES218+AUTME215+SOLRE215+NVL(MICTO219,0)*2.2 | DC12: TCONT211+TCON2211+INCID211+MECAU211+TVOLU215+MOVCO211+INTEV215+TDERE218+TDERE318+MEDTO218+NVL(CONCU219,0)+NVL(ICTOT219,0)+NVL(EXPAR219,0)+NVL(PCTOT219,0)+NVL(DILTO219,0)+NVL(MEDCA219,0)+NVL(ASTOT219,0)+ NVL(JURIS119,0)+NVL(MONIT219,0)+PROMO218+PROES218+SOLRE215+INCTO218+NVL(MICTO219,0) | DE12: TCIVI315+NVL(EJECU347,0)+NVL(EJTOT319,0) | DG12: AUTPE414 | DH12: SENPE114+SENCO114 | DI12: SENPE214+SENCO214 | DJ12: SENPE314+SENCO314 | DU12: PKTMAG14 | DV12: AUTPE413 | DW12: AUTPE113 | DX12: AUTPE213 | DY12: AUTPE313 | EL12: MOVCO211 | EM12: MOVCO711 | EN12: MOVCO811 | EO12: TCON2211+MOVCO211*1.5+INCID211+MECAU211+TVOLU215+(TDERE218+MEDTO218+INCTO218)+INTEV215+AUTME215+PROMO218+PROES218+REPIN318+SOLRE215+TCIVI215+(NVL(CONCU219,0)+NVL(ICTOT219,0)+NVL(PCTOT219,0)+NVL(DILTO219,0)+NVL(MEDCA219,0)+NVL(EXPAR219,0)+NVL(SOLEX219,0)+NVL(MONIT219,0)+NVL(JURIS219,0)+NVL(MICTO219,0))*1.5+NVL(EJTOT219,0)+NVL(PCTOT247,0) | EP12: TCON2311+MOVCO711*1.5+INCID311+REPIN418+MECAU311+TVOLU315+(TDERE418+TDERE518+MEDTO318+INCTO318)+INTEV315+AUTME315+PROMO318+PROES318+SOLRE315+TCIVI515 +(NVL(CONCU719,0)+NVL(ICTOT319,0)+NVL(PCTOT419,0)+NVL(DILTO319,0)+NVL(MEDCA319,0)+NVL(EXPAR319,0)+NVL(MONIT319,0)+NVL(JURIS419,0)+NVL(MICTO519,0))*1.5+NVL(EJTOT519,0)+NVL(PCTOT447,0)+NVL(PCTOT547,0) | EQ12: TCON2411+MOVCO811*1.5+INCID411+REPIN518+MECAU411+TVOLU415+(TDERE618+MEDTO418+INCTO418)+INTEV415*+AUTME415+PROMO418+PROES418+SOLRE415+TCIVI615 +(NVL(CONCU819,0)+NVL(ICTOT419,0)+NVL(PCTOT519,0)+NVL(DILTO419,0)+NVL(MEDCA419,0)+NVL(EXPAR419,0)+NVL(MONIT419,0)+NVL(JURIS519,0)+NVL(MICTO619,0))*1.5+NVL(EJTOT619,0)+NVL(PCTOT647,0) | ER12: 680 | EV12: DEMREP11
A13: TOTAL | B13: PJ | C13: TC | I13: =SUBTOTAL(9,I9:I12) -> 0 | J13: =SUBTOTAL(9,J9:J12) -> 0 | K13: =SUBTOTAL(9,K9:K12) -> 0 | L13: =SUBTOTAL(9,L9:L12) -> 0 | M13: =SUBTOTAL(9,M9:M12) -> 0 | N13: =SUBTOTAL(9,N9:N12) -> 0 | P13: =SUBTOTAL(9,P9:P12) -> 0 | Q13: =SUBTOTAL(9,Q9:Q12) -> 0 | R13: =SUBTOTAL(9,R9:R12) -> 0 | S13: =SUBTOTAL(9,S9:S12) -> 0 | T13: =SUBTOTAL(9,T9:T12) -> 0 | U13: =SUBTOTAL(9,U9:U12) -> 0 | V13: =SUBTOTAL(9,V9:V12) -> 0 | W13: =SUBTOTAL(9,W9:W12) -> 0 | ... BC13: =SUBTOTAL(9,BC9:BC12) -> 0 | BD13: =IF(ISNUMBER(BA13/AZ13),BA13/AZ13," - ") -> - | BE13: =IF(ISNUMBER(BB13/BA13),BB13/BA13, " - ") -> - | BF13: =IF(ISNUMBER(BC13/BA13),BC13/BA13, " - ") -> - | BG13: =IF(ISNUMBER((AY13+AZ13)/BA13),(AY13+AZ13)/BA13," - ") -> - | BH13: =SUBTOTAL(9,BH9:BH12) -> 0 | BI13: =SUBTOTAL(9,BI9:BI12) -> 0 | BK13: =SUBTOTAL(9,BK9:BK12) -> 0 | CI13: =SUM(CI9:CI12) -> 0 | CJ13: =SUM(CJ9:CJ12) -> 0 | ER13: =AVERAGE(ER8:ER12) -> 990.2 | ES13: =SUBTOTAL(9,ES8:ES12) -> 0 | EV13: =SUBTOTAL(9,EV8:EV12) -> 0 | EW13: =SUBTOTAL(9,EW8:EW12) -> 0 | EX13: =SUBTOTAL(9,EX8:EX12) -> 0 | EY13: =SUBTOTAL(9,EY8:EY12) -> 0
A14: Jurisdicción Penal ( 2 ): | B14: PJ | C14: CB
